Workbook

Sheet Sheet1
A1: 主键 | B1: 对应hero id | C1: 名字 | D1: 等级 | E1: 消耗 | F1: 血量 | G1: 攻速 | H1: 攻击 | I1: 暴击率 | J1: 暴击伤害 | K1: 天赋图片(仅主角使用) | L1: 描述
A2: int | B2: int | C2: string | D2: int | E2: string[] | F2: double | G2: double | H2: double | I2: double | J2: double | K2: string | L2: string
A3: id | B3: target_id | C3: name | D3: level | E3: consumes | F3: hp | G3: attack_speed_add | H3: attack | I3: crit_probability | J3: critHit | K3: icon | L3: desc
A4: 101 | B4: 2001 | D4: 1 | E4: =整行拆分结果!D1&整行拆分结果!E1&整行拆分结果!F1&整行拆分结果!G1 -> item_30001_5,item_10000001_1200 | F4: 0 | G4: 0 | H4: 56 | I4: 0.005 | J4: 0.01
A5: 102 | B5: 2001 | D5: 2 | E5: =整行拆分结果!D2&整行拆分结果!E2&整行拆分结果!F2&整行拆分结果!G2 -> item_30001_5,item_10000001_3394 | F5: 0 | G5: 1 | H5: 68 | I5: 0.01 | J5: 0.02
A6: 103 | B6: 2001 | D6: 3 | E6: =整行拆分结果!D3&整行拆分结果!E3&整行拆分结果!F3&整行拆分结果!G3 -> item_30001_5,item_10000001_6235 | F6: 0 | G6: 1 | H6: 79 | I6: 0.015 | J6: 0.03
A7: 104 | B7: 2001 | D7: 4 | E7: =整行拆分结果!D4&整行拆分结果!E4&整行拆分结果!F4&整行拆分结果!G4 -> item_30001_5,item_10000001_9600 | F7: 0 | G7: 2 | H7: 90 | I7: 0.02 | J7: 0.04
A8: 105 | B8: 2001 | D8: 5 | E8: =整行拆分结果!D5&整行拆分结果!E5&整行拆分结果!F5&整行拆分结果!G5 -> item_30001_5,item_10000001_13416 | F8: 0 | G8: 2 | H8: 102 | I8: 0.025 | J8: 0.05
A9: 106 | B9: 2001 | D9: 6 | E9: =整行拆分结果!D6&整行拆分结果!E6&整行拆分结果!F6&整行拆分结果!G6 -> item_30001_7,item_10000001_17636 | F9: 0 | G9: 3 | H9: 113 | I9: 0.03 | J9: 0.06
A10: 107 | B10: 2001 | D10: 7 | E10: =整行拆分结果!D7&整行拆分结果!E7&整行拆分结果!F7&整行拆分结果!G7 -> item_30001_7,item_10000001_22224 | F10: 0 | G10: 3 | H10: 125 | I10: 0.035 | J10: 0.07
A11: 108 | B11: 2001 | D11: 8 | E11: =整行拆分结果!D8&整行拆分结果!E8&整行拆分结果!F8&整行拆分结果!G8 -> item_30001_7,item_10000001_27152 | F11: 0 | G11: 4 | H11: 136 | I11: 0.04 | J11: 0.08
A12: 109 | B12: 2001 | D12: 9 | E12: =整行拆分结果!D9&整行拆分结果!E9&整行拆分结果!F9&整行拆分结果!G9 -> item_30001_7,item_10000001_32400 | F12: 0 | G12: 4 | H12: 147 | I12: 0.045 | J12: 0.09
A13: 110 | B13: 2001 | D13: 10 | E13: =整行拆分结果!D10&整行拆分结果!E10&整行拆分结果!F10&整行拆分结果!G10 -> item_30001_7,item_10000001_37948 | F13: 0 | G13: 5 | H13: 159 | I13: 0.05 | J13: 0.1
A14: 111 | B14: 2001 | D14: 11 | E14: =整行拆分结果!D11&整行拆分结果!E11&整行拆分结果!F11&整行拆分结果!G11 -> item_30001_9,item_10000001_43780 | F14: 0 | G14: 5 | H14: 170 | I14: 0.055 | J14: 0.11
A15: 112 | B15: 2001 | D15: 12 | E15: =整行拆分结果!D12&整行拆分结果!E12&整行拆分结果!F12&整行拆分结果!G12 -> item_30001_9,item_10000001_49883 | F15: 0 | G15: 6 | H15: 181 | I15: 0.06 | J15: 0.12
... A1203: 1300 | B1203: 2020 | D1203: 60 | E1203: =整行拆分结果!D1200&整行拆分结果!E1200&整行拆分结果!F1200&整行拆分结果!G1200 -> item_30020_31,item_10000001_557710 | F1203: 0 | G1203: 30 | H1203: 202352 | I1203: 0.3 | J1203: 0.6

Sheet Sheet2
A1: item_10000001_1200,item_20000001_24
A2: item_10000001_3394,item_20000001_68
A3: item_10000001_6235,item_20000001_125
A4: item_10000001_9600,item_20000001_192
A5: item_10000001_13416,item_20000001_269
A6: item_10000001_17636,item_20000001_353
A7: item_10000001_22224,item_20000001_444
A8: item_10000001_27152,item_20000001_544
A9: item_10000001_32400,item_20000001_648
A10: item_10000001_37948,item_20000001_758
A11: item_10000001_43780,item_20000001_876
A12: item_10000001_49883,item_20000001_997
... A18: item_10000001_91642,item_20000001_1832
A19: item_10000001_99383,item_20000001_1987 | AA19: 攻击加成 | AB19: 暴击加成 | AC19: 爆伤加成 | AD19: 攻速
A20: item_10000001_107332,item_20000001_2147 | X20: 2001 | Y20: 1 | Z20: 1 | AA20: {=INT(_xlfn._xlws.FILTER($V$31:$V$50,$S$31:$S$50=$Y20)*_xlfn._xlws.FILTER(N$27:N$86,$M$27:$M$86=$Z20))} -> 56 | AB20: {=_xlfn._xlws.FILTER(O$27:O$86,$M$27:$M$86=$Z20)} -> 0.005 | AC20: {=_xlfn._xlws.FILTER(P$27:P$86,$M$27:$M$86=$Z20)} -> 0.01 | AD20: {=INT(_xlfn._xlws.FILTER(Q$27:Q$86,$M$27:$M$86=$Z20)*100)} -> 0 | AE20: 30001 | AF20: ="item_"&AE20&"_"&AG20 -> item_30001_5 | AG20: 5
A21: item_10000001_115481,item_20000001_2310 | X21: 2001 | Y21: 1 | Z21: 2 | AA21: {=INT(_xlfn._xlws.FILTER($V$31:$V$50,$S$31:$S$50=$Y21)*_xlfn._xlws.FILTER(N$27:N$86,$M$27:$M$86=$Z21))} -> 68 | AB21: {=_xlfn._xlws.FILTER(O$27:O$86,$M$27:$M$86=$Z21)} -> 0.01 | AC21: {=_xlfn._xlws.FILTER(P$27:P$86,$M$27:$M$86=$Z21)} -> 0.02 | AD21: {=INT(_xlfn._xlws.FILTER(Q$27:Q$86,$M$27:$M$86=$Z21)*100)} -> 1 | AE21: 30001 | AF21: ="item_"&AE21&"_"&AG21 -> item_30001_5 | AG21: 5
A22: item_10000001_123827,item_20000001_2477 | X22: 2001 | Y22: 1 | Z22: 3 | AA22: {=INT(_xlfn._xlws.FILTER($V$31:$V$50,$S$31:$S$50=$Y22)*_xlfn._xlws.FILTER(N$27:N$86,$M$27:$M$86=$Z22))} -> 79 | AB22: {=_xlfn._xlws.FILTER(O$27:O$86,$M$27:$M$86=$Z22)} -> 0.015 | AC22: {=_xlfn._xlws.FILTER(P$27:P$86,$M$27:$M$86=$Z22)} -> 0.03 | AD22: {=INT(_xlfn._xlws.FILTER(Q$27:Q$86,$M$27:$M$86=$Z22)*100)} -> 1 | AE22: 30001 | AF22: ="item_"&AE22&"_"&AG22 -> item_30001_5 | AG22: 5
A23: item_10000001_132365,item_20000001_2647 | X23: 2001 | Y23: 1 | Z23: 4 | AA23: {=INT(_xlfn._xlws.FILTER($V$31:$V$50,$S$31:$S$50=$Y23)*_xlfn._xlws.FILTER(N$27:N$86,$M$27:$M$86=$Z23))} -> 90 | AB23: {=_xlfn._xlws.FILTER(O$27:O$86,$M$27:$M$86=$Z23)} -> 0.02 | AC23: {=_xlfn._xlws.FILTER(P$27:P$86,$M$27:$M$86=$Z23)} -> 0.04 | AD23: {=INT(_xlfn._xlws.FILTER(Q$27:Q$86,$M$27:$M$86=$Z23)*100)} -> 2 | AE23: 30001 | AF23: ="item_"&AE23&"_"&AG23 -> item_30001_5 | AG23: 5
A24: item_10000001_141091,item_20000001_2822 | X24: 2001 | Y24: 1 | Z24: 5 | AA24: {=INT(_xlfn._xlws.FILTER($V$31:$V$50,$S$31:$S$50=$Y24)*_xlfn._xlws.FILTER(N$27:N$86,$M$27:$M$86=$Z24))} -> 102 | AB24: {=_xlfn._xlws.FILTER(O$27:O$86,$M$27:$M$86=$Z24)} -> 0.025 | AC24: {=_xlfn._xlws.FILTER(P$27:P$86,$M$27:$M$86=$Z24)} -> 0.05 | AD24: {=INT(_xlfn._xlws.FILTER(Q$27:Q$86,$M$27:$M$86=$Z24)*100)} -> 2 | AE24: 30001 | AF24: ="item_"&AE24&"_"&AG24 -> item_30001_5 | AG24: 5
A25: item_10000001_150000,item_20000001_3000 | X25: 2001 | Y25: 1 | Z25: 6 | AA25: {=INT(_xlfn._xlws.FILTER($V$31:$V$50,$S$31:$S$50=$Y25)*_xlfn._xlws.FILTER(N$27:N$86,$M$27:$M$86=$Z25))} -> 113 | AB25: {=_xlfn._xlws.FILTER(O$27:O$86,$M$27:$M$86=$Z25)} -> 0.03 | AC25: {=_xlfn._xlws.FILTER(P$27:P$86,$M$27:$M$86=$Z25)} -> 0.06 | AD25: {=INT(_xlfn._xlws.FILTER(Q$27:Q$86,$M$27:$M$86=$Z25)*100)} -> 3 | AE25: 30001 | AF25: ="item_"&AE25&"_"&AG25 -> item_30001_7 | AG25: 7
A26: item_10000001_159090,item_20000001_3182 | N26: 攻击加成 | O26: 暴击加成 | P26: 爆伤加成 | Q26: 攻速 | X26: 2001 | Y26: 1 | Z26: 7 | AA26: {=INT(_xlfn._xlws.FILTER($V$31:$V$50,$S$31:$S$50=$Y26)*_xlfn._xlws.FILTER(N$27:N$86,$M$27:$M$86=$Z26))} -> 125 | AB26: {=_xlfn._xlws.FILTER(O$27:O$86,$M$27:$M$86=$Z26)} -> 0.035 | AC26: {=_xlfn._xlws.FILTER(P$27:P$86,$M$27:$M$86=$Z26)} -> 0.07 | AD26: {=INT(_xlfn._xlws.FILTER(Q$27:Q$86,$M$27:$M$86=$Z26)*100)} -> 3 | AE26: 30001 | AF26: ="item_"&AE26&"_"&AG26 -> item_30001_7 | AG26: 7
A27: item_10000001_168355,item_20000001_3367 | M27: 1 | N27: 1.25 | O27: 0.005 | P27: 0.01 | Q27: 0.005 | R27: 5 | X27: 2001 | Y27: 1 | Z27: 8 | AA27: {=INT(_xlfn._xlws.FILTER($V$31:$V$50,$S$31:$S$50=$Y27)*_xlfn._xlws.FILTER(N$27:N$86,$M$27:$M$86=$Z27))} -> 136 | AB27: {=_xlfn._xlws.FILTER(O$27:O$86,$M$27:$M$86=$Z27)} -> 0.04 | AC27: {=_xlfn._xlws.FILTER(P$27:P$86,$M$27:$M$86=$Z27)} -> 0.08 | AD27: {=INT(_xlfn._xlws.FILTER(Q$27:Q$86,$M$27:$M$86=$Z27)*100)} -> 4 | AE27: 30001 | AF27: ="item_"&AE27&"_"&AG27 -> item_30001_7 | AG27: 7
A28: item_10000001_177794,item_20000001_3556 | M28: 2 | N28: 1.5 | O28: 0.01 | P28: 0.02 | Q28: 0.01 | R28: 5 | X28: 2001 | Y28: 1 | Z28: 9 | AA28: {=INT(_xlfn._xlws.FILTER($V$31:$V$50,$S$31:$S$50=$Y28)*_xlfn._xlws.FILTER(N$27:N$86,$M$27:$M$86=$Z28))} -> 147 | AB28: {=_xlfn._xlws.FILTER(O$27:O$86,$M$27:$M$86=$Z28)} -> 0.045 | AC28: {=_xlfn._xlws.FILTER(P$27:P$86,$M$27:$M$86=$Z28)} -> 0.09 | AD28: {=INT(_xlfn._xlws.FILTER(Q$27:Q$86,$M$27:$M$86=$Z28)*100)} -> 4 | AE28: 30001 | AF28: ="item_"&AE28&"_"&AG28 -> item_30001_7 | AG28: 7
A29: item_10000001_187404,item_20000001_3748 | M29: 3 | N29: 1.75 | O29: 0.015 | P29: 0.03 | Q29: 0.015 | R29: 5 | X29: 2001 | Y29: 1 | Z29: 10 | AA29: {=INT(_xlfn._xlws.FILTER($V$31:$V$50,$S$31:$S$50=$Y29)*_xlfn._xlws.FILTER(N$27:N$86,$M$27:$M$86=$Z29))} -> 159 | AB29: {=_xlfn._xlws.FILTER(O$27:O$86,$M$27:$M$86=$Z29)} -> 0.05 | AC29: {=_xlfn._xlws.FILTER(P$27:P$86,$M$27:$M$86=$Z29)} -> 0.1 | AD29: {=INT(_xlfn._xlws.FILTER(Q$27:Q$86,$M$27:$M$86=$Z29)*100)} -> 5 | AE29: 30001 | AF29: ="item_"&AE29&"_"&AG29 -> item_30001_7 | AG29: 7
A30: item_10000001_197180,item_20000001_3943 | M30: 4 | N30: 2 | O30: 0.02 | P30: 0.04 | Q30: 0.02 | R30: 5 | T30: 攻击速度/S | U30: 攻击目标数 | V30: 攻击力 | X30: 2001 | Y30: 1 | Z30: 11 | AA30: {=INT(_xlfn._xlws.FILTER($V$31:$V$50,$S$31:$S$50=$Y30)*_xlfn._xlws.FILTER(N$27:N$86,$M$27:$M$86=$Z30))} -> 170 | AB30: {=_xlfn._xlws.FILTER(O$27:O$86,$M$27:$M$86=$Z30)} -> 0.055 | AC30: {=_xlfn._xlws.FILTER(P$27:P$86,$M$27:$M$86=$Z30)} -> 0.11 | AD30: {=INT(_xlfn._xlws.FILTER(Q$27:Q$86,$M$27:$M$86=$Z30)*100)} -> 5 | AE30: 30001 | AF30: ="item_"&AE30&"_"&AG30 -> item_30001_9 | AG30: 9
A31: item_10000001_207121,item_20000001_4142 | M31: 5 | N31: 2.25 | O31: 0.025 | P31: 0.05 | Q31: 0.025 | R31: 5 | S31: 1 | T31: 2 | U31: 1 | V31: 45.454545 | X31: 2001 | Y31: 1 | Z31: 12 | AA31: {=INT(_xlfn._xlws.FILTER($V$31:$V$50,$S$31:$S$50=$Y31)*_xlfn._xlws.FILTER(N$27:N$86,$M$27:$M$86=$Z31))} -> 181 | AB31: {=_xlfn._xlws.FILTER(O$27:O$86,$M$27:$M$86=$Z31)} -> 0.06 | AC31: {=_xlfn._xlws.FILTER(P$27:P$86,$M$27:$M$86=$Z31)} -> 0.12 | AD31: {=INT(_xlfn._xlws.FILTER(Q$27:Q$86,$M$27:$M$86=$Z31)*100)} -> 6 | AE31: 30001 | AF31: ="item_"&AE31&"_"&AG31 -> item_30001_9 | AG31: 9
A32: item_10000001_217223,item_20000001_4344 | M32: 6 | N32: 2.5 | O32: 0.03 | P32: 0.06 | Q32: 0.03 | R32: 7 | S32: 2 | T32: 1 | U32: 1 | V32: 100 | X32: 2001 | Y32: 1 | Z32: 13 | AA32: {=INT(_xlfn._xlws.FILTER($V$31:$V$50,$S$31:$S$50=$Y32)*_xlfn._xlws.FILTER(N$27:N$86,$M$27:$M$86=$Z32))} -> 193 | AB32: {=_xlfn._xlws.FILTER(O$27:O$86,$M$27:$M$86=$Z32)} -> 0.065 | AC32: {=_xlfn._xlws.FILTER(P$27:P$86,$M$27:$M$86=$Z32)} -> 0.13 | AD32: {=INT(_xlfn._xlws.FILTER(Q$27:Q$86,$M$27:$M$86=$Z32)*100)} -> 6 | AE32: 30001 | AF32: ="item_"&AE32&"_"&AG32 -> item_30001_9 | AG32: 9
A33: item_10000001_227485,item_20000001_4549 | M33: 7 | N33: 2.75 | O33: 0.035 | P33: 0.07 | Q33: 0.035 | R33: 7 | S33: 3 | T33: 1.2 | U33: 1 | V33: 83.333333 | X33: 2001 | Y33: 1 | Z33: 14 | AA33: {=INT(_xlfn._xlws.FILTER($V$31:$V$50,$S$31:$S$50=$Y33)*_xlfn._xlws.FILTER(N$27:N$86,$M$27:$M$86=$Z33))} -> 204 | AB33: {=_xlfn._xlws.FILTER(O$27:O$86,$M$27:$M$86=$Z33)} -> 0.07 | AC33: {=_xlfn._xlws.FILTER(P$27:P$86,$M$27:$M$86=$Z33)} -> 0.14 | AD33: {=INT(_xlfn._xlws.FILTER(Q$27:Q$86,$M$27:$M$86=$Z33)*100)} -> 7 | AE33: 30001 | AF33: ="item_"&AE33&"_"&AG33 -> item_30001_9 | AG33: 9
A34: item_10000001_237902,item_20000001_4758 | M34: 8 | N34: 3 | O34: 0.04 | P34: 0.08 | Q34: 0.04 | R34: 7 | S34: 4 | T34: 1.5 | U34: 1 | V34: 72.727273 | X34: 2001 | Y34: 1 | Z34: 15 | AA34: {=INT(_xlfn._xlws.FILTER($V$31:$V$50,$S$31:$S$50=$Y34)*_xlfn._xlws.FILTER(N$27:N$86,$M$27:$M$86=$Z34))} -> 215 | AB34: {=_xlfn._xlws.FILTER(O$27:O$86,$M$27:$M$86=$Z34)} -> 0.075 | AC34: {=_xlfn._xlws.FILTER(P$27:P$86,$M$27:$M$86=$Z34)} -> 0.15 | AD34: {=INT(_xlfn._xlws.FILTER(Q$27:Q$86,$M$27:$M$86=$Z34)*100)} -> 7 | AE34: 30001 | AF34: ="item_"&AE34&"_"&AG34 -> item_30001_9 | AG34: 9
A35: item_10000001_248476,item_20000001_4969 | M35: 9 | N35: 3.25 | O35: 0.045 | P35: 0.09 | Q35: 0.045 | R35: 7 | S35: 5 | T35: 2 | U35: 1 | V35: 54.545455 | X35: 2001 | Y35: 1 | Z35: 16 | AA35: {=INT(_xlfn._xlws.FILTER($V$31:$V$50,$S$31:$S$50=$Y35)*_xlfn._xlws.FILTER(N$27:N$86,$M$27:$M$86=$Z35))} -> 227 | AB35: {=_xlfn._xlws.FILTER(O$27:O$86,$M$27:$M$86=$Z35)} -> 0.08 | AC35: {=_xlfn._xlws.FILTER(P$27:P$86,$M$27:$M$86=$Z35)} -> 0.16 | AD35: {=INT(_xlfn._xlws.FILTER(Q$27:Q$86,$M$27:$M$86=$Z35)*100)} -> 8 | AE35: 30001 | AF35: ="item_"&AE35&"_"&AG35 -> item_30001_11 | AG35: 11
A36: item_10000001_259200,item_20000001_5184 | M36: 10 | N36: 3.5 | O36: 0.05 | P36: 0.1 | Q36: 0.05 | R36: 7 | S36: 6 | T36: 1 | U36: 4 | V36: 29.545455 | X36: 2001 | Y36: 1 | Z36: 17 | AA36: {=INT(_xlfn._xlws.FILTER($V$31:$V$50,$S$31:$S$50=$Y36)*_xlfn._xlws.FILTER(N$27:N$86,$M$27:$M$86=$Z36))} -> 238 | AB36: {=_xlfn._xlws.FILTER(O$27:O$86,$M$27:$M$86=$Z36)} -> 0.085 | AC36: {=_xlfn._xlws.FILTER(P$27:P$86,$M$27:$M$86=$Z36)} -> 0.17 | AD36: {=INT(_xlfn._xlws.FILTER(Q$27:Q$86,$M$27:$M$86=$Z36)*100)} -> 8 | AE36: 30001 | AF36: ="item_"&AE36&"_"&AG36 -> item_30001_11 | AG36: 11
A37: item_10000001_270074,item_20000001_5401 | I37: 399 | J37: =I37-5 -> 394 | M37: 11 | N37: 3.75 | O37: 0.055 | P37: 0.11 | Q37: 0.055 | R37: 9 | S37: 7 | T37: 1.2 | U37: 1 | V37: 253.33333 | X37: 2001 | Y37: 1 | Z37: 18 | AA37: {=INT(_xlfn._xlws.FILTER($V$31:$V$50,$S$31:$S$50=$Y37)*_xlfn._xlws.FILTER(N$27:N$86,$M$27:$M$86=$Z37))} -> 250 | AB37: {=_xlfn._xlws.FILTER(O$27:O$86,$M$27:$M$86=$Z37)} -> 0.09 | AC37: {=_xlfn._xlws.FILTER(P$27:P$86,$M$27:$M$86=$Z37)} -> 0.18 | AD37: {=INT(_xlfn._xlws.FILTER(Q$27:Q$86,$M$27:$M$86=$Z37)*100)} -> 9 | AE37: 30001 | AF37: ="item_"&AE37&"_"&AG37 -> item_30001_11 | AG37: 11
A38: item_10000001_281098,item_20000001_5622 | I38: 434 | J38: =I38-5 -> 429 | M38: 12 | N38: 4 | O38: 0.06 | P38: 0.12 | Q38: 0.06 | R38: 9 | S38: 8 | T38: 1.1 | U38: 1 | V38: 274.90909 | X38: 2001 | Y38: 1 | Z38: 19 | AA38: {=INT(_xlfn._xlws.FILTER($V$31:$V$50,$S$31:$S$50=$Y38)*_xlfn._xlws.FILTER(N$27:N$86,$M$27:$M$86=$Z38))} -> 261 | AB38: {=_xlfn._xlws.FILTER(O$27:O$86,$M$27:$M$86=$Z38)} -> 0.095 | AC38: {=_xlfn._xlws.FILTER(P$27:P$86,$M$27:$M$86=$Z38)} -> 0.19 | AD38: {=INT(_xlfn._xlws.FILTER(Q$27:Q$86,$M$27:$M$86=$Z38)*100)} -> 9 | AE38: 30001 | AF38: ="item_"&AE38&"_"&AG38 -> item_30001_11 | AG38: 11
A39: item_10000001_292266,item_20000001_5845 | I39: 466 | J39: =I39-5 -> 461 | M39: 13 | N39: 4.25 | O39: 0.065 | P39: 0.13 | Q39: 0.065 | R39: 9 | S39: 9 | T39: 1.5 | U39: 1 | V39: 211.2 | X39: 2001 | Y39: 1 | Z39: 20 | AA39: {=INT(_xlfn._xlws.FILTER($V$31:$V$50,$S$31:$S$50=$Y39)*_xlfn._xlws.FILTER(N$27:N$86,$M$27:$M$86=$Z39))} -> 272 | AB39: {=_xlfn._xlws.FILTER(O$27:O$86,$M$27:$M$86=$Z39)} -> 0.1 | AC39: {=_xlfn._xlws.FILTER(P$27:P$86,$M$27:$M$86=$Z39)} -> 0.2 | AD39: {=INT(_xlfn._xlws.FILTER(Q$27:Q$86,$M$27:$M$86=$Z39)*100)} -> 10 | AE39: 30001 | AF39: ="item_"&AE39&"_"&AG39 -> item_30001_11 | AG39: 11
A40: item_10000001_303578,item_20000001_6072 | I40: 502 | J40: =I40-5 -> 497 | M40: 14 | N40: 4.5 | O40: 0.07 | P40: 0.14 | Q40: 0.07 | R40: 9 | S40: 10 | T40: 1.5 | U40: 3 | V40: 85.866667 | X40: 2001 | Y40: 1 | Z40: 21 | AA40: {=INT(_xlfn._xlws.FILTER($V$31:$V$50,$S$31:$S$50=$Y40)*_xlfn._xlws.FILTER(N$27:N$86,$M$27:$M$86=$Z40))} -> 284 | AB40: {=_xlfn._xlws.FILTER(O$27:O$86,$M$27:$M$86=$Z40)} -> 0.105 | AC40: {=_xlfn._xlws.FILTER(P$27:P$86,$M$27:$M$86=$Z40)} -> 0.21 | AD40: {=INT(_xlfn._xlws.FILTER(Q$27:Q$86,$M$27:$M$86=$Z40)*100)} -> 10 | AE40: 30001 | AF40: ="item_"&AE40&"_"&AG40 -> item_30001_13 | AG40: 13
A41: item_10000001_315034,item_20000001_6301 | I41: 541 | J41: =I41-5 -> 536 | M41: 15 | N41: 4.75 | O41: 0.075 | P41: 0.15 | Q41: 0.075 | R41: 9 | S41: 11 | T41: 1 | U41: 1 | V41: 1440 | X41: 2001 | Y41: 1 | Z41: 22 | AA41: {=INT(_xlfn._xlws.FILTER($V$31:$V$50,$S$31:$S$50=$Y41)*_xlfn._xlws.FILTER(N$27:N$86,$M$27:$M$86=$Z41))} -> 295 | AB41: {=_xlfn._xlws.FILTER(O$27:O$86,$M$27:$M$86=$Z41)} -> 0.11 | AC41: {=_xlfn._xlws.FILTER(P$27:P$86,$M$27:$M$86=$Z41)} -> 0.22 | AD41: {=INT(_xlfn._xlws.FILTER(Q$27:Q$86,$M$27:$M$86=$Z41)*100)} -> 11 | AE41: 30001 | AF41: ="item_"&AE41&"_"&AG41 -> item_30001_13 | AG41: 13
A42: item_10000001_326629,item_20000001_6533 | I42: 582 | J42: =I42-5 -> 577 | M42: 16 | N42: 5 | O42: 0.08 | P42: 0.16 | Q42: 0.08 | R42: 11 | S42: 12 | T42: 1.2 | U42: 1 | V42: 1488 | X42: 2001 | Y42: 1 | Z42: 23 | AA42: {=INT(_xlfn._xlws.FILTER($V$31:$V$50,$S$31:$S$50=$Y42)*_xlfn._xlws.FILTER(N$27:N$86,$M$27:$M$86=$Z42))} -> 306 | AB42: {=_xlfn._xlws.FILTER(O$27:O$86,$M$27:$M$86=$Z42)} -> 0.115 | AC42: {=_xlfn._xlws.FILTER(P$27:P$86,$M$27:$M$86=$Z42)} -> 0.23 | AD42: {=INT(_xlfn._xlws.FILTER(Q$27:Q$86,$M$27:$M$86=$Z42)*100)} -> 11 | AE42: 30001 | AF42: ="item_"&AE42&"_"&AG42 -> item_30001_13 | AG42: 13
A43: item_10000001_338364,item_20000001_6767 | I43: 625 | J43: =I43-5 -> 620 | M43: 17 | N43: 5.25 | O43: 0.085 | P43: 0.17 | Q43: 0.085 | R43: 11 | S43: 13 | T43: 1.5 | U43: 1 | V43: 1158.6207 | X43: 2001 | Y43: 1 | Z43: 24 | AA43: {=INT(_xlfn._xlws.FILTER($V$31:$V$50,$S$31:$S$50=$Y43)*_xlfn._xlws.FILTER(N$27:N$86,$M$27:$M$86=$Z43))} -> 318 | AB43: {=_xlfn._xlws.FILTER(O$27:O$86,$M$27:$M$86=$Z43)} -> 0.12 | AC43: {=_xlfn._xlws.FILTER(P$27:P$86,$M$27:$M$86=$Z43)} -> 0.24 | AD43: {=INT(_xlfn._xlws.FILTER(Q$27:Q$86,$M$27:$M$86=$Z43)*100)} -> 12 | AE43: 30001 | AF43: ="item_"&AE43&"_"&AG43 -> item_30001_13 | AG43: 13
A44: item_10000001_350236,item_20000001_7004 | I44: 669 | J44: =I44-5 -> 664 | M44: 18 | N44: 5.5 | O44: 0.09 | P44: 0.18 | Q44: 0.09 | R44: 11 | S44: 14 | T44: 1.6 | U44: 1 | V44: 4224.1379 | X44: 2001 | Y44: 1 | Z44: 25 | AA44: {=INT(_xlfn._xlws.FILTER($V$31:$V$50,$S$31:$S$50=$Y44)*_xlfn._xlws.FILTER(N$27:N$86,$M$27:$M$86=$Z44))} -> 329 | AB44: {=_xlfn._xlws.FILTER(O$27:O$86,$M$27:$M$86=$Z44)} -> 0.125 | AC44: {=_xlfn._xlws.FILTER(P$27:P$86,$M$27:$M$86=$Z44)} -> 0.25 | AD44: {=INT(_xlfn._xlws.FILTER(Q$27:Q$86,$M$27:$M$86=$Z44)*100)} -> 12 | AE44: 30001 | AF44: ="item_"&AE44&"_"&AG44 -> item_30001_13 | AG44: 13
A45: item_10000001_362243,item_20000001_7244 | I45: 714 | J45: =I45-5 -> 709 | M45: 19 | N45: 5.75 | O45: 0.095 | P45: 0.19 | Q45: 0.095 | R45: 11 | S45: 15 | T45: 2.2 | U45: 1 | V45: 3009.4044 | X45: 2001 | Y45: 1 | Z45: 26 | AA45: {=INT(_xlfn._xlws.FILTER($V$31:$V$50,$S$31:$S$50=$Y45)*_xlfn._xlws.FILTER(N$27:N$86,$M$27:$M$86=$Z45))} -> 340 | AB45: {=_xlfn._xlws.FILTER(O$27:O$86,$M$27:$M$86=$Z45)} -> 0.13 | AC45: {=_xlfn._xlws.FILTER(P$27:P$86,$M$27:$M$86=$Z45)} -> 0.26 | AD45: {=INT(_xlfn._xlws.FILTER(Q$27:Q$86,$M$27:$M$86=$Z45)*100)} -> 13 | AE45: 30001 | AF45: ="item_"&AE45&"_"&AG45 -> item_30001_15 | AG45: 15
...

Sheet 整行拆分结果
A1: 1200 | D1: item_30001_5 | E1: , | F1: item_10000001_ | G1: 1200 | I1: item_10000001_
A2: 3394 | D2: item_30001_5 | E2: , | F2: item_10000001_ | G2: 3394
A3: 6235 | D3: item_30001_5 | E3: , | F3: item_10000001_ | G3: 6235
A4: 9600 | D4: item_30001_5 | E4: , | F4: item_10000001_ | G4: 9600
A5: 13416 | D5: item_30001_5 | E5: , | F5: item_10000001_ | G5: 13416
A6: 17636 | D6: item_30001_7 | E6: , | F6: item_10000001_ | G6: 17636
A7: 22224 | D7: item_30001_7 | E7: , | F7: item_10000001_ | G7: 22224
A8: 27152 | D8: item_30001_7 | E8: , | F8: item_10000001_ | G8: 27152
A9: 32400 | D9: item_30001_7 | E9: , | F9: item_10000001_ | G9: 32400
A10: 37948 | D10: item_30001_7 | E10: , | F10: item_10000001_ | G10: 37948
A11: 43780 | D11: item_30001_9 | E11: , | F11: item_10000001_ | G11: 43780
A12: 49883 | D12: item_30001_9 | E12: , | F12: item_10000001_ | G12: 49883
A13: 56246 | D13: item_30001_9 | E13: , | F13: item_10000001_ | G13: 56246
... A36: 259200 | D36: item_30001_19 | E36: , | F36: item_10000001_ | G36: 259200
A37: 270074 | D37: item_30001_19 | E37: , | F37: item_10000001_ | G37: 270074 | AA37: 攻击加成 | AB37: 暴击加成 | AC37: 爆伤加成 | AD37: 攻速
A38: 281098 | D38: item_30001_19 | E38: , | F38: item_10000001_ | G38: 281098 | AA38: 攻击加成 | AB38: 暴击加成 | AC38: 爆伤加成 | AD38: 攻速
A39: 292266 | D39: item_30001_19 | E39: , | F39: item_10000001_ | G39: 292266 | X39: 2001 | Y39: 1 | Z39: 1 | AA39: {=INT(_xlfn._xlws.FILTER($V$61:$V$99,$S$61:$S$99=$Y39)*_xlfn._xlws.FILTER(N$53:N$171,$M$53:$M$171=$Z39))} -> #VALUE! | AB39: {=_xlfn._xlws.FILTER(O$53:O$171,$M$53:$M$171=$Z39)} -> #VALUE! | AC39: {=_xlfn._xlws.FILTER(P$53:P$171,$M$53:$M$171=$Z39)} -> #VALUE! | AD39: {=INT(_xlfn._xlws.FILTER(Q$53:Q$171,$M$53:$M$171=$Z39)*100)} -> #VALUE! | AE39: 30001 | AF39: ="item_"&AE39&"_"&AG39 -> item_30001_5 | AG39: 5
A40: 303578 | D40: item_30001_19 | E40: , | F40: item_10000001_ | G40: 303578 | X40: 2001 | Y40: 1 | Z40: 1 | AA40: {=INT(_xlfn._xlws.FILTER($V$61:$V$99,$S$61:$S$99=$Y40)*_xlfn._xlws.FILTER(N$53:N$171,$M$53:$M$171=$Z40))} -> #VALUE! | AB40: {=_xlfn._xlws.FILTER(O$53:O$171,$M$53:$M$171=$Z40)} -> #VALUE! | AC40: {=_xlfn._xlws.FILTER(P$53:P$171,$M$53:$M$171=$Z40)} -> #VALUE! | AD40: {=INT(_xlfn._xlws.FILTER(Q$53:Q$171,$M$53:$M$171=$Z40)*100)} -> #VALUE! | AE40: 30001 | AF40: ="item_"&AE40&"_"&AG40 -> item_30001_5 | AG40: 5
A41: 315034 | D41: item_30001_22 | E41: , | F41: item_10000001_ | G41: 315034 | X41: 2001 | Y41: 1 | Z41: 2 | AA41: {=INT(_xlfn._xlws.FILTER($V$61:$V$99,$S$61:$S$99=$Y41)*_xlfn._xlws.FILTER(N$53:N$171,$M$53:$M$171=$Z41))} -> #VALUE! | AB41: {=_xlfn._xlws.FILTER(O$53:O$171,$M$53:$M$171=$Z41)} -> #VALUE! | AC41: {=_xlfn._xlws.FILTER(P$53:P$171,$M$53:$M$171=$Z41)} -> #VALUE! | AD41: {=INT(_xlfn._xlws.FILTER(Q$53:Q$171,$M$53:$M$171=$Z41)*100)} -> #VALUE! | AE41: 30001 | AF41: ="item_"&AE41&"_"&AG41 -> item_30001_5 | AG41: 5
A42: 326629 | D42: item_30001_22 | E42: , | F42: item_10000001_ | G42: 326629 | X42: 2001 | Y42: 1 | Z42: 2 | AA42: {=INT(_xlfn._xlws.FILTER($V$61:$V$99,$S$61:$S$99=$Y42)*_xlfn._xlws.FILTER(N$53:N$171,$M$53:$M$171=$Z42))} -> #VALUE! | AB42: {=_xlfn._xlws.FILTER(O$53:O$171,$M$53:$M$171=$Z42)} -> #VALUE! | AC42: {=_xlfn._xlws.FILTER(P$53:P$171,$M$53:$M$171=$Z42)} -> #VALUE! | AD42: {=INT(_xlfn._xlws.FILTER(Q$53:Q$171,$M$53:$M$171=$Z42)*100)} -> #VALUE! | AE42: 30001 | AF42: ="item_"&AE42&"_"&AG42 -> item_30001_5 | AG42: 5
A43: 338364 | D43: item_30001_22 | E43: , | F43: item_10000001_ | G43: 338364 | X43: 2001 | Y43: 1 | Z43: 3 | AA43: {=INT(_xlfn._xlws.FILTER($V$61:$V$99,$S$61:$S$99=$Y43)*_xlfn._xlws.FILTER(N$53:N$171,$M$53:$M$171=$Z43))} -> #VALUE! | AB43: {=_xlfn._xlws.FILTER(O$53:O$171,$M$53:$M$171=$Z43)} -> #VALUE! | AC43: {=_xlfn._xlws.FILTER(P$53:P$171,$M$53:$M$171=$Z43)} -> #VALUE! | AD43: {=INT(_xlfn._xlws.FILTER(Q$53:Q$171,$M$53:$M$171=$Z43)*100)} -> #VALUE! | AE43: 30001 | AF43: ="item_"&AE43&"_"&AG43 -> item_30001_5 | AG43: 5
A44: 350236 | D44: item_30001_22 | E44: , | F44: item_10000001_ | G44: 350236 | X44: 2001 | Y44: 1 | Z44: 3 | AA44: {=INT(_xlfn._xlws.FILTER($V$61:$V$99,$S$61:$S$99=$Y44)*_xlfn._xlws.FILTER(N$53:N$171,$M$53:$M$171=$Z44))} -> #VALUE! | AB44: {=_xlfn._xlws.FILTER(O$53:O$171,$M$53:$M$171=$Z44)} -> #VALUE! | AC44: {=_xlfn._xlws.FILTER(P$53:P$171,$M$53:$M$171=$Z44)} -> #VALUE! | AD44: {=INT(_xlfn._xlws.FILTER(Q$53:Q$171,$M$53:$M$171=$Z44)*100)} -> #VALUE! | AE44: 30001 | AF44: ="item_"&AE44&"_"&AG44 -> item_30001_5 | AG44: 5
A45: 362243 | D45: item_30001_22 | E45: , | F45: item_10000001_ | G45: 362243 | X45: 2001 | Y45: 1 | Z45: 4 | AA45: {=INT(_xlfn._xlws.FILTER($V$61:$V$99,$S$61:$S$99=$Y45)*_xlfn._xlws.FILTER(N$53:N$171,$M$53:$M$171=$Z45))} -> #VALUE! | AB45: {=_xlfn._xlws.FILTER(O$53:O$171,$M$53:$M$171=$Z45)} -> #VALUE! | AC45: {=_xlfn._xlws.FILTER(P$53:P$171,$M$53:$M$171=$Z45)} -> #VALUE! | AD45: {=INT(_xlfn._xlws.FILTER(Q$53:Q$171,$M$53:$M$171=$Z45)*100)} -> #VALUE! | AE45: 30001 | AF45: ="item_"&AE45&"_"&AG45 -> item_30001_5 | AG45: 5
A46: 374384 | D46: item_30001_25 | E46: , | F46: item_10000001_ | G46: 374384 | X46: 2001 | Y46: 1 | Z46: 4 | AA46: {=INT(_xlfn._xlws.FILTER($V$61:$V$99,$S$61:$S$99=$Y46)*_xlfn._xlws.FILTER(N$53:N$171,$M$53:$M$171=$Z46))} -> #VALUE! | AB46: {=_xlfn._xlws.FILTER(O$53:O$171,$M$53:$M$171=$Z46)} -> #VALUE! | AC46: {=_xlfn._xlws.FILTER(P$53:P$171,$M$53:$M$171=$Z46)} -> #VALUE! | AD46: {=INT(_xlfn._xlws.FILTER(Q$53:Q$171,$M$53:$M$171=$Z46)*100)} -> #VALUE! | AE46: 30001 | AF46: ="item_"&AE46&"_"&AG46 -> item_30001_5 | AG46: 5
A47: 386659 | D47: item_30001_25 | E47: , | F47: item_10000001_ | G47: 386659 | X47: 2001 | Y47: 1 | Z47: 5 | AA47: {=INT(_xlfn._xlws.FILTER($V$61:$V$99,$S$61:$S$99=$Y47)*_xlfn._xlws.FILTER(N$53:N$171,$M$53:$M$171=$Z47))} -> #VALUE! | AB47: {=_xlfn._xlws.FILTER(O$53:O$171,$M$53:$M$171=$Z47)} -> #VALUE! | AC47: {=_xlfn._xlws.FILTER(P$53:P$171,$M$53:$M$171=$Z47)} -> #VALUE! | AD47: {=INT(_xlfn._xlws.FILTER(Q$53:Q$171,$M$53:$M$171=$Z47)*100)} -> #VALUE! | AE47: 30001 | AF47: ="item_"&AE47&"_"&AG47 -> item_30001_5 | AG47: 5
A48: 399065 | D48: item_30001_25 | E48: , | F48: item_10000001_ | G48: 399065 | X48: 2001 | Y48: 1 | Z48: 5 | AA48: {=INT(_xlfn._xlws.FILTER($V$61:$V$99,$S$61:$S$99=$Y48)*_xlfn._xlws.FILTER(N$53:N$171,$M$53:$M$171=$Z48))} -> #VALUE! | AB48: {=_xlfn._xlws.FILTER(O$53:O$171,$M$53:$M$171=$Z48)} -> #VALUE! | AC48: {=_xlfn._xlws.FILTER(P$53:P$171,$M$53:$M$171=$Z48)} -> #VALUE! | AD48: {=INT(_xlfn._xlws.FILTER(Q$53:Q$171,$M$53:$M$171=$Z48)*100)} -> #VALUE! | AE48: 30001 | AF48: ="item_"&AE48&"_"&AG48 -> item_30001_5 | AG48: 5
A49: 411600 | D49: item_30001_25 | E49: , | F49: item_10000001_ | G49: 411600 | X49: 2001 | Y49: 1 | Z49: 6 | AA49: {=INT(_xlfn._xlws.FILTER($V$61:$V$99,$S$61:$S$99=$Y49)*_xlfn._xlws.FILTER(N$53:N$171,$M$53:$M$171=$Z49))} -> #VALUE! | AB49: {=_xlfn._xlws.FILTER(O$53:O$171,$M$53:$M$171=$Z49)} -> #VALUE! | AC49: {=_xlfn._xlws.FILTER(P$53:P$171,$M$53:$M$171=$Z49)} -> #VALUE! | AD49: {=INT(_xlfn._xlws.FILTER(Q$53:Q$171,$M$53:$M$171=$Z49)*100)} -> #VALUE! | AE49: 30001 | AF49: ="item_"&AE49&"_"&AG49 -> item_30001_7 | AG49: 7
A50: 424264 | D50: item_30001_25 | E50: , | F50: item_10000001_ | G50: 424264 | X50: 2001 | Y50: 1 | Z50: 6 | AA50: {=INT(_xlfn._xlws.FILTER($V$61:$V$99,$S$61:$S$99=$Y50)*_xlfn._xlws.FILTER(N$53:N$171,$M$53:$M$171=$Z50))} -> #VALUE! | AB50: {=_xlfn._xlws.FILTER(O$53:O$171,$M$53:$M$171=$Z50)} -> #VALUE! | AC50: {=_xlfn._xlws.FILTER(P$53:P$171,$M$53:$M$171=$Z50)} -> #VALUE! | AD50: {=INT(_xlfn._xlws.FILTER(Q$53:Q$171,$M$53:$M$171=$Z50)*100)} -> #VALUE! | AE50: 30001 | AF50: ="item_"&AE50&"_"&AG50 -> item_30001_7 | AG50: 7
A51: 437056 | D51: item_30001_28 | E51: , | F51: item_10000001_ | G51: 437056 | N51: 攻击加成 | O51: 暴击加成 | P51: 爆伤加成 | Q51: 攻速 | X51: 2001 | Y51: 1 | Z51: 7 | AA51: {=INT(_xlfn._xlws.FILTER($V$61:$V$99,$S$61:$S$99=$Y51)*_xlfn._xlws.FILTER(N$53:N$171,$M$53:$M$171=$Z51))} -> #VALUE! | AB51: {=_xlfn._xlws.FILTER(O$53:O$171,$M$53:$M$171=$Z51)} -> #VALUE! | AC51: {=_xlfn._xlws.FILTER(P$53:P$171,$M$53:$M$171=$Z51)} -> #VALUE! | AD51: {=INT(_xlfn._xlws.FILTER(Q$53:Q$171,$M$53:$M$171=$Z51)*100)} -> #VALUE! | AE51: 30001 | AF51: ="item_"&AE51&"_"&AG51 -> item_30001_7 | AG51: 7
A52: 449972 | D52: item_30001_28 | E52: , | F52: item_10000001_ | G52: 449972 | N52: 攻击加成 | O52: 暴击加成 | P52: 爆伤加成 | Q52: 攻速 | X52: 2001 | Y52: 1 | Z52: 7 | AA52: {=INT(_xlfn._xlws.FILTER($V$61:$V$99,$S$61:$S$99=$Y52)*_xlfn._xlws.FILTER(N$53:N$171,$M$53:$M$171=$Z52))} -> #VALUE! | AB52: {=_xlfn._xlws.FILTER(O$53:O$171,$M$53:$M$171=$Z52)} -> #VALUE! | AC52: {=_xlfn._xlws.FILTER(P$53:P$171,$M$53:$M$171=$Z52)} -> #VALUE! | AD52: {=INT(_xlfn._xlws.FILTER(Q$53:Q$171,$M$53:$M$171=$Z52)*100)} -> #VALUE! | AE52: 30001 | AF52: ="item_"&AE52&"_"&AG52 -> item_30001_7 | AG52: 7
A53: 463015 | D53: item_30001_28 | E53: , | F53: item_10000001_ | G53: 463015 | M53: 1 | N53: 1.25 | O53: 0.005 | P53: 0.01 | Q53: 0.005 | R53: 5 | X53: 2001 | Y53: 1 | Z53: 8 | AA53: {=INT(_xlfn._xlws.FILTER($V$61:$V$99,$S$61:$S$99=$Y53)*_xlfn._xlws.FILTER(N$53:N$171,$M$53:$M$171=$Z53))} -> #VALUE! | AB53: {=_xlfn._xlws.FILTER(O$53:O$171,$M$53:$M$171=$Z53)} -> #VALUE! | AC53: {=_xlfn._xlws.FILTER(P$53:P$171,$M$53:$M$171=$Z53)} -> #VALUE! | AD53: {=INT(_xlfn._xlws.FILTER(Q$53:Q$171,$M$53:$M$171=$Z53)*100)} -> #VALUE! | AE53: 30001 | AF53: ="item_"&AE53&"_"&AG53 -> item_30001_7 | AG53: 7
A54: 476180 | D54: item_30001_28 | E54: , | F54: item_10000001_ | G54: 476180 | M54: 1 | N54: 1.25 | O54: 0.005 | P54: 0.01 | Q54: 0.005 | R54: 5 | X54: 2001 | Y54: 1 | Z54: 8 | AA54: {=INT(_xlfn._xlws.FILTER($V$61:$V$99,$S$61:$S$99=$Y54)*_xlfn._xlws.FILTER(N$53:N$171,$M$53:$M$171=$Z54))} -> #VALUE! | AB54: {=_xlfn._xlws.FILTER(O$53:O$171,$M$53:$M$171=$Z54)} -> #VALUE! | AC54: {=_xlfn._xlws.FILTER(P$53:P$171,$M$53:$M$171=$Z54)} -> #VALUE! | AD54: {=INT(_xlfn._xlws.FILTER(Q$53:Q$171,$M$53:$M$171=$Z54)*100)} -> #VALUE! | AE54: 30001 | AF54: ="item_"&AE54&"_"&AG54 -> item_30001_7 | AG54: 7
A55: 489469 | D55: item_30001_28 | E55: , | F55: item_10000001_ | G55: 489469 | M55: 2 | N55: 1.5 | O55: 0.01 | P55: 0.02 | Q55: 0.01 | R55: 5 | X55: 2001 | Y55: 1 | Z55: 9 | AA55: {=INT(_xlfn._xlws.FILTER($V$61:$V$99,$S$61:$S$99=$Y55)*_xlfn._xlws.FILTER(N$53:N$171,$M$53:$M$171=$Z55))} -> #VALUE! | AB55: {=_xlfn._xlws.FILTER(O$53:O$171,$M$53:$M$171=$Z55)} -> #VALUE! | AC55: {=_xlfn._xlws.FILTER(P$53:P$171,$M$53:$M$171=$Z55)} -> #VALUE! | AD55: {=INT(_xlfn._xlws.FILTER(Q$53:Q$171,$M$53:$M$171=$Z55)*100)} -> #VALUE! | AE55: 30001 | AF55: ="item_"&AE55&"_"&AG55 -> item_30001_7 | AG55: 7
A56: 502879 | D56: item_30001_31 | E56: , | F56: item_10000001_ | G56: 502879 | M56: 2 | N56: 1.5 | O56: 0.01 | P56: 0.02 | Q56: 0.01 | R56: 5 | X56: 2001 | Y56: 1 | Z56: 9 | AA56: {=INT(_xlfn._xlws.FILTER($V$61:$V$99,$S$61:$S$99=$Y56)*_xlfn._xlws.FILTER(N$53:N$171,$M$53:$M$171=$Z56))} -> #VALUE! | AB56: {=_xlfn._xlws.FILTER(O$53:O$171,$M$53:$M$171=$Z56)} -> #VALUE! | AC56: {=_xlfn._xlws.FILTER(P$53:P$171,$M$53:$M$171=$Z56)} -> #VALUE! | AD56: {=INT(_xlfn._xlws.FILTER(Q$53:Q$171,$M$53:$M$171=$Z56)*100)} -> #VALUE! | AE56: 30001 | AF56: ="item_"&AE56&"_"&AG56 -> item_30001_7 | AG56: 7
A57: 516409 | D57: item_30001_31 | E57: , | F57: item_10000001_ | G57: 516409 | M57: 3 | N57: 1.75 | O57: 0.015 | P57: 0.03 | Q57: 0.015 | R57: 5 | X57: 2001 | Y57: 1 | Z57: 10 | AA57: {=INT(_xlfn._xlws.FILTER($V$61:$V$99,$S$61:$S$99=$Y57)*_xlfn._xlws.FILTER(N$53:N$171,$M$53:$M$171=$Z57))} -> #VALUE! | AB57: {=_xlfn._xlws.FILTER(O$53:O$171,$M$53:$M$171=$Z57)} -> #VALUE! | AC57: {=_xlfn._xlws.FILTER(P$53:P$171,$M$53:$M$171=$Z57)} -> #VALUE! | AD57: {=INT(_xlfn._xlws.FILTER(Q$53:Q$171,$M$53:$M$171=$Z57)*100)} -> #VALUE! | AE57: 30001 | AF57: ="item_"&AE57&"_"&AG57 -> item_30001_7 | AG57: 7
A58: 530058 | D58: item_30001_31 | E58: , | F58: item_10000001_ | G58: 530058 | M58: 3 | N58: 1.75 | O58: 0.015 | P58: 0.03 | Q58: 0.015 | R58: 5 | X58: 2001 | Y58: 1 | Z58: 10 | AA58: {=INT(_xlfn._xlws.FILTER($V$61:$V$99,$S$61:$S$99=$Y58)*_xlfn._xlws.FILTER(N$53:N$171,$M$53:$M$171=$Z58))} -> #VALUE! | AB58: {=_xlfn._xlws.FILTER(O$53:O$171,$M$53:$M$171=$Z58)} -> #VALUE! | AC58: {=_xlfn._xlws.FILTER(P$53:P$171,$M$53:$M$171=$Z58)} -> #VALUE! | AD58: {=INT(_xlfn._xlws.FILTER(Q$53:Q$171,$M$53:$M$171=$Z58)*100)} -> #VALUE! | AE58: 30001 | AF58: ="item_"&AE58&"_"&AG58 -> item_30001_7 | AG58: 7
A59: 543826 | D59: item_30001_31 | E59: , | F59: item_10000001_ | G59: 543826 | M59: 4 | N59: 2 | O59: 0.02 | P59: 0.04 | Q59: 0.02 | R59: 5 | T59: 攻击速度/S | U59: 攻击目标数 | V59: 攻击力 | X59: 2001 | Y59: 1 | Z59: 11 | AA59: {=INT(_xlfn._xlws.FILTER($V$61:$V$99,$S$61:$S$99=$Y59)*_xlfn._xlws.FILTER(N$53:N$171,$M$53:$M$171=$Z59))} -> #VALUE! | AB59: {=_xlfn._xlws.FILTER(O$53:O$171,$M$53:$M$171=$Z59)} -> #VALUE! | AC59: {=_xlfn._xlws.FILTER(P$53:P$171,$M$53:$M$171=$Z59)} -> #VALUE! | AD59: {=INT(_xlfn._xlws.FILTER(Q$53:Q$171,$M$53:$M$171=$Z59)*100)} -> #VALUE! | AE59: 30001 | AF59: ="item_"&AE59&"_"&AG59 -> item_30001_9 | AG59: 9
A60: 557710 | D60: item_30001_31 | E60: , | F60: item_10000001_ | G60: 557710 | M60: 4 | N60: 2 | O60: 0.02 | P60: 0.04 | Q60: 0.02 | R60: 5 | T60: 攻击速度/S | U60: 攻击目标数 | V60: 攻击力 | X60: 2001 | Y60: 1 | Z60: 11 | AA60: {=INT(_xlfn._xlws.FILTER($V$61:$V$99,$S$61:$S$99=$Y60)*_xlfn._xlws.FILTER(N$53:N$171,$M$53:$M$171=$Z60))} -> #VALUE! | AB60: {=_xlfn._xlws.FILTER(O$53:O$171,$M$53:$M$171=$Z60)} -> #VALUE! | AC60: {=_xlfn._xlws.FILTER(P$53:P$171,$M$53:$M$171=$Z60)} -> #VALUE! | AD60: {=INT(_xlfn._xlws.FILTER(Q$53:Q$171,$M$53:$M$171=$Z60)*100)} -> #VALUE! | AE60: 30001 | AF60: ="item_"&AE60&"_"&AG60 -> item_30001_9 | AG60: 9
A61: 571710 | D61: item_30002_5 | E61: , | F61: item_10000001_ | G61: 1200 | M61: 5 | N61: 2.25 | O61: 0.025 | P61: 0.05 | Q61: 0.025 | R61: 5 | S61: 1 | T61: 2 | U61: 1 | V61: 45.454545 | X61: 2001 | Y61: 1 | Z61: 12 | AA61: {=INT(_xlfn._xlws.FILTER($V$61:$V$99,$S$61:$S$99=$Y61)*_xlfn._xlws.FILTER(N$53:N$171,$M$53:$M$171=$Z61))} -> #VALUE! | AB61: {=_xlfn._xlws.FILTER(O$53:O$171,$M$53:$M$171=$Z61)} -> #VALUE! | AC61: {=_xlfn._xlws.FILTER(P$53:P$171,$M$53:$M$171=$Z61)} -> #VALUE! | AD61: {=INT(_xlfn._xlws.FILTER(Q$53:Q$171,$M$53:$M$171=$Z61)*100)} -> #VALUE! | AE61: 30001 | AF61: ="item_"&AE61&"_"&AG61 -> item_30001_9 | AG61: 9
A62: 585826 | D62: item_30002_5 | E62: , | F62: item_10000001_ | G62: 3394 | M62: 5 | N62: 2.25 | O62: 0.025 | P62: 0.05 | Q62: 0.025 | R62: 5 | S62: 1 | T62: 2 | U62: 1 | V62: 45.454545 | X62: 2001 | Y62: 1 | Z62: 12 | AA62: {=INT(_xlfn._xlws.FILTER($V$61:$V$99,$S$61:$S$99=$Y62)*_xlfn._xlws.FILTER(N$53:N$171,$M$53:$M$171=$Z62))} -> #VALUE! | AB62: {=_xlfn._xlws.FILTER(O$53:O$171,$M$53:$M$171=$Z62)} -> #VALUE! | AC62: {=_xlfn._xlws.FILTER(P$53:P$171,$M$53:$M$171=$Z62)} -> #VALUE! | AD62: {=INT(_xlfn._xlws.FILTER(Q$53:Q$171,$M$53:$M$171=$Z62)*100)} -> #VALUE! | AE62: 30001 | AF62: ="item_"&AE62&"_"&AG62 -> item_30001_9 | AG62: 9
...
