Workbook

Sheet Sheet1
A1: 主键 | B1: 对应hero id | C1: 名字 | D1: 等级 | E1: 消耗 | F1: 血量 | G1: 攻速 | H1: 攻击 | I1: 暴击率 | J1: 暴击伤害 | K1: 天赋图片(仅主角使用) | L1: 描述
A2: int | B2: int | C2: string | D2: int | E2: string[] | F2: double | G2: double | H2: double | I2: double | J2: double | K2: string | L2: string
A3: id | B3: target_id | C3: name | D3: level | E3: consumes | F3: hp | G3: attack_speed_add | H3: attack | I3: crit_probability | J3: critHit | K3: icon | L3: desc
A4: 101 | B4: 2001 | D4: 1 | E4: =整行拆分结果!D1&整行拆分结果!E1&整行拆分结果!F1&整行拆分结果!G1 -> item_30001_5,item_10000001_1200 | F4: 0 | G4: 0 | H4: 56 | I4: 0.005 | J4: 0.01
A5: 102 | B5: 2001 | D5: 2 | E5: =整行拆分结果!D2&整行拆分结果!E2&整行拆分结果!F2&整行拆分结果!G2 -> item_30001_5,item_10000001_3394 | F5: 0 | G5: 1 | H5: 68 | I5: 0.01 | J5: 0.02
A6: 103 | B6: 2001 | D6: 3 | E6: =整行拆分结果!D3&整行拆分结果!E3&整行拆分结果!F3&整行拆分结果!G3 -> item_30001_5,item_10000001_6235 | F6: 0 | G6: 1 | H6: 79 | I6: 0.015 | J6: 0.03
A7: 104 | B7: 2001 | D7: 4 | E7: =整行拆分结果!D4&整行拆分结果!E4&整行拆分结果!F4&整行拆分结果!G4 -> item_30001_5,item_10000001_9600 | F7: 0 | G7: 2 | H7: 90 | I7: 0.02 | J7: 0.04
A8: 105 | B8: 2001 | D8: 5 | E8: =整行拆分结果!D5&整行拆分结果!E5&整行拆分结果!F5&整行拆分结果!G5 -> item_30001_5,item_10000001_13416 | F8: 0 | G8: 2 | H8: 102 | I8: 0.025 | J8: 0.05
A9: 106 | B9: 2001 | D9: 6 | E9: =整行拆分结果!D6&整行拆分结果!E6&整行拆分结果!F6&整行拆分结果!G6 -> item_30001_7,item_10000001_17636 | F9: 0 | G9: 3 | H9: 113 | I9: 0.03 | J9: 0.06
A10: 107 | B10: 2001 | D10: 7 | E10: =整行拆分结果!D7&整行拆分结果!E7&整行拆分结果!F7&整行拆分结果!G7 -> item_30001_7,item_10000001_22224 | F10: 0 | G10: 3 | H10: 125 | I10: 0.035 | J10: 0.07
A11: 108 | B11: 2001 | D11: 8 | E11: =整行拆分结果!D8&整行拆分结果!E8&整行拆分结果!F8&整行拆分结果!G8 -> item_30001_7,item_10000001_27152 | F11: 0 | G11: 4 | H11: 136 | I11: 0.04 | J11: 0.08
A12: 109 | B12: 2001 | D12: 9 | E12: =整行拆分结果!D9&整行拆分结果!E9&整行拆分结果!F9&整行拆分结果!G9 -> item_30001_7,item_10000001_32400 | F12: 0 | G12: 4 | H12: 147 | I12: 0.045 | J12: 0.09
A13: 110 | B13: 2001 | D13: 10 | E13: =整行拆分结果!D10&整行拆分结果!E10&整行拆分结果!F10&整行拆分结果!G10 -> item_30001_7,item_10000001_37948 | F13: 0 | G13: 5 | H13: 159 | I13: 0.05 | J13: 0.1
A14: 111 | B14: 2001 | D14: 11 | E14: =整行拆分结果!D11&整行拆分结果!E11&整行拆分结果!F11&整行拆分结果!G11 -> item_30001_9,item_10000001_43780 | F14: 0 | G14: 5 | H14: 170 | I14: 0.055 | J14: 0.11
A15: 112 | B15: 2001 | D15: 12 | E15: =整行拆分结果!D12&整行拆分结果!E12&整行拆分结果!F12&整行拆分结果!G12 -> item_30001_9,item_10000001_49883 | F15: 0 | G15: 6 | H15: 181 | I15: 0.06 | J15: 0.12
... A1203: 1300 | B1203: 2020 | D1203: 60 | E1203: =整行拆分结果!D1200&整行拆分结果!E1200&整行拆分结果!F1200&整行拆分结果!G1200 -> item_30020_31,item_10000001_557710 | F1203: 0 | G1203: 30 | H1203: 202352 | I1203: 0.3 | J1203: 0.6

Sheet Sheet2
A1: item_10000001_1200,item_20000001_24
A2: item_10000001_3394,item_20000001_68
A3: item_10000001_6235,item_20000001_125
A4: item_10000001_9600,item_20000001_192
A5: item_10000001_13416,item_20000001_269
A6: item_10000001_17636,item_20000001_353
A7: item_10000001_22224,item_20000001_444
A8: item_10000001_27152,item_20000001_544
A9: item_10000001_32400,item_20000001_648
A10: item_10000001_37948,item_20000001_758
A11: item_10000001_43780,item_20000001_876
A12: item_10000001_49883,item_20000001_997
... A18: item_10000001_91642,item_20000001_1832
A19: item_10000001_99383,item_20000001_1987 | AA19: 攻击加成 | AB19: 暴击加成 | AC19: 爆伤加成 | AD19: 攻速
A20: item_10000001_107332,item_20000001_2147 | X20: 2001 | Y20: 1 | Z20: 1 | AA20: {=INT(_xlfn._xlws.FILTER($V$31:$V$50,$S$31:$S$50=$Y20)*_xlfn._xlws.FILTER(N$27:N$86,$M$27:$M$86=$Z20))} -> 56 | AB20: {=_xlfn._xlws.FILTER(O$27:O$86,$M$27:$M$86=$Z20)} -> 0.005 | AC20: {=_xlfn._xlws.FILTER(P$27:P$86,$M$27:$M$86=$Z20)} -> 0.01 | AD20: {=INT(_xlfn._xlws.FILTER(Q$27:Q$86,$M$27:$M$86=$Z20)*100)} -> 0 | AE20: 30001 | AF20: ="item_"&AE20&"_"&AG20 -> item_30001_5 | AG20: 5
A21: item_10000001_115481,item_20000001_2310 | X21: 2001 | Y21: 1 | Z21: 2 | AA21: {=INT(_xlfn._xlws.FILTER($V$31:$V$50,$S$31:$S$50=$Y21)*_xlfn._xlws.FILTER(N$27:N$86,$M$27:$M$86=$Z21))} -> 68 | AB21: {=_xlfn._xlws.FILTER(O$27:O$86,$M$27:$M$86=$Z21)} -> 0.01 | AC21: {=_xlfn._xlws.FILTER(P$27:P$86,$M$27:$M$86=$Z21)} -> 0.02 | AD21: {=INT(_xlfn._xlws.FILTER(Q$27:Q$86,$M$27:$M$86=$Z21)*100)} -> 1 | AE21: 30001 | AF21: ="item_"&AE21&"_"&AG21 -> item_30001_5 | AG21: 5
A22: item_10000001_123827,item_20000001_2477 | X22: 2001 | Y22: 1 | Z22: 3 | AA22: {=INT(_xlfn._xlws.FILTER($V$31:$V$50,$S$31:$S$50=$Y22)*_xlfn._xlws.FILTER(N$27:N$86,$M$27:$M$86=$Z22))} -> 79 | AB22: {=_xlfn._xlws.FILTER(O$27:O$86,$M$27:$M$86=$Z22)} -> 0.015 | AC22: {=_xlfn._xlws.FILTER(P$27:P$86,$M$27:$M$86=$Z22)} -> 0.03 | AD22: {=INT(_xlfn._xlws.FILTER(Q$27:Q$86,$M$27:$M$86=$Z22)*100)} -> 1 | AE22: 30001 | AF22: ="item_"&AE22&"_"&AG22 -> item_30001_5 | AG22: 5
A23: item_10000001_132365,item_20000001_2647 | X23: 2001 | Y23: 1 | Z23: 4 | AA23: {=INT(_xlfn._xlws.FILTER($V$31:$V$50,$S$31:$S$50=$Y23)*_xlfn._xlws.FILTER(N$27:N$86,$M$27:$M$86=$Z23))} -> 90 | AB23: {=_xlfn._xlws.FILTER(O$27:O$86,$M$27:$M$86=$Z23)} -> 0.02 | AC23: {=_xlfn._xlws.FILTER(P$27:P$86,$M$27:$M$86=$Z23)} -> 0.04 | AD23: {=INT(_xlfn._xlws.FILTER(Q$27:Q$86,$M$27:$M$86=$Z23)*100)} -> 2 | AE23: 30001 | AF23: ="item_"&AE23&"_"&AG23 -> item_30001_5 | AG23: 5
A24: item_10000001_141091,item_20000001_2822 | X24: 2001 | Y24: 1 | Z24: 5 | AA24: {=INT(_xlfn._xlws.FILTER($V$31:$V$50,$S$31:$S$50=$Y24)*_xlfn._xlws.FILTER(N$27:N$86,$M$27:$M$86=$Z24))} -> 102 | AB24: {=_xlfn._xlws.FILTER(O$27:O$86,$M$27:$M$86=$Z24)} -> 0.025 | AC24: {=_xlfn._xlws.FILTER(P$27:P$86,$M$27:$M$86=$Z24)} -> 0.05 | AD24: {=INT(_xlfn._xlws.FILTER(Q$27:Q$86,$M$27:$M$86=$Z24)*100)} -> 2 | AE24: 30001 | AF24: ="item_"&AE24&"_"&AG24 -> item_30001_5 | AG24: 5
A25: item_10000001_150000,item_20000001_3000 | X25: 2001 | Y25: 1 | Z25: 6 | AA25: {=INT(_xlfn._xlws.FILTER($V$31:$V$50,$S$31:$S$50=$Y25)*_xlfn._xlws.FILTER(N$27:N$86,$M$27:$M$86=$Z25))} -> 113 | AB25: {=_xlfn._xlws.FILTER(O$27:O$86,$M$27:$M$86=$Z25)} -> 0.03 | AC25: {=_xlfn._xlws.FILTER(P$27:P$86,$M$27:$M$86=$Z25)} -> 0.06 | AD25: {=INT(_xlfn._xlws.FILTER(Q$27:Q$86,$M$27:$M$86=$Z25)*100)} -> 3 | AE25: 30001 | AF25: ="item_"&AE25&"_"&AG25 -> item_30001_7 | AG25: 7
A26: item_10000001_159090,item_20000001_3182 | N26: 攻击加成 | O26: 暴击加成 | P26: 爆伤加成 | Q26: 攻速 | X26: 2001 | Y26: 1 | Z26: 7 | AA26: {=INT(_xlfn._xlws.FILTER($V$31:$V$50,$S$31:$S$50=$Y26)*_xlfn._xlws.FILTER(N$27:N$86,$M$27:$M$86=$Z26))} -> 125 | AB26: {=_xlfn._xlws.FILTER(O$27:O$86,$M$27:$M$86=$Z26)} -> 0.035 | AC26: {=_xlfn._xlws.FILTER(P$27:P$86,$M$27:$M$86=$Z26)} -> 0.07 | AD26: {=INT(_xlfn._xlws.FILTER(Q$27:Q$86,$M$27:$M$86=$Z26)*100)} -> 3 | AE26: 30001 | AF26: ="item_"&AE26&"_"&AG26 -> item_30001_7 | AG26: 7
A27: item_10000001_168355,item_20000001_3367 | M27: 1 | N27: 1.25 | O27: 0.005 | P27: 0.01 | Q27: 0.005 | R27: 5 | X27: 2001 | Y27: 1 | Z27: 8 | AA27: {=INT(_xlfn._xlws.FILTER($V$31:$V$50,$S$31:$S$50=$Y27)*_xlfn._xlws.FILTER(N$27:N$86,$M$27:$M$86=$Z27))} -> 136 | AB27: {=_xlfn._xlws.FILTER(O$27:O$86,$M$27:$M$86=$Z27)} -> 0.04 | AC27: {=_xlfn._xlws.FILTER(P$27:P$86,$M$27:$M$86=$Z27)} -> 0.08 | AD27: {=INT(_xlfn._xlws.FILTER(Q$27:Q$86,$M$27:$M$86=$Z27)*100)} -> 4 | AE27: 30001 | AF27: ="item_"&AE27&"_"&AG27 -> item_30001_7 | AG27: 7
A28: item_10000001_177794,item_20000001_3556 | M28: 2 | N28: 1.5 | O28: 0.01 | P28: 0.02 | Q28: 0.01 | R28: 5 | X28: 2001 | Y28: 1 | Z28: 9 | AA28: {=INT(_xlfn._xlws.FILTER($V$31:$V$50,$S$31:$S$50=$Y28)*_xlfn._xlws.FILTER(N$27:N$86,$M$27:$M$86=$Z28))} -> 147 | AB28: {=_xlfn._xlws.FILTER(O$27:O$86,$M$27:$M$86=$Z28)} -> 0.045 | AC28: {=_xlfn._xlws.FILTER(P$27:P$86,$M$27:$M$86=$Z28)} -> 0.09 | AD28: {=INT(_xlfn._xlws.FILTER(Q$27:Q$86,$M$27:$M$86=$Z28)*100)} -> 4 | AE28: 30001 | AF28: ="item_"&AE28&"_"&AG28 -> item_30001_7 | AG28: 7
A29: item_10000001_187404,item_20000001_3748 | M29: 3 | N29: 1.75 | O29: 0.015 | P29: 0.03 | Q29: 0.015 | R29: 5 | X29: 2001 | Y29: 1 | Z29: 10 | AA29: {=INT(_xlfn._xlws.FILTER($V$31:$V$50,$S$31:$S$50=$Y29)*_xlfn._xlws.FILTER(N$27:N$86,$M$27:$M$86=$Z29))} -> 159 | AB29: {=_xlfn._xlws.FILTER(O$27:O$86,$M$27:$M$86=$Z29)} -> 0.05 | AC29: {=_xlfn._xlws.FILTER(P$27:P$86,$M$27:$M$86=$Z29)} -> 0.1 | AD29: {=INT(_xlfn._xlws.FILTER(Q$27:Q$86,$M$27:$M$86=$Z29)*100)} -> 5 | AE29: 30001 | AF29: ="item_"&AE29&"_"&AG29 -> item_30001_7 | AG29: 7
A30: item_10000001_197180,item_20000001_3943 | M30: 4 | N30: 2 | O30: 0.02 | P30: 0.04 | Q30: 0.02 | R30: 5 | T30: 攻击速度/S | U30: 攻击目标数 | V30: 攻击力 | X30: 2001 | Y30: 1 | Z30: 11 | AA30: {=INT(_xlfn._xlws.FILTER($V$31:$V$50,$S$31:$S$50=$Y30)*_xlfn._xlws.FILTER(N$27:N$86,$M$27:$M$86=$Z30))} -> 170 | AB30: {=_xlfn._xlws.FILTER(O$27:O$86,$M$27:$M$86=$Z30)} -> 0.055 | AC30: {=_xlfn._xlws.FILTER(P$27:P$86,$M$27:$M$86=$Z30)} -> 0.11 | AD30: {=INT(_xlfn._xlws.FILTER(Q$27:Q$86,$M$27:$M$86=$Z30)*100)} -> 5 | AE30: 30001 | AF30: ="item_"&AE30&"_"&AG30 -> item_30001_9 | AG30: 9
A31: item_10000001_207121,item_20000001_4142 | M31: 5 | N31: 2.25 | O31: 0.025 | P31: 0.05 | Q31: 0.025 | R31: 5 | S31: 1 | T31: 2 | U31: 1 | V31: 45.454545 | X31: 2001 | Y31: 1 | Z31: 12 | AA31: {=INT(_xlfn._xlws.FILTER($V$31:$V$50,$S$31:$S$50=$Y31)*_xlfn._xlws.FILTER(N$27:N$86,$M$27:$M$86=$Z31))} -> 181 | AB31: {=_xlfn._xlws.FILTER(O$27:O$86,$M$27:$M$86=$Z31)} -> 0.06 | AC31: {=_xlfn._xlws.FILTER(P$27:P$86,$M$27:$M$86=$Z31)} -> 0.12 | AD31: {=INT(_xlfn._xlws.FILTER(Q$27:Q$86,$M$27:$M$86=$Z31)*100)} -> 6 | AE31: 30001 | AF31: ="item_"&AE31&"_"&AG31 -> item_30001_9 | AG31: 9
A32: item_10000001_217223,item_20000001_4344 | M32: 6 | N32: 2.5 | O32: 0.03 | P32: 0.06 | Q32: 0.03 | R32: 7 | S32: 2 | T32: 1 | U32: 1 | V32: 100 | X32: 2001 | Y32: 1 | Z32: 13 | AA32: {=INT(_xlfn._xlws.FILTER($V$31:$V$50,$S$31:$S$50=$Y32)*_xlfn._xlws.FILTER(N$27:N$86,$M$27:$M$86=$Z32))} -> 193 | AB32: {=_xlfn._xlws.FILTER(O$27:O$86,$M$27:$M$86=$Z32)} -> 0.065 | AC32: {=_xlfn._xlws.FILTER(P$27:P$86,$M$27:$M$86=$Z32)} -> 0.13 | AD32: {=INT(_xlfn._xlws.FILTER(Q$27:Q$86,$M$27:$M$86=$Z32)*100)} -> 6 | AE32: 30001 | AF32: ="item_"&AE32&"_"&AG32 -> item_30001_9 | AG32: 9
A33: item_10000001_227485,item_20000001_4549 | M33: 7 | N33: 2.75 | O33: 0.035 | P33: 0.07 | Q33: 0.035 | R33: 7 | S33: 3 | T33: 1.2 | U33: 1 | V33: 83.333333 | X33: 2001 | Y33: 1 | Z33: 14 | AA33: {=INT(_xlfn._xlws.FILTER($V$31:$V$50,$S$31:$S$50=$Y33)*_xlfn._xlws.FILTER(N$27:N$86,$M$27:$M$86=$Z33))} -> 204 | AB33: {=_xlfn._xlws.FILTER(O$27:O$86,$M$27:$M$86=$Z33)} -> 0.07 | AC33: {=_xlfn._xlws.FILTER(P$27:P$86,$M$27:$M$86=$Z33)} -> 0.14 | AD33: {=INT(_xlfn._xlws.FILTER(Q$27:Q$86,$M$27:$M$86=$Z33)*100)} -> 7 | AE33: 30001 | AF33: ="item_"&AE33&"_"&AG33 -> item_30001_9 | AG33: 9
A34: item_10000001_237902,item_20000001_4758 | M34: 8 | N34: 3 | O34: 0.04 | P34: 0.08 | Q34: 0.04 | R34: 7 | S34: 4 | T34: 1.5 | U34: 1 | V34: 72.727273 | X34: 2001 | Y34: 1 | Z34: 15 | AA34: {=INT(_xlfn._xlws.FILTER($V$31:$V$50,$S$31:$S$50=$Y34)*_xlfn._xlws.FILTER(N$27:N$86,$M$27:$M$86=$Z34))} -> 215 | AB34: {=_xlfn._xlws.FILTER(O$27:O$86,$M$27:$M$86=$Z34)} -> 0.075 | AC34: {=_xlfn._xlws.FILTER(P$27:P$86,$M$27:$M$86=$Z34)} -> 0.15 | AD34: {=INT(_xlfn._xlws.FILTER(Q$27:Q$86,$M$27:$M$86=$Z34)*100)} -> 7 | AE34: 30001 | AF34: ="item_"&AE34&"_"&AG34 -> item_30001_9 | AG34: 9
A35: item_10000001_248476,item_20000001_4969 | M35: 9 | N35: 3.25 | O35: 0.045 | P35: 0.09 | Q35: 0.045 | R35: 7 | S35: 5 | T35: 2 | U35: 1 | V35: 54.545455 | X35: 2001 | Y35: 1 | Z35: 16 | AA35: {=INT(_xlfn._xlws.FILTER($V$31:$V$50,$S$31:$S$50=$Y35)*_xlfn._xlws.FILTER(N$27:N$86,$M$27:$M$86=$Z35))} -> 227 | AB35: {=_xlfn._xlws.FILTER(O$27:O$86,$M$27:$M$86=$Z35)} -> 0.08 | AC35: {=_xlfn._xlws.FILTER(P$27:P$86,$M$27:$M$86=$Z35)} -> 0.16 | AD35: {=INT(_xlfn._xlws.FILTER(Q$27:Q$86,$M$27:$M$86=$Z35)*100)} -> 8 | AE35: 30001 | AF35: ="item_"&AE35&"_"&AG35 -> item_30001_11 | AG35: 11
A36: item_10000001_259200,item_20000001_5184 | M36: 10 | N36: 3.5 | O36: 0.05 | P36: 0.1 | Q36: 0.05 | R36: 7 | S36: 6 | T36: 1 | U36: 4 | V36: 29.545455 | X36: 2001 | Y36: 1 | Z36: 17 | AA36: {=INT(_xlfn._xlws.FILTER($V$31:$V$50,$S$31:$S$50=$Y36)*_xlfn._xlws.FILTER(N$27:N$86,$M$27:$M$86=$Z36))} -> 238 | AB36: {=_xlfn._xlws.FILTER(O$27:O$86,$M$27:$M$86=$Z36)} -> 0.085 | AC36: {=_xlfn._xlws.FILTER(P$27:P$86,$M$27:$M$86=$Z36)} -> 0.17 | AD36: {=INT(_xlfn._xlws.FILTER(Q$27:Q$86,$M$27:$M$86=$Z36)*100)} -> 8 | AE36: 30001 | AF36: ="item_"&AE36&"_"&AG36 -> item_30001_11 | AG36: 11
A37: item_10000001_270074,item_20000001_5401 | I37: 399 | J37: =I37-5 -> 394 | M37: 11 | N37: 3.75 | O37: 0.055 | P37: 0.11 | Q37: 0.055 | R37: 9 | S37: 7 | T37: 1.2 | U37: 1 | V37: 253.33333 | X37: 2001 | Y37: 1 | Z37: 18 | AA37: {=INT(_xlfn._xlws.FILTER($V$31:$V$50,$S$31:$S$50=$Y37)*_xlfn._xlws.FILTER(N$27:N$86,$M$27:$M$86=$Z37))} -> 250 | AB37: {=_xlfn._xlws.FILTER(O$27:O$86,$M$27:$M$86=$Z37)} -> 0.09 | AC37: {=_xlfn._xlws.FILTER(P$27:P$86,$M$27:$M$86=$Z37)} -> 0.18 | AD37: {=INT(_xlfn._xlws.FILTER(Q$27:Q$86,$M$27:$M$86=$Z37)*100)} -> 9 | AE37: 30001 | AF37: ="item_"&AE37&"_"&AG37 -> item_30001_11 | AG37: 11
A38: item_10000001_281098,item_20000001_5622 | I38: 434 | J38: =I38-5 -> 429 | M38: 12 | N38: 4 | O38: 0.06 | P38: 0.12 | Q38: 0.06 | R38: 9 | S38: 8 | T38: 1.1 | U38: 1 | V38: 274.90909 | X38: 2001 | Y38: 1 | Z38: 19 | AA38: {=INT(_xlfn._xlws.FILTER($V$31:$V$50,$S$31:$S$50=$Y38)*_xlfn._xlws.FILTER(N$27:N$86,$M$27:$M$86=$Z38))} -> 261 | AB38: {=_xlfn._xlws.FILTER(O$27:O$86,$M$27:$M$86=$Z38)} -> 0.095 | AC38: {=_xlfn._xlws.FILTER(P$27:P$86,$M$27:$M$86=$Z38)} -> 0.19 | AD38: {=INT(_xlfn._xlws.FILTER(Q$27:Q$86,$M$27:$M$86=$Z38)*100)} -> 9 | AE38: 30001 | AF38: ="item_"&AE38&"_"&AG38 -> item_30001_11 | AG38: 11
A39: item_10000001_292266,item_20000001_5845 | I39: 466 | J39: =I39-5 -> 461 | M39: 13 | N39: 4.25 | O39: 0.065 | P39: 0.13 | Q39: 0.065 | R39: 9 | S39: 9 | T39: 1.5 | U39: 1 | V39: 211.2 | X39: 2001 | Y39: 1 | Z39: 20 | AA39: {=INT(_xlfn._xlws.FILTER($V$31:$V$50,$S$31:$S$50=$Y39)*_xlfn._xlws.FILTER(N$27:N$86,$M$27:$M$86=$Z39))} -> 272 | AB39: {=_xlfn._xlws.FILTER(O$27:O$86,$M$27:$M$86=$Z39)} -> 0.1 | AC39: {=_xlfn._xlws.FILTER(P$27:P$86,$M$27:$M$86=$Z39)} -> 0.2 | AD39: {=INT(_xlfn._xlws.FILTER(Q$27:Q$86,$M$27:$M$86=$Z39)*100)} -> 10 | AE39: 30001 | AF39: ="item_"&AE39&"_"&AG39 -> item_30001_11 | AG39: 11
A40: item_10000001_303578,item_20000001_6072 | I40: 502 | J40: =I40-5 -> 497 | M40: 14 | N40: 4.5 | O40: 0.07 | P40: 0.14 | Q40: 0.07 | R40: 9 | S40: 10 | T40: 1.5 | U40: 3 | V40: 85.866667 | X40: 2001 | Y40: 1 | Z40: 21 | AA40: {=INT(_xlfn._xlws.FILTER($V$31:$V$50,$S$31:$S$50=$Y40)*_xlfn._xlws.FILTER(N$27:N$86,$M$27:$M$86=$Z40))} -> 284 | AB40: {=_xlfn._xlws.FILTER(O$27:O$86,$M$27:$M$86=$Z40)} -> 0.105 | AC40: {=_xlfn._xlws.FILTER(P$27:P$86,$M$27:$M$86=$Z40)} -> 0.21 | AD40: {=INT(_xlfn._xlws.FILTER(Q$27:Q$86,$M$27:$M$86=$Z40)*100)} -> 10 | AE40: 30001 | AF40: ="item_"&AE40&"_"&AG40 -> item_30001_13 | AG40: 13
A41: item_10000001_315034,item_20000001_6301 | I41: 541 | J41: =I41-5 -> 536 | M41: 15 | N41: 4.75 | O41: 0.075 | P41: 0.15 | Q41: 0.075 | R41: 9 | S41: 11 | T41: 1 | U41: 1 | V41: 1440 | X41: 2001 | Y41: 1 | Z41: 22 | AA41: {=INT(_xlfn._xlws.FILTER($V$31:$V$50,$S$31:$S$50=$Y41)*_xlfn._xlws.FILTER(N$27:N$86,$M$27:$M$86=$Z41))} -> 295 | AB41: {=_xlfn._xlws.FILTER(O$27:O$86,$M$27:$M$86=$Z41)} -> 0.11 | AC41: {=_xlfn._xlws.FILTER(P$27:P$86,$M$27:$M$86=$Z41)} -> 0.22 | AD41: {=INT(_xlfn._xlws.FILTER(Q$27:Q$86,$M$27:$M$86=$Z41)*100)} -> 11 | AE41: 30001 | AF41: ="item_"&AE41&"_"&AG41 -> item_30001_13 | AG41: 13
A42: item_10000001_326629,item_20000001_6533 | I42: 582 | J42: =I42-5 -> 577 | M42: 16 | N42: 5 | O42: 0.08 | P42: 0.16 | Q42: 0.08 | R42: 11 | S42: 12 | T42: 1.2 | U42: 1 | V42: 1488 | X42: 2001 | Y42: 1 | Z42: 23 | AA42: {=INT(_xlfn._xlws.FILTER($V$31:$V$50,$S$31:$S$50=$Y42)*_xlfn._xlws.FILTER(N$27:N$86,$M$27:$M$86=$Z42))} -> 306 | AB42: {=_xlfn._xlws.FILTER(O$27:O$86,$M$27:$M$86=$Z42)} -> 0.115 | AC42: {=_xlfn._xlws.FILTER(P$27:P$86,$M$27:$M$86=$Z42)} -> 0.23 | AD42: {=INT(_xlfn._xlws.FILTER(Q$27:Q$86,$M$27:$M$86=$Z42)*100)} -> 11 | AE42: 30001 | AF42: ="item_"&AE42&"_"&AG42 -> item_30001_13 | AG42: 13
A43: item_10000001_338364,item_20000001_6767 | I43: 625 | J43: =I43-5 -> 620 | M43: 17 | N43: 5.25 | O43: 0.085 | P43: 0.17 | Q43: 0.085 | R43: 11 | S43: 13 | T43: 1.5 | U43: 1 | V43: 1158.6207 | X43: 2001 | Y43: 1 | Z43: 24 | AA43: {=INT(_xlfn._xlws.FILTER($V$31:$V$50,$S$31:$S$50=$Y43)*_xlfn._xlws.FILTER(N$27:N$86,$M$27:$M$86=$Z43))} -> 318 | AB43: {=_xlfn._xlws.FILTER(O$27:O$86,$M$27:$M$86=$Z43)} -> 0.12 | AC43: {=_xlfn._xlws.FILTER(P$27:P$86,$M$27:$M$86=$Z43)} -> 0.24 | AD43: {=INT(_xlfn._xlws.FILTER(Q$27:Q$86,$M$27:$M$86=$Z43)*100)} -> 12 | AE43: 30001 | AF43: ="item_"&AE43&"_"&AG43 -> item_30001_13 | AG43: 13
A44: item_10000001_350236,item_20000001_7004 | I44: 669 | J44: =I44-5 -> 664 | M44: 18 | N44: 5.5 | O44: 0.09 | P44: 0.18 | Q44: 0.09 | R44: 11 | S44: 14 | T44: 1.6 | U44: 1 | V44: 4224.1379 | X44: 2001 | Y44: 1 | Z44: 25 | AA44: {=INT(_xlfn._xlws.FILTER($V$31:$V$50,$S$31:$S$50=$Y44)*_xlfn._xlws.FILTER(N$27:N$86,$M$27:$M$86=$Z44))} -> 329 | AB44: {=_xlfn._xlws.FILTER(O$27:O$86,$M$27:$M$86=$Z44)} -> 0.125 | AC44: {=_xlfn._xlws.FILTER(P$27:P$86,$M$27:$M$86=$Z44)} -> 0.25 | AD44: {=INT(_xlfn._xlws.FILTER(Q$27:Q$86,$M$27:$M$86=$Z44)*100)} -> 12 | AE44: 30001 | AF44: ="item_"&AE44&"_"&AG44 -> item_30001_13 | AG44: 13
A45: item_10000001_362243,item_20000001_7244 | I45: 714 | J45: =I45-5 -> 709 | M45: 19 | N45: 5.75 | O45: 0.095 | P45: 0.19 | Q45: 0.095 | R45: 11 | S45: 15 | T45: 2.2 | U45: 1 | V45: 3009.4044 | X45: 2001 | Y45: 1 | Z45: 26 | AA45: {=INT(_xlfn._xlws.FILTER($V$31:$V$50,$S$31:$S$50=$Y45)*_xlfn._xlws.FILTER(N$27:N$86,$M$27:$M$86=$Z45))} -> 340 | AB45: {=_xlfn._xlws.FILTER(O$27:O$86,$M$27:$M$86=$Z45)} -> 0.13 | AC45: {=_xlfn._xlws.FILTER(P$27:P$86,$M$27:$M$86=$Z45)} -> 0.26 | AD45: {=INT(_xlfn._xlws.FILTER(Q$27:Q$86,$M$27:$M$86=$Z45)*100)} -> 13 | AE45: 30001 | AF45: ="item_"&AE45&"_"&AG45 -> item_30001_15 | AG45: 15
A46: item_10000001_374384,item_20000001_7488 | I46: 761 | J46: =I46-5 -> 756 | M46: 20 | N46: 6 | O46: 0.1 | P46: 0.2 | Q46: 0.1 | R46: 11 | S46: 16 | T46: 1.2 | U46: 1 | V46: 6724.1379 | X46: 2001 | Y46: 1 | Z46: 27 | AA46: {=INT(_xlfn._xlws.FILTER($V$31:$V$50,$S$31:$S$50=$Y46)*_xlfn._xlws.FILTER(N$27:N$86,$M$27:$M$86=$Z46))} -> 352 | AB46: {=_xlfn._xlws.FILTER(O$27:O$86,$M$27:$M$86=$Z46)} -> 0.135 | AC46: {=_xlfn._xlws.FILTER(P$27:P$86,$M$27:$M$86=$Z46)} -> 0.27 | AD46: {=INT(_xlfn._xlws.FILTER(Q$27:Q$86,$M$27:$M$86=$Z46)*100)} -> 13 | AE46: 30001 | AF46: ="item_"&AE46&"_"&AG46 -> item_30001_15 | AG46: 15
A47: item_10000001_386659,item_20000001_7733 | I47: 809 | J47: =I47-5 -> 804 | M47: 21 | N47: 6.25 | O47: 0.105 | P47: 0.21 | Q47: 0.105 | R47: 13 | S47: 17 | T47: 1.3 | U47: 4 | V47: 7601.81 | X47: 2001 | Y47: 1 | Z47: 28 | AA47: {=INT(_xlfn._xlws.FILTER($V$31:$V$50,$S$31:$S$50=$Y47)*_xlfn._xlws.FILTER(N$27:N$86,$M$27:$M$86=$Z47))} -> 363 | AB47: {=_xlfn._xlws.FILTER(O$27:O$86,$M$27:$M$86=$Z47)} -> 0.14 | AC47: {=_xlfn._xlws.FILTER(P$27:P$86,$M$27:$M$86=$Z47)} -> 0.28 | AD47: {=INT(_xlfn._xlws.FILTER(Q$27:Q$86,$M$27:$M$86=$Z47)*100)} -> 14 | AE47: 30001 | AF47: ="item_"&AE47&"_"&AG47 -> item_30001_15 | AG47: 15
A48: item_10000001_399065,item_20000001_7981 | I48: 857 | J48: =I48-5 -> 852 | M48: 22 | N48: 6.5 | O48: 0.11 | P48: 0.22 | Q48: 0.11 | R48: 13 | S48: 18 | T48: 1.5 | U48: 1 | V48: 20705.882 | X48: 2001 | Y48: 1 | Z48: 29 | AA48: {=INT(_xlfn._xlws.FILTER($V$31:$V$50,$S$31:$S$50=$Y48)*_xlfn._xlws.FILTER(N$27:N$86,$M$27:$M$86=$Z48))} -> 375 | AB48: {=_xlfn._xlws.FILTER(O$27:O$86,$M$27:$M$86=$Z48)} -> 0.145 | AC48: {=_xlfn._xlws.FILTER(P$27:P$86,$M$27:$M$86=$Z48)} -> 0.29 | AD48: {=INT(_xlfn._xlws.FILTER(Q$27:Q$86,$M$27:$M$86=$Z48)*100)} -> 14 | AE48: 30001 | AF48: ="item_"&AE48&"_"&AG48 -> item_30001_15 | AG48: 15
... A50: item_10000001_424264,item_20000001_8485 | I50: 956 | J50: =I50-5 -> 951 | M50: 24 | N50: 7 | O50: 0.12 | P50: 0.24 | Q50: 0.12 | R50: 13 | S50: 20 | T50: 2 | U50: 1 | V50: 12647.059 | X50: 2001 | Y50: 1 | Z50: 31 | AA50: {=INT(_xlfn._xlws.FILTER($V$31:$V$50,$S$31:$S$50=$Y50)*_xlfn._xlws.FILTER(N$27:N$86,$M$27:$M$86=$Z50))} -> 397 | AB50: {=_xlfn._xlws.FILTER(O$27:O$86,$M$27:$M$86=$Z50)} -> 0.155 | AC50: {=_xlfn._xlws.FILTER(P$27:P$86,$M$27:$M$86=$Z50)} -> 0.31 | AD50: {=INT(_xlfn._xlws.FILTER(Q$27:Q$86,$M$27:$M$86=$Z50)*100)} -> 15 | AE50: 30001 | AF50: ="item_"&AE50&"_"&AG50 -> item_30001_17 | AG50: 17
A51: item_10000001_437056,item_20000001_8741 | I51: 1006 | J51: =I51-5 -> 1001 | M51: 25 | N51: 7.25 | O51: 0.125 | P51: 0.25 | Q51: 0.125 | R51: 13 | X51: 2001 | Y51: 1 | Z51: 32 | AA51: {=INT(_xlfn._xlws.FILTER($V$31:$V$50,$S$31:$S$50=$Y51)*_xlfn._xlws.FILTER(N$27:N$86,$M$27:$M$86=$Z51))} -> 409 | AB51: {=_xlfn._xlws.FILTER(O$27:O$86,$M$27:$M$86=$Z51)} -> 0.16 | AC51: {=_xlfn._xlws.FILTER(P$27:P$86,$M$27:$M$86=$Z51)} -> 0.32 | AD51: {=INT(_xlfn._xlws.FILTER(Q$27:Q$86,$M$27:$M$86=$Z51)*100)} -> 16 | AE51: 30001 | AF51: ="item_"&AE51&"_"&AG51 -> item_30001_17 | AG51: 17
A52: item_10000001_449972,item_20000001_9000 | I52: 1058 | J52: =I52-5 -> 1053 | M52: 26 | N52: 7.5 | O52: 0.13 | P52: 0.26 | Q52: 0.13 | R52: 15 | X52: 2001 | Y52: 1 | Z52: 33 | AA52: {=INT(_xlfn._xlws.FILTER($V$31:$V$50,$S$31:$S$50=$Y52)*_xlfn._xlws.FILTER(N$27:N$86,$M$27:$M$86=$Z52))} -> 420 | AB52: {=_xlfn._xlws.FILTER(O$27:O$86,$M$27:$M$86=$Z52)} -> 0.165 | AC52: {=_xlfn._xlws.FILTER(P$27:P$86,$M$27:$M$86=$Z52)} -> 0.33 | AD52: {=INT(_xlfn._xlws.FILTER(Q$27:Q$86,$M$27:$M$86=$Z52)*100)} -> 16 | AE52: 30001 | AF52: ="item_"&AE52&"_"&AG52 -> item_30001_17 | AG52: 17
A53: item_10000001_463015,item_20000001_9260 | I53: 1110 | J53: =I53-5 -> 1105 | M53: 27 | N53: 7.75 | O53: 0.135 | P53: 0.27 | Q53: 0.135 | R53: 15 | X53: 2001 | Y53: 1 | Z53: 34 | AA53: {=INT(_xlfn._xlws.FILTER($V$31:$V$50,$S$31:$S$50=$Y53)*_xlfn._xlws.FILTER(N$27:N$86,$M$27:$M$86=$Z53))} -> 431 | AB53: {=_xlfn._xlws.FILTER(O$27:O$86,$M$27:$M$86=$Z53)} -> 0.17 | AC53: {=_xlfn._xlws.FILTER(P$27:P$86,$M$27:$M$86=$Z53)} -> 0.34 | AD53: {=INT(_xlfn._xlws.FILTER(Q$27:Q$86,$M$27:$M$86=$Z53)*100)} -> 17 | AE53: 30001 | AF53: ="item_"&AE53&"_"&AG53 -> item_30001_17 | AG53: 17
A54: item_10000001_476180,item_20000001_9523 | I54: 1162 | J54: =I54-5 -> 1157 | M54: 28 | N54: 8 | O54: 0.14 | P54: 0.28 | Q54: 0.14 | R54: 15 | X54: 2001 | Y54: 1 | Z54: 35 | AA54: {=INT(_xlfn._xlws.FILTER($V$31:$V$50,$S$31:$S$50=$Y54)*_xlfn._xlws.FILTER(N$27:N$86,$M$27:$M$86=$Z54))} -> 443 | AB54: {=_xlfn._xlws.FILTER(O$27:O$86,$M$27:$M$86=$Z54)} -> 0.175 | AC54: {=_xlfn._xlws.FILTER(P$27:P$86,$M$27:$M$86=$Z54)} -> 0.35 | AD54: {=INT(_xlfn._xlws.FILTER(Q$27:Q$86,$M$27:$M$86=$Z54)*100)} -> 17 | AE54: 30001 | AF54: ="item_"&AE54&"_"&AG54 -> item_30001_17 | AG54: 17
A55: item_10000001_489469,item_20000001_9790 | I55: 1216 | J55: =I55-5 -> 1211 | M55: 29 | N55: 8.25 | O55: 0.145 | P55: 0.29 | Q55: 0.145 | R55: 15 | X55: 2001 | Y55: 1 | Z55: 36 | AA55: {=INT(_xlfn._xlws.FILTER($V$31:$V$50,$S$31:$S$50=$Y55)*_xlfn._xlws.FILTER(N$27:N$86,$M$27:$M$86=$Z55))} -> 454 | AB55: {=_xlfn._xlws.FILTER(O$27:O$86,$M$27:$M$86=$Z55)} -> 0.18 | AC55: {=_xlfn._xlws.FILTER(P$27:P$86,$M$27:$M$86=$Z55)} -> 0.36 | AD55: {=INT(_xlfn._xlws.FILTER(Q$27:Q$86,$M$27:$M$86=$Z55)*100)} -> 18 | AE55: 30001 | AF55: ="item_"&AE55&"_"&AG55 -> item_30001_19 | AG55: 19
A56: item_10000001_502879,item_20000001_10057 | I56: 1270 | J56: =I56-5 -> 1265 | M56: 30 | N56: 8.5 | O56: 0.15 | P56: 0.3 | Q56: 0.15 | R56: 15 | X56: 2001 | Y56: 1 | Z56: 37 | AA56: {=INT(_xlfn._xlws.FILTER($V$31:$V$50,$S$31:$S$50=$Y56)*_xlfn._xlws.FILTER(N$27:N$86,$M$27:$M$86=$Z56))} -> 465 | AB56: {=_xlfn._xlws.FILTER(O$27:O$86,$M$27:$M$86=$Z56)} -> 0.185 | AC56: {=_xlfn._xlws.FILTER(P$27:P$86,$M$27:$M$86=$Z56)} -> 0.37 | AD56: {=INT(_xlfn._xlws.FILTER(Q$27:Q$86,$M$27:$M$86=$Z56)*100)} -> 18 | AE56: 30001 | AF56: ="item_"&AE56&"_"&AG56 -> item_30001_19 | AG56: 19
A57: item_10000001_516409,item_20000001_10328 | I57: 1324 | J57: =I57-5 -> 1319 | M57: 31 | N57: 8.75 | O57: 0.155 | P57: 0.31 | Q57: 0.155 | R57: 17 | X57: 2001 | Y57: 1 | Z57: 38 | AA57: {=INT(_xlfn._xlws.FILTER($V$31:$V$50,$S$31:$S$50=$Y57)*_xlfn._xlws.FILTER(N$27:N$86,$M$27:$M$86=$Z57))} -> 477 | AB57: {=_xlfn._xlws.FILTER(O$27:O$86,$M$27:$M$86=$Z57)} -> 0.19 | AC57: {=_xlfn._xlws.FILTER(P$27:P$86,$M$27:$M$86=$Z57)} -> 0.38 | AD57: {=INT(_xlfn._xlws.FILTER(Q$27:Q$86,$M$27:$M$86=$Z57)*100)} -> 19 | AE57: 30001 | AF57: ="item_"&AE57&"_"&AG57 -> item_30001_19 | AG57: 19
A58: item_10000001_530058,item_20000001_10601 | I58: 1380 | J58: =I58-5 -> 1375 | M58: 32 | N58: 9 | O58: 0.16 | P58: 0.32 | Q58: 0.16 | R58: 17 | X58: 2001 | Y58: 1 | Z58: 39 | AA58: {=INT(_xlfn._xlws.FILTER($V$31:$V$50,$S$31:$S$50=$Y58)*_xlfn._xlws.FILTER(N$27:N$86,$M$27:$M$86=$Z58))} -> 488 | AB58: {=_xlfn._xlws.FILTER(O$27:O$86,$M$27:$M$86=$Z58)} -> 0.195 | AC58: {=_xlfn._xlws.FILTER(P$27:P$86,$M$27:$M$86=$Z58)} -> 0.39 | AD58: {=INT(_xlfn._xlws.FILTER(Q$27:Q$86,$M$27:$M$86=$Z58)*100)} -> 19 | AE58: 30001 | AF58: ="item_"&AE58&"_"&AG58 -> item_30001_19 | AG58: 19
A59: item_10000001_543826,item_20000001_10877 | I59: 1435 | J59: =I59-5 -> 1430 | M59: 33 | N59: 9.25 | O59: 0.165 | P59: 0.33 | Q59: 0.165 | R59: 17 | X59: 2001 | Y59: 1 | Z59: 40 | AA59: {=INT(_xlfn._xlws.FILTER($V$31:$V$50,$S$31:$S$50=$Y59)*_xlfn._xlws.FILTER(N$27:N$86,$M$27:$M$86=$Z59))} -> 500 | AB59: {=_xlfn._xlws.FILTER(O$27:O$86,$M$27:$M$86=$Z59)} -> 0.2 | AC59: {=_xlfn._xlws.FILTER(P$27:P$86,$M$27:$M$86=$Z59)} -> 0.4 | AD59: {=INT(_xlfn._xlws.FILTER(Q$27:Q$86,$M$27:$M$86=$Z59)*100)} -> 20 | AE59: 30001 | AF59: ="item_"&AE59&"_"&AG59 -> item_30001_19 | AG59: 19
A60: item_10000001_557710,item_20000001_11154 | I60: 1492 | J60: =I60-5 -> 1487 | M60: 34 | N60: 9.5 | O60: 0.17 | P60: 0.34 | Q60: 0.17 | R60: 17 | X60: 2001 | Y60: 1 | Z60: 41 | AA60: {=INT(_xlfn._xlws.FILTER($V$31:$V$50,$S$31:$S$50=$Y60)*_xlfn._xlws.FILTER(N$27:N$86,$M$27:$M$86=$Z60))} -> 511 | AB60: {=_xlfn._xlws.FILTER(O$27:O$86,$M$27:$M$86=$Z60)} -> 0.205 | AC60: {=_xlfn._xlws.FILTER(P$27:P$86,$M$27:$M$86=$Z60)} -> 0.41 | AD60: {=INT(_xlfn._xlws.FILTER(Q$27:Q$86,$M$27:$M$86=$Z60)*100)} -> 20 | AE60: 30001 | AF60: ="item_"&AE60&"_"&AG60 -> item_30001_22 | AG60: 22
A61: item_10000001_571710,item_20000001_11435 | I61: 1548 | J61: =I61-5 -> 1543 | M61: 35 | N61: 9.75 | O61: 0.175 | P61: 0.35 | Q61: 0.175 | R61: 17 | X61: 2001 | Y61: 1 | Z61: 42 | AA61: {=INT(_xlfn._xlws.FILTER($V$31:$V$50,$S$31:$S$50=$Y61)*_xlfn._xlws.FILTER(N$27:N$86,$M$27:$M$86=$Z61))} -> 522 | AB61: {=_xlfn._xlws.FILTER(O$27:O$86,$M$27:$M$86=$Z61)} -> 0.21 | AC61: {=_xlfn._xlws.FILTER(P$27:P$86,$M$27:$M$86=$Z61)} -> 0.42 | AD61: {=INT(_xlfn._xlws.FILTER(Q$27:Q$86,$M$27:$M$86=$Z61)*100)} -> 21 | AE61: 30001 | AF61: ="item_"&AE61&"_"&AG61 -> item_30001_22 | AG61: 22
A62: item_10000001_585826,item_20000001_11717 | I62: 1606 | J62: =I62-5 -> 1601 | M62: 36 | N62: 10 | O62: 0.18 | P62: 0.36 | Q62: 0.18 | R62: 19 | X62: 2001 | Y62: 1 | Z62: 43 | AA62: {=INT(_xlfn._xlws.FILTER($V$31:$V$50,$S$31:$S$50=$Y62)*_xlfn._xlws.FILTER(N$27:N$86,$M$27:$M$86=$Z62))} -> 534 | AB62: {=_xlfn._xlws.FILTER(O$27:O$86,$M$27:$M$86=$Z62)} -> 0.215 | AC62: {=_xlfn._xlws.FILTER(P$27:P$86,$M$27:$M$86=$Z62)} -> 0.43 | AD62: {=INT(_xlfn._xlws.FILTER(Q$27:Q$86,$M$27:$M$86=$Z62)*100)} -> 21 | AE62: 30001 | AF62: ="item_"&AE62&"_"&AG62 -> item_30001_22 | AG62: 22
... A79: item_10000001_842600,item_20000001_16852 | I79: 2645 | J79: =I79-5 -> 2640 | M79: 53 | N79: 14.25 | O79: 0.265 | P79: 0.53 | Q79: 0.265 | R79: 28 | X79: 2001 | Y79: 1 | Z79: 60 | AA79: {=INT(_xlfn._xlws.FILTER($V$31:$V$50,$S$31:$S$50=$Y79)*_xlfn._xlws.FILTER(N$27:N$86,$M$27:$M$86=$Z79))} -> 727 | AB79: {=_xlfn._xlws.FILTER(O$27:O$86,$M$27:$M$86=$Z79)} -> 0.3 | AC79: {=_xlfn._xlws.FILTER(P$27:P$86,$M$27:$M$86=$Z79)} -> 0.6 | AD79: {=INT(_xlfn._xlws.FILTER(Q$27:Q$86,$M$27:$M$86=$Z79)*100)} -> 30 | AE79: 30001 | AF79: ="item_"&AE79&"_"&AG79 -> item_30001_31 | AG79: 31
A80: item_10000001_858650,item_20000001_17173 | I80: 2709 | J80: =I80-5 -> 2704 | M80: 54 | N80: 14.5 | O80: 0.27 | P80: 0.54 | Q80: 0.27 | R80: 28 | X80: =X20+1 -> 2002 | Y80: =Y20+1 -> 2 | Z80: =Z20 -> 1 | AA80: {=INT(_xlfn._xlws.FILTER($V$31:$V$50,$S$31:$S$50=$Y80)*_xlfn._xlws.FILTER(N$27:N$86,$M$27:$M$86=$Z80))} -> 125 | AB80: {=_xlfn._xlws.FILTER(O$27:O$86,$M$27:$M$86=$Z80)} -> 0.005 | AC80: {=_xlfn._xlws.FILTER(P$27:P$86,$M$27:$M$86=$Z80)} -> 0.01 | AD80: {=INT(_xlfn._xlws.FILTER(Q$27:Q$86,$M$27:$M$86=$Z80)*100)} -> 0 | AE80: =AE20+1 -> 30002 | AF80: ="item_"&AE80&"_"&AG80 -> item_30002_5 | AG80: =AG20 -> 5
A81: item_10000001_874800,item_20000001_17496 | I81: 2774 | J81: =I81-5 -> 2769 | M81: 55 | N81: 14.75 | O81: 0.275 | P81: 0.55 | Q81: 0.275 | R81: 28 | X81: =X21+1 -> 2002 | Y81: =Y21+1 -> 2 | Z81: =Z21 -> 2 | AA81: {=INT(_xlfn._xlws.FILTER($V$31:$V$50,$S$31:$S$50=$Y81)*_xlfn._xlws.FILTER(N$27:N$86,$M$27:$M$86=$Z81))} -> 150 | AB81: {=_xlfn._xlws.FILTER(O$27:O$86,$M$27:$M$86=$Z81)} -> 0.01 | AC81: {=_xlfn._xlws.FILTER(P$27:P$86,$M$27:$M$86=$Z81)} -> 0.02 | AD81: {=INT(_xlfn._xlws.FILTER(Q$27:Q$86,$M$27:$M$86=$Z81)*100)} -> 1 | AE81: =AE21+1 -> 30002 | AF81: ="item_"&AE81&"_"&AG81 -> item_30002_5 | AG81: =AG21 -> 5
A82: item_10000001_891050,item_20000001_17821 | I82: 2839 | J82: =I82-5 -> 2834 | M82: 56 | N82: 15 | O82: 0.28 | P82: 0.56 | Q82: 0.28 | R82: 31 | X82: =X22+1 -> 2002 | Y82: =Y22+1 -> 2 | Z82: =Z22 -> 3 | AA82: {=INT(_xlfn._xlws.FILTER($V$31:$V$50,$S$31:$S$50=$Y82)*_xlfn._xlws.FILTER(N$27:N$86,$M$27:$M$86=$Z82))} -> 175 | AB82: {=_xlfn._xlws.FILTER(O$27:O$86,$M$27:$M$86=$Z82)} -> 0.015 | AC82: {=_xlfn._xlws.FILTER(P$27:P$86,$M$27:$M$86=$Z82)} -> 0.03 | AD82: {=INT(_xlfn._xlws.FILTER(Q$27:Q$86,$M$27:$M$86=$Z82)*100)} -> 1 | AE82: =AE22+1 -> 30002 | AF82: ="item_"&AE82&"_"&AG82 -> item_30002_5 | AG82: =AG22 -> 5
A83: item_10000001_907399,item_20000001_18148 | I83: 2904 | J83: =I83-5 -> 2899 | M83: 57 | N83: 15.25 | O83: 0.285 | P83: 0.57 | Q83: 0.285 | R83: 31 | X83: =X23+1 -> 2002 | Y83: =Y23+1 -> 2 | Z83: =Z23 -> 4 | AA83: {=INT(_xlfn._xlws.FILTER($V$31:$V$50,$S$31:$S$50=$Y83)*_xlfn._xlws.FILTER(N$27:N$86,$M$27:$M$86=$Z83))} -> 200 | AB83: {=_xlfn._xlws.FILTER(O$27:O$86,$M$27:$M$86=$Z83)} -> 0.02 | AC83: {=_xlfn._xlws.FILTER(P$27:P$86,$M$27:$M$86=$Z83)} -> 0.04 | AD83: {=INT(_xlfn._xlws.FILTER(Q$27:Q$86,$M$27:$M$86=$Z83)*100)} -> 2 | AE83: =AE23+1 -> 30002 | AF83: ="item_"&AE83&"_"&AG83 -> item_30002_5 | AG83: =AG23 -> 5
A84: item_10000001_923848,item_20000001_18476 | I84: 2969 | J84: =I84-5 -> 2964 | M84: 58 | N84: 15.5 | O84: 0.29 | P84: 0.58 | Q84: 0.29 | R84: 31 | X84: =X24+1 -> 2002 | Y84: =Y24+1 -> 2 | Z84: =Z24 -> 5 | AA84: {=INT(_xlfn._xlws.FILTER($V$31:$V$50,$S$31:$S$50=$Y84)*_xlfn._xlws.FILTER(N$27:N$86,$M$27:$M$86=$Z84))} -> 225 | AB84: {=_xlfn._xlws.FILTER(O$27:O$86,$M$27:$M$86=$Z84)} -> 0.025 | AC84: {=_xlfn._xlws.FILTER(P$27:P$86,$M$27:$M$86=$Z84)} -> 0.05 | AD84: {=INT(_xlfn._xlws.FILTER(Q$27:Q$86,$M$27:$M$86=$Z84)*100)} -> 2 | AE84: =AE24+1 -> 30002 | AF84: ="item_"&AE84&"_"&AG84 -> item_30002_5 | AG84: =AG24 -> 5
A85: item_10000001_940393,item_20000001_18808 | I85: 3035 | J85: =I85-5 -> 3030 | M85: 59 | N85: 15.75 | O85: 0.295 | P85: 0.59 | Q85: 0.295 | R85: 31 | X85: =X25+1 -> 2002 | Y85: =Y25+1 -> 2 | Z85: =Z25 -> 6 | AA85: {=INT(_xlfn._xlws.FILTER($V$31:$V$50,$S$31:$S$50=$Y85)*_xlfn._xlws.FILTER(N$27:N$86,$M$27:$M$86=$Z85))} -> 250 | AB85: {=_xlfn._xlws.FILTER(O$27:O$86,$M$27:$M$86=$Z85)} -> 0.03 | AC85: {=_xlfn._xlws.FILTER(P$27:P$86,$M$27:$M$86=$Z85)} -> 0.06 | AD85: {=INT(_xlfn._xlws.FILTER(Q$27:Q$86,$M$27:$M$86=$Z85)*100)} -> 3 | AE85: =AE25+1 -> 30002 | AF85: ="item_"&AE85&"_"&AG85 -> item_30002_7 | AG85: =AG25 -> 7
A86: item_10000001_957037,item_20000001_19141 | I86: 3101 | J86: =I86-5 -> 3096 | M86: 60 | N86: 16 | O86: 0.3 | P86: 0.6 | Q86: 0.3 | R86: 31 | X86: =X26+1 -> 2002 | Y86: =Y26+1 -> 2 | Z86: =Z26 -> 7 | AA86: {=INT(_xlfn._xlws.FILTER($V$31:$V$50,$S$31:$S$50=$Y86)*_xlfn._xlws.FILTER(N$27:N$86,$M$27:$M$86=$Z86))} -> 275 | AB86: {=_xlfn._xlws.FILTER(O$27:O$86,$M$27:$M$86=$Z86)} -> 0.035 | AC86: {=_xlfn._xlws.FILTER(P$27:P$86,$M$27:$M$86=$Z86)} -> 0.07 | AD86: {=INT(_xlfn._xlws.FILTER(Q$27:Q$86,$M$27:$M$86=$Z86)*100)} -> 3 | AE86: =AE26+1 -> 30002 | AF86: ="item_"&AE86&"_"&AG86 -> item_30002_7 | AG86: =AG26 -> 7
A87: item_10000001_973778,item_20000001_19476 | I87: 3168 | J87: =I87-5 -> 3163 | X87: =X27+1 -> 2002 | Y87: =Y27+1 -> 2 | Z87: =Z27 -> 8 | AA87: {=INT(_xlfn._xlws.FILTER($V$31:$V$50,$S$31:$S$50=$Y87)*_xlfn._xlws.FILTER(N$27:N$86,$M$27:$M$86=$Z87))} -> 300 | AB87: {=_xlfn._xlws.FILTER(O$27:O$86,$M$27:$M$86=$Z87)} -> 0.04 | AC87: {=_xlfn._xlws.FILTER(P$27:P$86,$M$27:$M$86=$Z87)} -> 0.08 | AD87: {=INT(_xlfn._xlws.FILTER(Q$27:Q$86,$M$27:$M$86=$Z87)*100)} -> 4 | AE87: =AE27+1 -> 30002 | AF87: ="item_"&AE87&"_"&AG87 -> item_30002_7 | AG87: =AG27 -> 7
A88: item_10000001_990616,item_20000001_19812 | I88: 3235 | J88: =I88-5 -> 3230 | X88: =X28+1 -> 2002 | Y88: =Y28+1 -> 2 | Z88: =Z28 -> 9 | AA88: {=INT(_xlfn._xlws.FILTER($V$31:$V$50,$S$31:$S$50=$Y88)*_xlfn._xlws.FILTER(N$27:N$86,$M$27:$M$86=$Z88))} -> 325 | AB88: {=_xlfn._xlws.FILTER(O$27:O$86,$M$27:$M$86=$Z88)} -> 0.045 | AC88: {=_xlfn._xlws.FILTER(P$27:P$86,$M$27:$M$86=$Z88)} -> 0.09 | AD88: {=INT(_xlfn._xlws.FILTER(Q$27:Q$86,$M$27:$M$86=$Z88)*100)} -> 4 | AE88: =AE28+1 -> 30002 | AF88: ="item_"&AE88&"_"&AG88 -> item_30002_7 | AG88: =AG28 -> 7
A89: item_10000001_1007549,item_20000001_20150 | I89: 3302 | J89: =I89-5 -> 3297 | X89: =X29+1 -> 2002 | Y89: =Y29+1 -> 2 | Z89: =Z29 -> 10 | AA89: {=INT(_xlfn._xlws.FILTER($V$31:$V$50,$S$31:$S$50=$Y89)*_xlfn._xlws.FILTER(N$27:N$86,$M$27:$M$86=$Z89))} -> 350 | AB89: {=_xlfn._xlws.FILTER(O$27:O$86,$M$27:$M$86=$Z89)} -> 0.05 | AC89: {=_xlfn._xlws.FILTER(P$27:P$86,$M$27:$M$86=$Z89)} -> 0.1 | AD89: {=INT(_xlfn._xlws.FILTER(Q$27:Q$86,$M$27:$M$86=$Z89)*100)} -> 5 | AE89: =AE29+1 -> 30002 | AF89: ="item_"&AE89&"_"&AG89 -> item_30002_7 | AG89: =AG29 -> 7
A90: item_10000001_1024578,item_20000001_20491 | I90: 3369 | J90: =I90-5 -> 3364 | X90: =X30+1 -> 2002 | Y90: =Y30+1 -> 2 | Z90: =Z30 -> 11 | AA90: {=INT(_xlfn._xlws.FILTER($V$31:$V$50,$S$31:$S$50=$Y90)*_xlfn._xlws.FILTER(N$27:N$86,$M$27:$M$86=$Z90))} -> 375 | AB90: {=_xlfn._xlws.FILTER(O$27:O$86,$M$27:$M$86=$Z90)} -> 0.055 | AC90: {=_xlfn._xlws.FILTER(P$27:P$86,$M$27:$M$86=$Z90)} -> 0.11 | AD90: {=INT(_xlfn._xlws.FILTER(Q$27:Q$86,$M$27:$M$86=$Z90)*100)} -> 5 | AE90: =AE30+1 -> 30002 | AF90: ="item_"&AE90&"_"&AG90 -> item_30002_9 | AG90: =AG30 -> 9
A91: item_10000001_1041702,item_20000001_20834 | I91: 3436 | J91: =I91-5 -> 3431 | X91: =X31+1 -> 2002 | Y91: =Y31+1 -> 2 | Z91: =Z31 -> 12 | AA91: {=INT(_xlfn._xlws.FILTER($V$31:$V$50,$S$31:$S$50=$Y91)*_xlfn._xlws.FILTER(N$27:N$86,$M$27:$M$86=$Z91))} -> 400 | AB91: {=_xlfn._xlws.FILTER(O$27:O$86,$M$27:$M$86=$Z91)} -> 0.06 | AC91: {=_xlfn._xlws.FILTER(P$27:P$86,$M$27:$M$86=$Z91)} -> 0.12 | AD91: {=INT(_xlfn._xlws.FILTER(Q$27:Q$86,$M$27:$M$86=$Z91)*100)} -> 6 | AE91: =AE31+1 -> 30002 | AF91: ="item_"&AE91&"_"&AG91 -> item_30002_9 | AG91: =AG31 -> 9
A92: item_10000001_1058920,item_20000001_21179 | I92: 3503 | J92: =I92-5 -> 3498 | X92: =X32+1 -> 2002 | Y92: =Y32+1 -> 2 | Z92: =Z32 -> 13 | AA92: {=INT(_xlfn._xlws.FILTER($V$31:$V$50,$S$31:$S$50=$Y92)*_xlfn._xlws.FILTER(N$27:N$86,$M$27:$M$86=$Z92))} -> 425 | AB92: {=_xlfn._xlws.FILTER(O$27:O$86,$M$27:$M$86=$Z92)} -> 0.065 | AC92: {=_xlfn._xlws.FILTER(P$27:P$86,$M$27:$M$86=$Z92)} -> 0.13 | AD92: {=INT(_xlfn._xlws.FILTER(Q$27:Q$86,$M$27:$M$86=$Z92)*100)} -> 6 | AE92: =AE32+1 -> 30002 | AF92: ="item_"&AE92&"_"&AG92 -> item_30002_9 | AG92: =AG32 -> 9
A93: item_10000001_1076232,item_20000001_21524 | I93: 3570 | J93: =I93-5 -> 3565 | X93: =X33+1 -> 2002 | Y93: =Y33+1 -> 2 | Z93: =Z33 -> 14 | AA93: {=INT(_xlfn._xlws.FILTER($V$31:$V$50,$S$31:$S$50=$Y93)*_xlfn._xlws.FILTER(N$27:N$86,$M$27:$M$86=$Z93))} -> 450 | AB93: {=_xlfn._xlws.FILTER(O$27:O$86,$M$27:$M$86=$Z93)} -> 0.07 | AC93: {=_xlfn._xlws.FILTER(P$27:P$86,$M$27:$M$86=$Z93)} -> 0.14 | AD93: {=INT(_xlfn._xlws.FILTER(Q$27:Q$86,$M$27:$M$86=$Z93)*100)} -> 7 | AE93: =AE33+1 -> 30002 | AF93: ="item_"&AE93&"_"&AG93 -> item_30002_9 | AG93: =AG33 -> 9
A94: item_10000001_1093637,item_20000001_21872 | I94: 3637 | J94: =I94-5 -> 3632 | X94: =X34+1 -> 2002 | Y94: =Y34+1 -> 2 | Z94: =Z34 -> 15 | AA94: {=INT(_xlfn._xlws.FILTER($V$31:$V$50,$S$31:$S$50=$Y94)*_xlfn._xlws.FILTER(N$27:N$86,$M$27:$M$86=$Z94))} -> 475 | AB94: {=_xlfn._xlws.FILTER(O$27:O$86,$M$27:$M$86=$Z94)} -> 0.075 | AC94: {=_xlfn._xlws.FILTER(P$27:P$86,$M$27:$M$86=$Z94)} -> 0.15 | AD94: {=INT(_xlfn._xlws.FILTER(Q$27:Q$86,$M$27:$M$86=$Z94)*100)} -> 7 | AE94: =AE34+1 -> 30002 | AF94: ="item_"&AE94&"_"&AG94 -> item_30002_9 | AG94: =AG34 -> 9
A95: item_10000001_1111134,item_20000001_22223 | I95: 3705 | J95: =I95-5 -> 3700 | X95: =X35+1 -> 2002 | Y95: =Y35+1 -> 2 | Z95: =Z35 -> 16 | AA95: {=INT(_xlfn._xlws.FILTER($V$31:$V$50,$S$31:$S$50=$Y95)*_xlfn._xlws.FILTER(N$27:N$86,$M$27:$M$86=$Z95))} -> 500 | AB95: {=_xlfn._xlws.FILTER(O$27:O$86,$M$27:$M$86=$Z95)} -> 0.08 | AC95: {=_xlfn._xlws.FILTER(P$27:P$86,$M$27:$M$86=$Z95)} -> 0.16 | AD95: {=INT(_xlfn._xlws.FILTER(Q$27:Q$86,$M$27:$M$86=$Z95)*100)} -> 8 | AE95: =AE35+1 -> 30002 | AF95: ="item_"&AE95&"_"&AG95 -> item_30002_11 | AG95: =AG35 -> 11
A96: item_10000001_1128725,item_20000001_22574 | I96: 3773 | J96: =I96-5 -> 3768 | X96: =X36+1 -> 2002 | Y96: =Y36+1 -> 2 | Z96: =Z36 -> 17 | AA96: {=INT(_xlfn._xlws.FILTER($V$31:$V$50,$S$31:$S$50=$Y96)*_xlfn._xlws.FILTER(N$27:N$86,$M$27:$M$86=$Z96))} -> 525 | AB96: {=_xlfn._xlws.FILTER(O$27:O$86,$M$27:$M$86=$Z96)} -> 0.085 | AC96: {=_xlfn._xlws.FILTER(P$27:P$86,$M$27:$M$86=$Z96)} -> 0.17 | AD96: {=INT(_xlfn._xlws.FILTER(Q$27:Q$86,$M$27:$M$86=$Z96)*100)} -> 8 | AE96: =AE36+1 -> 30002 | AF96: ="item_"&AE96&"_"&AG96 -> item_30002_11 | AG96: =AG36 -> 11
A97: item_10000001_1146407,item_20000001_22928 | I97: 3841 | J97: =I97-5 -> 3836 | X97: =X37+1 -> 2002 | Y97: =Y37+1 -> 2 | Z97: =Z37 -> 18 | AA97: {=INT(_xlfn._xlws.FILTER($V$31:$V$50,$S$31:$S$50=$Y97)*_xlfn._xlws.FILTER(N$27:N$86,$M$27:$M$86=$Z97))} -> 550 | AB97: {=_xlfn._xlws.FILTER(O$27:O$86,$M$27:$M$86=$Z97)} -> 0.09 | AC97: {=_xlfn._xlws.FILTER(P$27:P$86,$M$27:$M$86=$Z97)} -> 0.18 | AD97: {=INT(_xlfn._xlws.FILTER(Q$27:Q$86,$M$27:$M$86=$Z97)*100)} -> 9 | AE97: =AE37+1 -> 30002 | AF97: ="item_"&AE97&"_"&AG97 -> item_30002_11 | AG97: =AG37 -> 11
A98: item_10000001_1164181,item_20000001_23284 | I98: 3909 | J98: =I98-5 -> 3904 | X98: =X38+1 -> 2002 | Y98: =Y38+1 -> 2 | Z98: =Z38 -> 19 | AA98: {=INT(_xlfn._xlws.FILTER($V$31:$V$50,$S$31:$S$50=$Y98)*_xlfn._xlws.FILTER(N$27:N$86,$M$27:$M$86=$Z98))} -> 575 | AB98: {=_xlfn._xlws.FILTER(O$27:O$86,$M$27:$M$86=$Z98)} -> 0.095 | AC98: {=_xlfn._xlws.FILTER(P$27:P$86,$M$27:$M$86=$Z98)} -> 0.19 | AD98: {=INT(_xlfn._xlws.FILTER(Q$27:Q$86,$M$27:$M$86=$Z98)*100)} -> 9 | AE98: =AE38+1 -> 30002 | AF98: ="item_"&AE98&"_"&AG98 -> item_30002_11 | AG98: =AG38 -> 11
... A100: item_10000001_1200000,item_20000001_24000 | I100: 4046 | J100: =I100-5 -> 4041 | X100: =X40+1 -> 2002 | Y100: =Y40+1 -> 2 | Z100: =Z40 -> 21 | AA100: {=INT(_xlfn._xlws.FILTER($V$31:$V$50,$S$31:$S$50=$Y100)*_xlfn._xlws.FILTER(N$27:N$86,$M$27:$M$86=$Z100))} -> 625 | AB100: {=_xlfn._xlws.FILTER(O$27:O$86,$M$27:$M$86=$Z100)} -> 0.105 | AC100: {=_xlfn._xlws.FILTER(P$27:P$86,$M$27:$M$86=$Z100)} -> 0.21 | AD100: {=INT(_xlfn._xlws.FILTER(Q$27:Q$86,$M$27:$M$86=$Z100)*100)} -> 10 | AE100: =AE40+1 -> 30002 | AF100: ="item_"&AE100&"_"&AG100 -> item_30002_13 | AG100: =AG40 -> 13
I101: 4115 | J101: =I101-5 -> 4110 | X101: =X41+1 -> 2002 | Y101: =Y41+1 -> 2 | Z101: =Z41 -> 22 | AA101: {=INT(_xlfn._xlws.FILTER($V$31:$V$50,$S$31:$S$50=$Y101)*_xlfn._xlws.FILTER(N$27:N$86,$M$27:$M$86=$Z101))} -> 650 | AB101: {=_xlfn._xlws.FILTER(O$27:O$86,$M$27:$M$86=$Z101)} -> 0.11 | AC101: {=_xlfn._xlws.FILTER(P$27:P$86,$M$27:$M$86=$Z101)} -> 0.22 | AD101: {=INT(_xlfn._xlws.FILTER(Q$27:Q$86,$M$27:$M$86=$Z101)*100)} -> 11 | AE101: =AE41+1 -> 30002 | AF101: ="item_"&AE101&"_"&AG101 -> item_30002_13 | AG101: =AG41 -> 13
I102: 4185 | J102: =I102-5 -> 4180 | X102: =X42+1 -> 2002 | Y102: =Y42+1 -> 2 | Z102: =Z42 -> 23 | AA102: {=INT(_xlfn._xlws.FILTER($V$31:$V$50,$S$31:$S$50=$Y102)*_xlfn._xlws.FILTER(N$27:N$86,$M$27:$M$86=$Z102))} -> 675 | AB102: {=_xlfn._xlws.FILTER(O$27:O$86,$M$27:$M$86=$Z102)} -> 0.115 | AC102: {=_xlfn._xlws.FILTER(P$27:P$86,$M$27:$M$86=$Z102)} -> 0.23 | AD102: {=INT(_xlfn._xlws.FILTER(Q$27:Q$86,$M$27:$M$86=$Z102)*100)} -> 11 | AE102: =AE42+1 -> 30002 | AF102: ="item_"&AE102&"_"&AG102 -> item_30002_13 | AG102: =AG42 -> 13
I103: 4254 | J103: =I103-5 -> 4249 | X103: =X43+1 -> 2002 | Y103: =Y43+1 -> 2 | Z103: =Z43 -> 24 | AA103: {=INT(_xlfn._xlws.FILTER($V$31:$V$50,$S$31:$S$50=$Y103)*_xlfn._xlws.FILTER(N$27:N$86,$M$27:$M$86=$Z103))} -> 700 | AB103: {=_xlfn._xlws.FILTER(O$27:O$86,$M$27:$M$86=$Z103)} -> 0.12 | AC103: {=_xlfn._xlws.FILTER(P$27:P$86,$M$27:$M$86=$Z103)} -> 0.24 | AD103: {=INT(_xlfn._xlws.FILTER(Q$27:Q$86,$M$27:$M$86=$Z103)*100)} -> 12 | AE103: =AE43+1 -> 30002 | AF103: ="item_"&AE103&"_"&AG103 -> item_30002_13 | AG103: =AG43 -> 13
I104: 4324 | J104: =I104-5 -> 4319 | X104: =X44+1 -> 2002 | Y104: =Y44+1 -> 2 | Z104: =Z44 -> 25 | AA104: {=INT(_xlfn._xlws.FILTER($V$31:$V$50,$S$31:$S$50=$Y104)*_xlfn._xlws.FILTER(N$27:N$86,$M$27:$M$86=$Z104))} -> 725 | AB104: {=_xlfn._xlws.FILTER(O$27:O$86,$M$27:$M$86=$Z104)} -> 0.125 | AC104: {=_xlfn._xlws.FILTER(P$27:P$86,$M$27:$M$86=$Z104)} -> 0.25 | AD104: {=INT(_xlfn._xlws.FILTER(Q$27:Q$86,$M$27:$M$86=$Z104)*100)} -> 12 | AE104: =AE44+1 -> 30002 | AF104: ="item_"&AE104&"_"&AG104 -> item_30002_13 | AG104: =AG44 -> 13
I105: 4394 | J105: =I105-5 -> 4389 | X105: =X45+1 -> 2002 | Y105: =Y45+1 -> 2 | Z105: =Z45 -> 26 | AA105: {=INT(_xlfn._xlws.FILTER($V$31:$V$50,$S$31:$S$50=$Y105)*_xlfn._xlws.FILTER(N$27:N$86,$M$27:$M$86=$Z105))} -> 750 | AB105: {=_xlfn._xlws.FILTER(O$27:O$86,$M$27:$M$86=$Z105)} -> 0.13 | AC105: {=_xlfn._xlws.FILTER(P$27:P$86,$M$27:$M$86=$Z105)} -> 0.26 | AD105: {=INT(_xlfn._xlws.FILTER(Q$27:Q$86,$M$27:$M$86=$Z105)*100)} -> 13 | AE105: =AE45+1 -> 30002 | AF105: ="item_"&AE105&"_"&AG105 -> item_30002_15 | AG105: =AG45 -> 15
I106: 4464 | J106: =I106-5 -> 4459 | X106: =X46+1 -> 2002 | Y106: =Y46+1 -> 2 | Z106: =Z46 -> 27 | AA106: {=INT(_xlfn._xlws.FILTER($V$31:$V$50,$S$31:$S$50=$Y106)*_xlfn._xlws.FILTER(N$27:N$86,$M$27:$M$86=$Z106))} -> 775 | AB106: {=_xlfn._xlws.FILTER(O$27:O$86,$M$27:$M$86=$Z106)} -> 0.135 | AC106: {=_xlfn._xlws.FILTER(P$27:P$86,$M$27:$M$86=$Z106)} -> 0.27 | AD106: {=INT(_xlfn._xlws.FILTER(Q$27:Q$86,$M$27:$M$86=$Z106)*100)} -> 13 | AE106: =AE46+1 -> 30002 | AF106: ="item_"&AE106&"_"&AG106 -> item_30002_15 | AG106: =AG46 -> 15
I107: 4534 | J107: =I107-5 -> 4529 | X107: =X47+1 -> 2002 | Y107: =Y47+1 -> 2 | Z107: =Z47 -> 28 | AA107: {=INT(_xlfn._xlws.FILTER($V$31:$V$50,$S$31:$S$50=$Y107)*_xlfn._xlws.FILTER(N$27:N$86,$M$27:$M$86=$Z107))} -> 800 | AB107: {=_xlfn._xlws.FILTER(O$27:O$86,$M$27:$M$86=$Z107)} -> 0.14 | AC107: {=_xlfn._xlws.FILTER(P$27:P$86,$M$27:$M$86=$Z107)} -> 0.28 | AD107: {=INT(_xlfn._xlws.FILTER(Q$27:Q$86,$M$27:$M$86=$Z107)*100)} -> 14 | AE107: =AE47+1 -> 30002 | AF107: ="item_"&AE107&"_"&AG107 -> item_30002_15 | AG107: =AG47 -> 15
I108: 4604 | J108: =I108-5 -> 4599 | X108: =X48+1 -> 2002 | Y108: =Y48+1 -> 2 | Z108: =Z48 -> 29 | AA108: {=INT(_xlfn._xlws.FILTER($V$31:$V$50,$S$31:$S$50=$Y108)*_xlfn._xlws.FILTER(N$27:N$86,$M$27:$M$86=$Z108))} -> 825 | AB108: {=_xlfn._xlws.FILTER(O$27:O$86,$M$27:$M$86=$Z108)} -> 0.145 | AC108: {=_xlfn._xlws.FILTER(P$27:P$86,$M$27:$M$86=$Z108)} -> 0.29 | AD108: {=INT(_xlfn._xlws.FILTER(Q$27:Q$86,$M$27:$M$86=$Z108)*100)} -> 14 | AE108: =AE48+1 -> 30002 | AF108: ="item_"&AE108&"_"&AG108 -> item_30002_15 | AG108: =AG48 -> 15
I109: 4675 | J109: =I109-5 -> 4670 | X109: =X49+1 -> 2002 | Y109: =Y49+1 -> 2 | Z109: =Z49 -> 30 | AA109: {=INT(_xlfn._xlws.FILTER($V$31:$V$50,$S$31:$S$50=$Y109)*_xlfn._xlws.FILTER(N$27:N$86,$M$27:$M$86=$Z109))} -> 850 | AB109: {=_xlfn._xlws.FILTER(O$27:O$86,$M$27:$M$86=$Z109)} -> 0.15 | AC109: {=_xlfn._xlws.FILTER(P$27:P$86,$M$27:$M$86=$Z109)} -> 0.3 | AD109: {=INT(_xlfn._xlws.FILTER(Q$27:Q$86,$M$27:$M$86=$Z109)*100)} -> 15 | AE109: =AE49+1 -> 30002 | AF109: ="item_"&AE109&"_"&AG109 -> item_30002_15 | AG109: =AG49 -> 15
I110: 4746 | J110: =I110-5 -> 4741 | X110: =X50+1 -> 2002 | Y110: =Y50+1 -> 2 | Z110: =Z50 -> 31 | AA110: {=INT(_xlfn._xlws.FILTER($V$31:$V$50,$S$31:$S$50=$Y110)*_xlfn._xlws.FILTER(N$27:N$86,$M$27:$M$86=$Z110))} -> 875 | AB110: {=_xlfn._xlws.FILTER(O$27:O$86,$M$27:$M$86=$Z110)} -> 0.155 | AC110: {=_xlfn._xlws.FILTER(P$27:P$86,$M$27:$M$86=$Z110)} -> 0.31 | AD110: {=INT(_xlfn._xlws.FILTER(Q$27:Q$86,$M$27:$M$86=$Z110)*100)} -> 15 | AE110: =AE50+1 -> 30002 | AF110: ="item_"&AE110&"_"&AG110 -> item_30002_17 | AG110: =AG50 -> 17
I111: 4817 | J111: =I111-5 -> 4812 | X111: =X51+1 -> 2002 | Y111: =Y51+1 -> 2 | Z111: =Z51 -> 32 | AA111: {=INT(_xlfn._xlws.FILTER($V$31:$V$50,$S$31:$S$50=$Y111)*_xlfn._xlws.FILTER(N$27:N$86,$M$27:$M$86=$Z111))} -> 900 | AB111: {=_xlfn._xlws.FILTER(O$27:O$86,$M$27:$M$86=$Z111)} -> 0.16 | AC111: {=_xlfn._xlws.FILTER(P$27:P$86,$M$27:$M$86=$Z111)} -> 0.32 | AD111: {=INT(_xlfn._xlws.FILTER(Q$27:Q$86,$M$27:$M$86=$Z111)*100)} -> 16 | AE111: =AE51+1 -> 30002 | AF111: ="item_"&AE111&"_"&AG111 -> item_30002_17 | AG111: =AG51 -> 17
I112: 4889 | J112: =I112-5 -> 4884 | X112: =X52+1 -> 2002 | Y112: =Y52+1 -> 2 | Z112: =Z52 -> 33 | AA112: {=INT(_xlfn._xlws.FILTER($V$31:$V$50,$S$31:$S$50=$Y112)*_xlfn._xlws.FILTER(N$27:N$86,$M$27:$M$86=$Z112))} -> 925 | AB112: {=_xlfn._xlws.FILTER(O$27:O$86,$M$27:$M$86=$Z112)} -> 0.165 | AC112: {=_xlfn._xlws.FILTER(P$27:P$86,$M$27:$M$86=$Z112)} -> 0.33 | AD112: {=INT(_xlfn._xlws.FILTER(Q$27:Q$86,$M$27:$M$86=$Z112)*100)} -> 16 | AE112: =AE52+1 -> 30002 | AF112: ="item_"&AE112&"_"&AG112 -> item_30002_17 | AG112: =AG52 -> 17
... I136: 6648 | J136: =I136-5 -> 6643 | X136: =X76+1 -> 2002 | Y136: =Y76+1 -> 2 | Z136: =Z76 -> 57 | AA136: {=INT(_xlfn._xlws.FILTER($V$31:$V$50,$S$31:$S$50=$Y136)*_xlfn._xlws.FILTER(N$27:N$86,$M$27:$M$86=$Z136))} -> 1525 | AB136: {=_xlfn._xlws.FILTER(O$27:O$86,$M$27:$M$86=$Z136)} -> 0.285 | AC136: {=_xlfn._xlws.FILTER(P$27:P$86,$M$27:$M$86=$Z136)} -> 0.57 | AD136: {=INT(_xlfn._xlws.FILTER(Q$27:Q$86,$M$27:$M$86=$Z136)*100)} -> 28 | AE136: =AE76+1 -> 30002 | AF136: ="item_"&AE136&"_"&AG136 -> item_30002_31 | AG136: =AG76 -> 31
X137: =X77+1 -> 2002 | Y137: =Y77+1 -> 2 | Z137: =Z77 -> 58 | AA137: {=INT(_xlfn._xlws.FILTER($V$31:$V$50,$S$31:$S$50=$Y137)*_xlfn._xlws.FILTER(N$27:N$86,$M$27:$M$86=$Z137))} -> 1550 | AB137: {=_xlfn._xlws.FILTER(O$27:O$86,$M$27:$M$86=$Z137)} -> 0.29 | AC137: {=_xlfn._xlws.FILTER(P$27:P$86,$M$27:$M$86=$Z137)} -> 0.58 | AD137: {=INT(_xlfn._xlws.FILTER(Q$27:Q$86,$M$27:$M$86=$Z137)*100)} -> 29 | AE137: =AE77+1 -> 30002 | AF137: ="item_"&AE137&"_"&AG137 -> item_30002_31 | AG137: =AG77 -> 31
X138: =X78+1 -> 2002 | Y138: =Y78+1 -> 2 | Z138: =Z78 -> 59 | AA138: {=INT(_xlfn._xlws.FILTER($V$31:$V$50,$S$31:$S$50=$Y138)*_xlfn._xlws.FILTER(N$27:N$86,$M$27:$M$86=$Z138))} -> 1575 | AB138: {=_xlfn._xlws.FILTER(O$27:O$86,$M$27:$M$86=$Z138)} -> 0.295 | AC138: {=_xlfn._xlws.FILTER(P$27:P$86,$M$27:$M$86=$Z138)} -> 0.59 | AD138: {=INT(_xlfn._xlws.FILTER(Q$27:Q$86,$M$27:$M$86=$Z138)*100)} -> 29 | AE138: =AE78+1 -> 30002 | AF138: ="item_"&AE138&"_"&AG138 -> item_30002_31 | AG138: =AG78 -> 31
X139: =X79+1 -> 2002 | Y139: =Y79+1 -> 2 | Z139: =Z79 -> 60 | AA139: {=INT(_xlfn._xlws.FILTER($V$31:$V$50,$S$31:$S$50=$Y139)*_xlfn._xlws.FILTER(N$27:N$86,$M$27:$M$86=$Z139))} -> 1600 | AB139: {=_xlfn._xlws.FILTER(O$27:O$86,$M$27:$M$86=$Z139)} -> 0.3 | AC139: {=_xlfn._xlws.FILTER(P$27:P$86,$M$27:$M$86=$Z139)} -> 0.6 | AD139: {=INT(_xlfn._xlws.FILTER(Q$27:Q$86,$M$27:$M$86=$Z139)*100)} -> 30 | AE139: =AE79+1 -> 30002 | AF139: ="item_"&AE139&"_"&AG139 -> item_30002_31 | AG139: =AG79 -> 31
X140: =X80+1 -> 2003 | Y140: =Y80+1 -> 3 | Z140: =Z80 -> 1 | AA140: {=INT(_xlfn._xlws.FILTER($V$31:$V$50,$S$31:$S$50=$Y140)*_xlfn._xlws.FILTER(N$27:N$86,$M$27:$M$86=$Z140))} -> 104 | AB140: {=_xlfn._xlws.FILTER(O$27:O$86,$M$27:$M$86=$Z140)} -> 0.005 | AC140: {=_xlfn._xlws.FILTER(P$27:P$86,$M$27:$M$86=$Z140)} -> 0.01 | AD140: {=INT(_xlfn._xlws.FILTER(Q$27:Q$86,$M$27:$M$86=$Z140)*100)} -> 0 | AE140: =AE80+1 -> 30003 | AF140: ="item_"&AE140&"_"&AG140 -> item_30003_5 | AG140: =AG80 -> 5
X141: =X81+1 -> 2003 | Y141: =Y81+1 -> 3 | Z141: =Z81 -> 2 | AA141: {=INT(_xlfn._xlws.FILTER($V$31:$V$50,$S$31:$S$50=$Y141)*_xlfn._xlws.FILTER(N$27:N$86,$M$27:$M$86=$Z141))} -> 125 | AB141: {=_xlfn._xlws.FILTER(O$27:O$86,$M$27:$M$86=$Z141)} -> 0.01 | AC141: {=_xlfn._xlws.FILTER(P$27:P$86,$M$27:$M$86=$Z141)} -> 0.02 | AD141: {=INT(_xlfn._xlws.FILTER(Q$27:Q$86,$M$27:$M$86=$Z141)*100)} -> 1 | AE141: =AE81+1 -> 30003 | AF141: ="item_"&AE141&"_"&AG141 -> item_30003_5 | AG141: =AG81 -> 5
X142: =X82+1 -> 2003 | Y142: =Y82+1 -> 3 | Z142: =Z82 -> 3 | AA142: {=INT(_xlfn._xlws.FILTER($V$31:$V$50,$S$31:$S$50=$Y142)*_xlfn._xlws.FILTER(N$27:N$86,$M$27:$M$86=$Z142))} -> 145 | AB142: {=_xlfn._xlws.FILTER(O$27:O$86,$M$27:$M$86=$Z142)} -> 0.015 | AC142: {=_xlfn._xlws.FILTER(P$27:P$86,$M$27:$M$86=$Z142)} -> 0.03 | AD142: {=INT(_xlfn._xlws.FILTER(Q$27:Q$86,$M$27:$M$86=$Z142)*100)} -> 1 | AE142: =AE82+1 -> 30003 | AF142: ="item_"&AE142&"_"&AG142 -> item_30003_5 | AG142: =AG82 -> 5
X143: =X83+1 -> 2003 | Y143: =Y83+1 -> 3 | Z143: =Z83 -> 4 | AA143: {=INT(_xlfn._xlws.FILTER($V$31:$V$50,$S$31:$S$50=$Y143)*_xlfn._xlws.FILTER(N$27:N$86,$M$27:$M$86=$Z143))} -> 166 | AB143: {=_xlfn._xlws.FILTER(O$27:O$86,$M$27:$M$86=$Z143)} -> 0.02 | AC143: {=_xlfn._xlws.FILTER(P$27:P$86,$M$27:$M$86=$Z143)} -> 0.04 | AD143: {=INT(_xlfn._xlws.FILTER(Q$27:Q$86,$M$27:$M$86=$Z143)*100)} -> 2 | AE143: =AE83+1 -> 30003 | AF143: ="item_"&AE143&"_"&AG143 -> item_30003_5 | AG143: =AG83 -> 5
X144: =X84+1 -> 2003 | Y144: =Y84+1 -> 3 | Z144: =Z84 -> 5 | AA144: {=INT(_xlfn._xlws.FILTER($V$31:$V$50,$S$31:$S$50=$Y144)*_xlfn._xlws.FILTER(N$27:N$86,$M$27:$M$86=$Z144))} -> 187 | AB144: {=_xlfn._xlws.FILTER(O$27:O$86,$M$27:$M$86=$Z144)} -> 0.025 | AC144: {=_xlfn._xlws.FILTER(P$27:P$86,$M$27:$M$86=$Z144)} -> 0.05 | AD144: {=INT(_xlfn._xlws.FILTER(Q$27:Q$86,$M$27:$M$86=$Z144)*100)} -> 2 | AE144: =AE84+1 -> 30003 | AF144: ="item_"&AE144&"_"&AG144 -> item_30003_5 | AG144: =AG84 -> 5
X145: =X85+1 -> 2003 | Y145: =Y85+1 -> 3 | Z145: =Z85 -> 6 | AA145: {=INT(_xlfn._xlws.FILTER($V$31:$V$50,$S$31:$S$50=$Y145)*_xlfn._xlws.FILTER(N$27:N$86,$M$27:$M$86=$Z145))} -> 208 | AB145: {=_xlfn._xlws.FILTER(O$27:O$86,$M$27:$M$86=$Z145)} -> 0.03 | AC145: {=_xlfn._xlws.FILTER(P$27:P$86,$M$27:$M$86=$Z145)} -> 0.06 | AD145: {=INT(_xlfn._xlws.FILTER(Q$27:Q$86,$M$27:$M$86=$Z145)*100)} -> 3 | AE145: =AE85+1 -> 30003 | AF145: ="item_"&AE145&"_"&AG145 -> item_30003_7 | AG145: =AG85 -> 7
X146: =X86+1 -> 2003 | Y146: =Y86+1 -> 3 | Z146: =Z86 -> 7 | AA146: {=INT(_xlfn._xlws.FILTER($V$31:$V$50,$S$31:$S$50=$Y146)*_xlfn._xlws.FILTER(N$27:N$86,$M$27:$M$86=$Z146))} -> 229 | AB146: {=_xlfn._xlws.FILTER(O$27:O$86,$M$27:$M$86=$Z146)} -> 0.035 | AC146: {=_xlfn._xlws.FILTER(P$27:P$86,$M$27:$M$86=$Z146)} -> 0.07 | AD146: {=INT(_xlfn._xlws.FILTER(Q$27:Q$86,$M$27:$M$86=$Z146)*100)} -> 3 | AE146: =AE86+1 -> 30003 | AF146: ="item_"&AE146&"_"&AG146 -> item_30003_7 | AG146: =AG86 -> 7
...

Sheet 整行拆分结果
A1: 1200 | D1: item_30001_5 | E1: , | F1: item_10000001_ | G1: 1200 | I1: item_10000001_
A2: 3394 | D2: item_30001_5 | E2: , | F2: item_10000001_ | G2: 3394
A3: 6235 | D3: item_30001_5 | E3: , | F3: item_10000001_ | G3: 6235
A4: 9600 | D4: item_30001_5 | E4: , | F4: item_10000001_ | G4: 9600
A5: 13416 | D5: item_30001_5 | E5: , | F5: item_10000001_ | G5: 13416
A6: 17636 | D6: item_30001_7 | E6: , | F6: item_10000001_ | G6: 17636
A7: 22224 | D7: item_30001_7 | E7: , | F7: item_10000001_ | G7: 22224
A8: 27152 | D8: item_30001_7 | E8: , | F8: item_10000001_ | G8: 27152
A9: 32400 | D9: item_30001_7 | E9: , | F9: item_10000001_ | G9: 32400
A10: 37948 | D10: item_30001_7 | E10: , | F10: item_10000001_ | G10: 37948
A11: 43780 | D11: item_30001_9 | E11: , | F11: item_10000001_ | G11: 43780
A12: 49883 | D12: item_30001_9 | E12: , | F12: item_10000001_ | G12: 49883
A13: 56246 | D13: item_30001_9 | E13: , | F13: item_10000001_ | G13: 56246
... A36: 259200 | D36: item_30001_19 | E36: , | F36: item_10000001_ | G36: 259200
A37: 270074 | D37: item_30001_19 | E37: , | F37: item_10000001_ | G37: 270074 | AA37: 攻击加成 | AB37: 暴击加成 | AC37: 爆伤加成 | AD37: 攻速
A38: 281098 | D38: item_30001_19 | E38: , | F38: item_10000001_ | G38: 281098 | AA38: 攻击加成 | AB38: 暴击加成 | AC38: 爆伤加成 | AD38: 攻速
A39: 292266 | D39: item_30001_19 | E39: , | F39: item_10000001_ | G39: 292266 | X39: 2001 | Y39: 1 | Z39: 1 | AA39: {=INT(_xlfn._xlws.FILTER($V$61:$V$99,$S$61:$S$99=$Y39)*_xlfn._xlws.FILTER(N$53:N$171,$M$53:$M$171=$Z39))} -> #VALUE! | AB39: {=_xlfn._xlws.FILTER(O$53:O$171,$M$53:$M$171=$Z39)} -> #VALUE! | AC39: {=_xlfn._xlws.FILTER(P$53:P$171,$M$53:$M$171=$Z39)} -> #VALUE! | AD39: {=INT(_xlfn._xlws.FILTER(Q$53:Q$171,$M$53:$M$171=$Z39)*100)} -> #VALUE! | AE39: 30001 | AF39: ="item_"&AE39&"_"&AG39 -> item_30001_5 | AG39: 5
A40: 303578 | D40: item_30001_19 | E40: , | F40: item_10000001_ | G40: 303578 | X40: 2001 | Y40: 1 | Z40: 1 | AA40: {=INT(_xlfn._xlws.FILTER($V$61:$V$99,$S$61:$S$99=$Y40)*_xlfn._xlws.FILTER(N$53:N$171,$M$53:$M$171=$Z40))} -> #VALUE! | AB40: {=_xlfn._xlws.FILTER(O$53:O$171,$M$53:$M$171=$Z40)} -> #VALUE! | AC40: {=_xlfn._xlws.FILTER(P$53:P$171,$M$53:$M$171=$Z40)} -> #VALUE! | AD40: {=INT(_xlfn._xlws.FILTER(Q$53:Q$171,$M$53:$M$171=$Z40)*100)} -> #VALUE! | AE40: 30001 | AF40: ="item_"&AE40&"_"&AG40 -> item_30001_5 | AG40: 5
A41: 315034 | D41: item_30001_22 | E41: , | F41: item_10000001_ | G41: 315034 | X41: 2001 | Y41: 1 | Z41: 2 | AA41: {=INT(_xlfn._xlws.FILTER($V$61:$V$99,$S$61:$S$99=$Y41)*_xlfn._xlws.FILTER(N$53:N$171,$M$53:$M$171=$Z41))} -> #VALUE! | AB41: {=_xlfn._xlws.FILTER(O$53:O$171,$M$53:$M$171=$Z41)} -> #VALUE! | AC41: {=_xlfn._xlws.FILTER(P$53:P$171,$M$53:$M$171=$Z41)} -> #VALUE! | AD41: {=INT(_xlfn._xlws.FILTER(Q$53:Q$171,$M$53:$M$171=$Z41)*100)} -> #VALUE! | AE41: 30001 | AF41: ="item_"&AE41&"_"&AG41 -> item_30001_5 | AG41: 5
A42: 326629 | D42: item_30001_22 | E42: , | F42: item_10000001_ | G42: 326629 | X42: 2001 | Y42: 1 | Z42: 2 | AA42: {=INT(_xlfn._xlws.FILTER($V$61:$V$99,$S$61:$S$99=$Y42)*_xlfn._xlws.FILTER(N$53:N$171,$M$53:$M$171=$Z42))} -> #VALUE! | AB42: {=_xlfn._xlws.FILTER(O$53:O$171,$M$53:$M$171=$Z42)} -> #VALUE! | AC42: {=_xlfn._xlws.FILTER(P$53:P$171,$M$53:$M$171=$Z42)} -> #VALUE! | AD42: {=INT(_xlfn._xlws.FILTER(Q$53:Q$171,$M$53:$M$171=$Z42)*100)} -> #VALUE! | AE42: 30001 | AF42: ="item_"&AE42&"_"&AG42 -> item_30001_5 | AG42: 5
A43: 338364 | D43: item_30001_22 | E43: , | F43: item_10000001_ | G43: 338364 | X43: 2001 | Y43: 1 | Z43: 3 | AA43: {=INT(_xlfn._xlws.FILTER($V$61:$V$99,$S$61:$S$99=$Y43)*_xlfn._xlws.FILTER(N$53:N$171,$M$53:$M$171=$Z43))} -> #VALUE! | AB43: {=_xlfn._xlws.FILTER(O$53:O$171,$M$53:$M$171=$Z43)} -> #VALUE! | AC43: {=_xlfn._xlws.FILTER(P$53:P$171,$M$53:$M$171=$Z43)} -> #VALUE! | AD43: {=INT(_xlfn._xlws.FILTER(Q$53:Q$171,$M$53:$M$171=$Z43)*100)} -> #VALUE! | AE43: 30001 | AF43: ="item_"&AE43&"_"&AG43 -> item_30001_5 | AG43: 5
A44: 350236 | D44: item_30001_22 | E44: , | F44: item_10000001_ | G44: 350236 | X44: 2001 | Y44: 1 | Z44: 3 | AA44: {=INT(_xlfn._xlws.FILTER($V$61:$V$99,$S$61:$S$99=$Y44)*_xlfn._xlws.FILTER(N$53:N$171,$M$53:$M$171=$Z44))} -> #VALUE! | AB44: {=_xlfn._xlws.FILTER(O$53:O$171,$M$53:$M$171=$Z44)} -> #VALUE! | AC44: {=_xlfn._xlws.FILTER(P$53:P$171,$M$53:$M$171=$Z44)} -> #VALUE! | AD44: {=INT(_xlfn._xlws.FILTER(Q$53:Q$171,$M$53:$M$171=$Z44)*100)} -> #VALUE! | AE44: 30001 | AF44: ="item_"&AE44&"_"&AG44 -> item_30001_5 | AG44: 5
A45: 362243 | D45: item_30001_22 | E45: , | F45: item_10000001_ | G45: 362243 | X45: 2001 | Y45: 1 | Z45: 4 | AA45: {=INT(_xlfn._xlws.FILTER($V$61:$V$99,$S$61:$S$99=$Y45)*_xlfn._xlws.FILTER(N$53:N$171,$M$53:$M$171=$Z45))} -> #VALUE! | AB45: {=_xlfn._xlws.FILTER(O$53:O$171,$M$53:$M$171=$Z45)} -> #VALUE! | AC45: {=_xlfn._xlws.FILTER(P$53:P$171,$M$53:$M$171=$Z45)} -> #VALUE! | AD45: {=INT(_xlfn._xlws.FILTER(Q$53:Q$171,$M$53:$M$171=$Z45)*100)} -> #VALUE! | AE45: 30001 | AF45: ="item_"&AE45&"_"&AG45 -> item_30001_5 | AG45: 5
A46: 374384 | D46: item_30001_25 | E46: , | F46: item_10000001_ | G46: 374384 | X46: 2001 | Y46: 1 | Z46: 4 | AA46: {=INT(_xlfn._xlws.FILTER($V$61:$V$99,$S$61:$S$99=$Y46)*_xlfn._xlws.FILTER(N$53:N$171,$M$53:$M$171=$Z46))} -> #VALUE! | AB46: {=_xlfn._xlws.FILTER(O$53:O$171,$M$53:$M$171=$Z46)} -> #VALUE! | AC46: {=_xlfn._xlws.FILTER(P$53:P$171,$M$53:$M$171=$Z46)} -> #VALUE! | AD46: {=INT(_xlfn._xlws.FILTER(Q$53:Q$171,$M$53:$M$171=$Z46)*100)} -> #VALUE! | AE46: 30001 | AF46: ="item_"&AE46&"_"&AG46 -> item_30001_5 | AG46: 5
A47: 386659 | D47: item_30001_25 | E47: , | F47: item_10000001_ | G47: 386659 | X47: 2001 | Y47: 1 | Z47: 5 | AA47: {=INT(_xlfn._xlws.FILTER($V$61:$V$99,$S$61:$S$99=$Y47)*_xlfn._xlws.FILTER(N$53:N$171,$M$53:$M$171=$Z47))} -> #VALUE! | AB47: {=_xlfn._xlws.FILTER(O$53:O$171,$M$53:$M$171=$Z47)} -> #VALUE! | AC47: {=_xlfn._xlws.FILTER(P$53:P$171,$M$53:$M$171=$Z47)} -> #VALUE! | AD47: {=INT(_xlfn._xlws.FILTER(Q$53:Q$171,$M$53:$M$171=$Z47)*100)} -> #VALUE! | AE47: 30001 | AF47: ="item_"&AE47&"_"&AG47 -> item_30001_5 | AG47: 5
A48: 399065 | D48: item_30001_25 | E48: , | F48: item_10000001_ | G48: 399065 | X48: 2001 | Y48: 1 | Z48: 5 | AA48: {=INT(_xlfn._xlws.FILTER($V$61:$V$99,$S$61:$S$99=$Y48)*_xlfn._xlws.FILTER(N$53:N$171,$M$53:$M$171=$Z48))} -> #VALUE! | AB48: {=_xlfn._xlws.FILTER(O$53:O$171,$M$53:$M$171=$Z48)} -> #VALUE! | AC48: {=_xlfn._xlws.FILTER(P$53:P$171,$M$53:$M$171=$Z48)} -> #VALUE! | AD48: {=INT(_xlfn._xlws.FILTER(Q$53:Q$171,$M$53:$M$171=$Z48)*100)} -> #VALUE! | AE48: 30001 | AF48: ="item_"&AE48&"_"&AG48 -> item_30001_5 | AG48: 5
A49: 411600 | D49: item_30001_25 | E49: , | F49: item_10000001_ | G49: 411600 | X49: 2001 | Y49: 1 | Z49: 6 | AA49: {=INT(_xlfn._xlws.FILTER($V$61:$V$99,$S$61:$S$99=$Y49)*_xlfn._xlws.FILTER(N$53:N$171,$M$53:$M$171=$Z49))} -> #VALUE! | AB49: {=_xlfn._xlws.FILTER(O$53:O$171,$M$53:$M$171=$Z49)} -> #VALUE! | AC49: {=_xlfn._xlws.FILTER(P$53:P$171,$M$53:$M$171=$Z49)} -> #VALUE! | AD49: {=INT(_xlfn._xlws.FILTER(Q$53:Q$171,$M$53:$M$171=$Z49)*100)} -> #VALUE! | AE49: 30001 | AF49: ="item_"&AE49&"_"&AG49 -> item_30001_7 | AG49: 7
A50: 424264 | D50: item_30001_25 | E50: , | F50: item_10000001_ | G50: 424264 | X50: 2001 | Y50: 1 | Z50: 6 | AA50: {=INT(_xlfn._xlws.FILTER($V$61:$V$99,$S$61:$S$99=$Y50)*_xlfn._xlws.FILTER(N$53:N$171,$M$53:$M$171=$Z50))} -> #VALUE! | AB50: {=_xlfn._xlws.FILTER(O$53:O$171,$M$53:$M$171=$Z50)} -> #VALUE! | AC50: {=_xlfn._xlws.FILTER(P$53:P$171,$M$53:$M$171=$Z50)} -> #VALUE! | AD50: {=INT(_xlfn._xlws.FILTER(Q$53:Q$171,$M$53:$M$171=$Z50)*100)} -> #VALUE! | AE50: 30001 | AF50: ="item_"&AE50&"_"&AG50 -> item_30001_7 | AG50: 7
A51: 437056 | D51: item_30001_28 | E51: , | F51: item_10000001_ | G51: 437056 | N51: 攻击加成 | O51: 暴击加成 | P51: 爆伤加成 | Q51: 攻速 | X51: 2001 | Y51: 1 | Z51: 7 | AA51: {=INT(_xlfn._xlws.FILTER($V$61:$V$99,$S$61:$S$99=$Y51)*_xlfn._xlws.FILTER(N$53:N$171,$M$53:$M$171=$Z51))} -> #VALUE! | AB51: {=_xlfn._xlws.FILTER(O$53:O$171,$M$53:$M$171=$Z51)} -> #VALUE! | AC51: {=_xlfn._xlws.FILTER(P$53:P$171,$M$53:$M$171=$Z51)} -> #VALUE! | AD51: {=INT(_xlfn._xlws.FILTER(Q$53:Q$171,$M$53:$M$171=$Z51)*100)} -> #VALUE! | AE51: 30001 | AF51: ="item_"&AE51&"_"&AG51 -> item_30001_7 | AG51: 7
A52: 449972 | D52: item_30001_28 | E52: , | F52: item_10000001_ | G52: 449972 | N52: 攻击加成 | O52: 暴击加成 | P52: 爆伤加成 | Q52: 攻速 | X52: 2001 | Y52: 1 | Z52: 7 | AA52: {=INT(_xlfn._xlws.FILTER($V$61:$V$99,$S$61:$S$99=$Y52)*_xlfn._xlws.FILTER(N$53:N$171,$M$53:$M$171=$Z52))} -> #VALUE! | AB52: {=_xlfn._xlws.FILTER(O$53:O$171,$M$53:$M$171=$Z52)} -> #VALUE! | AC52: {=_xlfn._xlws.FILTER(P$53:P$171,$M$53:$M$171=$Z52)} -> #VALUE! | AD52: {=INT(_xlfn._xlws.FILTER(Q$53:Q$171,$M$53:$M$171=$Z52)*100)} -> #VALUE! | AE52: 30001 | AF52: ="item_"&AE52&"_"&AG52 -> item_30001_7 | AG52: 7
A53: 463015 | D53: item_30001_28 | E53: , | F53: item_10000001_ | G53: 463015 | M53: 1 | N53: 1.25 | O53: 0.005 | P53: 0.01 | Q53: 0.005 | R53: 5 | X53: 2001 | Y53: 1 | Z53: 8 | AA53: {=INT(_xlfn._xlws.FILTER($V$61:$V$99,$S$61:$S$99=$Y53)*_xlfn._xlws.FILTER(N$53:N$171,$M$53:$M$171=$Z53))} -> #VALUE! | AB53: {=_xlfn._xlws.FILTER(O$53:O$171,$M$53:$M$171=$Z53)} -> #VALUE! | AC53: {=_xlfn._xlws.FILTER(P$53:P$171,$M$53:$M$171=$Z53)} -> #VALUE! | AD53: {=INT(_xlfn._xlws.FILTER(Q$53:Q$171,$M$53:$M$171=$Z53)*100)} -> #VALUE! | AE53: 30001 | AF53: ="item_"&AE53&"_"&AG53 -> item_30001_7 | AG53: 7
A54: 476180 | D54: item_30001_28 | E54: , | F54: item_10000001_ | G54: 476180 | M54: 1 | N54: 1.25 | O54: 0.005 | P54: 0.01 | Q54: 0.005 | R54: 5 | X54: 2001 | Y54: 1 | Z54: 8 | AA54: {=INT(_xlfn._xlws.FILTER($V$61:$V$99,$S$61:$S$99=$Y54)*_xlfn._xlws.FILTER(N$53:N$171,$M$53:$M$171=$Z54))} -> #VALUE! | AB54: {=_xlfn._xlws.FILTER(O$53:O$171,$M$53:$M$171=$Z54)} -> #VALUE! | AC54: {=_xlfn._xlws.FILTER(P$53:P$171,$M$53:$M$171=$Z54)} -> #VALUE! | AD54: {=INT(_xlfn._xlws.FILTER(Q$53:Q$171,$M$53:$M$171=$Z54)*100)} -> #VALUE! | AE54: 30001 | AF54: ="item_"&AE54&"_"&AG54 -> item_30001_7 | AG54: 7
A55: 489469 | D55: item_30001_28 | E55: , | F55: item_10000001_ | G55: 489469 | M55: 2 | N55: 1.5 | O55: 0.01 | P55: 0.02 | Q55: 0.01 | R55: 5 | X55: 2001 | Y55: 1 | Z55: 9 | AA55: {=INT(_xlfn._xlws.FILTER($V$61:$V$99,$S$61:$S$99=$Y55)*_xlfn._xlws.FILTER(N$53:N$171,$M$53:$M$171=$Z55))} -> #VALUE! | AB55: {=_xlfn._xlws.FILTER(O$53:O$171,$M$53:$M$171=$Z55)} -> #VALUE! | AC55: {=_xlfn._xlws.FILTER(P$53:P$171,$M$53:$M$171=$Z55)} -> #VALUE! | AD55: {=INT(_xlfn._xlws.FILTER(Q$53:Q$171,$M$53:$M$171=$Z55)*100)} -> #VALUE! | AE55: 30001 | AF55: ="item_"&AE55&"_"&AG55 -> item_30001_7 | AG55: 7
A56: 502879 | D56: item_30001_31 | E56: , | F56: item_10000001_ | G56: 502879 | M56: 2 | N56: 1.5 | O56: 0.01 | P56: 0.02 | Q56: 0.01 | R56: 5 | X56: 2001 | Y56: 1 | Z56: 9 | AA56: {=INT(_xlfn._xlws.FILTER($V$61:$V$99,$S$61:$S$99=$Y56)*_xlfn._xlws.FILTER(N$53:N$171,$M$53:$M$171=$Z56))} -> #VALUE! | AB56: {=_xlfn._xlws.FILTER(O$53:O$171,$M$53:$M$171=$Z56)} -> #VALUE! | AC56: {=_xlfn._xlws.FILTER(P$53:P$171,$M$53:$M$171=$Z56)} -> #VALUE! | AD56: {=INT(_xlfn._xlws.FILTER(Q$53:Q$171,$M$53:$M$171=$Z56)*100)} -> #VALUE! | AE56: 30001 | AF56: ="item_"&AE56&"_"&AG56 -> item_30001_7 | AG56: 7
A57: 516409 | D57: item_30001_31 | E57: , | F57: item_10000001_ | G57: 516409 | M57: 3 | N57: 1.75 | O57: 0.015 | P57: 0.03 | Q57: 0.015 | R57: 5 | X57: 2001 | Y57: 1 | Z57: 10 | AA57: {=INT(_xlfn._xlws.FILTER($V$61:$V$99,$S$61:$S$99=$Y57)*_xlfn._xlws.FILTER(N$53:N$171,$M$53:$M$171=$Z57))} -> #VALUE! | AB57: {=_xlfn._xlws.FILTER(O$53:O$171,$M$53:$M$171=$Z57)} -> #VALUE! | AC57: {=_xlfn._xlws.FILTER(P$53:P$171,$M$53:$M$171=$Z57)} -> #VALUE! | AD57: {=INT(_xlfn._xlws.FILTER(Q$53:Q$171,$M$53:$M$171=$Z57)*100)} -> #VALUE! | AE57: 30001 | AF57: ="item_"&AE57&"_"&AG57 -> item_30001_7 | AG57: 7
A58: 530058 | D58: item_30001_31 | E58: , | F58: item_10000001_ | G58: 530058 | M58: 3 | N58: 1.75 | O58: 0.015 | P58: 0.03 | Q58: 0.015 | R58: 5 | X58: 2001 | Y58: 1 | Z58: 10 | AA58: {=INT(_xlfn._xlws.FILTER($V$61:$V$99,$S$61:$S$99=$Y58)*_xlfn._xlws.FILTER(N$53:N$171,$M$53:$M$171=$Z58))} -> #VALUE! | AB58: {=_xlfn._xlws.FILTER(O$53:O$171,$M$53:$M$171=$Z58)} -> #VALUE! | AC58: {=_xlfn._xlws.FILTER(P$53:P$171,$M$53:$M$171=$Z58)} -> #VALUE! | AD58: {=INT(_xlfn._xlws.FILTER(Q$53:Q$171,$M$53:$M$171=$Z58)*100)} -> #VALUE! | AE58: 30001 | AF58: ="item_"&AE58&"_"&AG58 -> item_30001_7 | AG58: 7
A59: 543826 | D59: item_30001_31 | E59: , | F59: item_10000001_ | G59: 543826 | M59: 4 | N59: 2 | O59: 0.02 | P59: 0.04 | Q59: 0.02 | R59: 5 | T59: 攻击速度/S | U59: 攻击目标数 | V59: 攻击力 | X59: 2001 | Y59: 1 | Z59: 11 | AA59: {=INT(_xlfn._xlws.FILTER($V$61:$V$99,$S$61:$S$99=$Y59)*_xlfn._xlws.FILTER(N$53:N$171,$M$53:$M$171=$Z59))} -> #VALUE! | AB59: {=_xlfn._xlws.FILTER(O$53:O$171,$M$53:$M$171=$Z59)} -> #VALUE! | AC59: {=_xlfn._xlws.FILTER(P$53:P$171,$M$53:$M$171=$Z59)} -> #VALUE! | AD59: {=INT(_xlfn._xlws.FILTER(Q$53:Q$171,$M$53:$M$171=$Z59)*100)} -> #VALUE! | AE59: 30001 | AF59: ="item_"&AE59&"_"&AG59 -> item_30001_9 | AG59: 9
A60: 557710 | D60: item_30001_31 | E60: , | F60: item_10000001_ | G60: 557710 | M60: 4 | N60: 2 | O60: 0.02 | P60: 0.04 | Q60: 0.02 | R60: 5 | T60: 攻击速度/S | U60: 攻击目标数 | V60: 攻击力 | X60: 2001 | Y60: 1 | Z60: 11 | AA60: {=INT(_xlfn._xlws.FILTER($V$61:$V$99,$S$61:$S$99=$Y60)*_xlfn._xlws.FILTER(N$53:N$171,$M$53:$M$171=$Z60))} -> #VALUE! | AB60: {=_xlfn._xlws.FILTER(O$53:O$171,$M$53:$M$171=$Z60)} -> #VALUE! | AC60: {=_xlfn._xlws.FILTER(P$53:P$171,$M$53:$M$171=$Z60)} -> #VALUE! | AD60: {=INT(_xlfn._xlws.FILTER(Q$53:Q$171,$M$53:$M$171=$Z60)*100)} -> #VALUE! | AE60: 30001 | AF60: ="item_"&AE60&"_"&AG60 -> item_30001_9 | AG60: 9
A61: 571710 | D61: item_30002_5 | E61: , | F61: item_10000001_ | G61: 1200 | M61: 5 | N61: 2.25 | O61: 0.025 | P61: 0.05 | Q61: 0.025 | R61: 5 | S61: 1 | T61: 2 | U61: 1 | V61: 45.454545 | X61: 2001 | Y61: 1 | Z61: 12 | AA61: {=INT(_xlfn._xlws.FILTER($V$61:$V$99,$S$61:$S$99=$Y61)*_xlfn._xlws.FILTER(N$53:N$171,$M$53:$M$171=$Z61))} -> #VALUE! | AB61: {=_xlfn._xlws.FILTER(O$53:O$171,$M$53:$M$171=$Z61)} -> #VALUE! | AC61: {=_xlfn._xlws.FILTER(P$53:P$171,$M$53:$M$171=$Z61)} -> #VALUE! | AD61: {=INT(_xlfn._xlws.FILTER(Q$53:Q$171,$M$53:$M$171=$Z61)*100)} -> #VALUE! | AE61: 30001 | AF61: ="item_"&AE61&"_"&AG61 -> item_30001_9 | AG61: 9
A62: 585826 | D62: item_30002_5 | E62: , | F62: item_10000001_ | G62: 3394 | M62: 5 | N62: 2.25 | O62: 0.025 | P62: 0.05 | Q62: 0.025 | R62: 5 | S62: 1 | T62: 2 | U62: 1 | V62: 45.454545 | X62: 2001 | Y62: 1 | Z62: 12 | AA62: {=INT(_xlfn._xlws.FILTER($V$61:$V$99,$S$61:$S$99=$Y62)*_xlfn._xlws.FILTER(N$53:N$171,$M$53:$M$171=$Z62))} -> #VALUE! | AB62: {=_xlfn._xlws.FILTER(O$53:O$171,$M$53:$M$171=$Z62)} -> #VALUE! | AC62: {=_xlfn._xlws.FILTER(P$53:P$171,$M$53:$M$171=$Z62)} -> #VALUE! | AD62: {=INT(_xlfn._xlws.FILTER(Q$53:Q$171,$M$53:$M$171=$Z62)*100)} -> #VALUE! | AE62: 30001 | AF62: ="item_"&AE62&"_"&AG62 -> item_30001_9 | AG62: 9
A63: 600056 | D63: item_30002_5 | E63: , | F63: item_10000001_ | G63: 6235 | M63: 6 | N63: 2.5 | O63: 0.03 | P63: 0.06 | Q63: 0.03 | R63: 7 | S63: 2 | T63: 1 | U63: 1 | V63: 100 | X63: 2001 | Y63: 1 | Z63: 13 | AA63: {=INT(_xlfn._xlws.FILTER($V$61:$V$99,$S$61:$S$99=$Y63)*_xlfn._xlws.FILTER(N$53:N$171,$M$53:$M$171=$Z63))} -> #VALUE! | AB63: {=_xlfn._xlws.FILTER(O$53:O$171,$M$53:$M$171=$Z63)} -> #VALUE! | AC63: {=_xlfn._xlws.FILTER(P$53:P$171,$M$53:$M$171=$Z63)} -> #VALUE! | AD63: {=INT(_xlfn._xlws.FILTER(Q$53:Q$171,$M$53:$M$171=$Z63)*100)} -> #VALUE! | AE63: 30001 | AF63: ="item_"&AE63&"_"&AG63 -> item_30001_9 | AG63: 9
A64: 614400 | D64: item_30002_5 | E64: , | F64: item_10000001_ | G64: 9600 | M64: 6 | N64: 2.5 | O64: 0.03 | P64: 0.06 | Q64: 0.03 | R64: 7 | S64: 2 | T64: 1 | U64: 1 | V64: 100 | X64: 2001 | Y64: 1 | Z64: 13 | AA64: {=INT(_xlfn._xlws.FILTER($V$61:$V$99,$S$61:$S$99=$Y64)*_xlfn._xlws.FILTER(N$53:N$171,$M$53:$M$171=$Z64))} -> #VALUE! | AB64: {=_xlfn._xlws.FILTER(O$53:O$171,$M$53:$M$171=$Z64)} -> #VALUE! | AC64: {=_xlfn._xlws.FILTER(P$53:P$171,$M$53:$M$171=$Z64)} -> #VALUE! | AD64: {=INT(_xlfn._xlws.FILTER(Q$53:Q$171,$M$53:$M$171=$Z64)*100)} -> #VALUE! | AE64: 30001 | AF64: ="item_"&AE64&"_"&AG64 -> item_30001_9 | AG64: 9
A65: 628856 | D65: item_30002_5 | E65: , | F65: item_10000001_ | G65: 13416 | M65: 7 | N65: 2.75 | O65: 0.035 | P65: 0.07 | Q65: 0.035 | R65: 7 | S65: 3 | T65: 1.2 | U65: 1 | V65: 83.333333 | X65: 2001 | Y65: 1 | Z65: 14 | AA65: {=INT(_xlfn._xlws.FILTER($V$61:$V$99,$S$61:$S$99=$Y65)*_xlfn._xlws.FILTER(N$53:N$171,$M$53:$M$171=$Z65))} -> #VALUE! | AB65: {=_xlfn._xlws.FILTER(O$53:O$171,$M$53:$M$171=$Z65)} -> #VALUE! | AC65: {=_xlfn._xlws.FILTER(P$53:P$171,$M$53:$M$171=$Z65)} -> #VALUE! | AD65: {=INT(_xlfn._xlws.FILTER(Q$53:Q$171,$M$53:$M$171=$Z65)*100)} -> #VALUE! | AE65: 30001 | AF65: ="item_"&AE65&"_"&AG65 -> item_30001_9 | AG65: 9
A66: 643424 | D66: item_30002_7 | E66: , | F66: item_10000001_ | G66: 17636 | M66: 7 | N66: 2.75 | O66: 0.035 | P66: 0.07 | Q66: 0.035 | R66: 7 | S66: 3 | T66: 1.2 | U66: 1 | V66: 83.333333 | X66: 2001 | Y66: 1 | Z66: 14 | AA66: {=INT(_xlfn._xlws.FILTER($V$61:$V$99,$S$61:$S$99=$Y66)*_xlfn._xlws.FILTER(N$53:N$171,$M$53:$M$171=$Z66))} -> #VALUE! | AB66: {=_xlfn._xlws.FILTER(O$53:O$171,$M$53:$M$171=$Z66)} -> #VALUE! | AC66: {=_xlfn._xlws.FILTER(P$53:P$171,$M$53:$M$171=$Z66)} -> #VALUE! | AD66: {=INT(_xlfn._xlws.FILTER(Q$53:Q$171,$M$53:$M$171=$Z66)*100)} -> #VALUE! | AE66: 30001 | AF66: ="item_"&AE66&"_"&AG66 -> item_30001_9 | AG66: 9
A67: 658103 | D67: item_30002_7 | E67: , | F67: item_10000001_ | G67: 22224 | M67: 8 | N67: 3 | O67: 0.04 | P67: 0.08 | Q67: 0.04 | R67: 7 | S67: 4 | T67: 1.5 | U67: 1 | V67: 72.727273 | X67: 2001 | Y67: 1 | Z67: 15 | AA67: {=INT(_xlfn._xlws.FILTER($V$61:$V$99,$S$61:$S$99=$Y67)*_xlfn._xlws.FILTER(N$53:N$171,$M$53:$M$171=$Z67))} -> #VALUE! | AB67: {=_xlfn._xlws.FILTER(O$53:O$171,$M$53:$M$171=$Z67)} -> #VALUE! | AC67: {=_xlfn._xlws.FILTER(P$53:P$171,$M$53:$M$171=$Z67)} -> #VALUE! | AD67: {=INT(_xlfn._xlws.FILTER(Q$53:Q$171,$M$53:$M$171=$Z67)*100)} -> #VALUE! | AE67: 30001 | AF67: ="item_"&AE67&"_"&AG67 -> item_30001_9 | AG67: 9
A68: 672890 | D68: item_30002_7 | E68: , | F68: item_10000001_ | G68: 27152 | M68: 8 | N68: 3 | O68: 0.04 | P68: 0.08 | Q68: 0.04 | R68: 7 | S68: 4 | T68: 1.5 | U68: 1 | V68: 72.727273 | X68: 2001 | Y68: 1 | Z68: 15 | AA68: {=INT(_xlfn._xlws.FILTER($V$61:$V$99,$S$61:$S$99=$Y68)*_xlfn._xlws.FILTER(N$53:N$171,$M$53:$M$171=$Z68))} -> #VALUE! | AB68: {=_xlfn._xlws.FILTER(O$53:O$171,$M$53:$M$171=$Z68)} -> #VALUE! | AC68: {=_xlfn._xlws.FILTER(P$53:P$171,$M$53:$M$171=$Z68)} -> #VALUE! | AD68: {=INT(_xlfn._xlws.FILTER(Q$53:Q$171,$M$53:$M$171=$Z68)*100)} -> #VALUE! | AE68: 30001 | AF68: ="item_"&AE68&"_"&AG68 -> item_30001_9 | AG68: 9
A69: 687788 | D69: item_30002_7 | E69: , | F69: item_10000001_ | G69: 32400 | M69: 9 | N69: 3.25 | O69: 0.045 | P69: 0.09 | Q69: 0.045 | R69: 7 | S69: 5 | T69: 2 | U69: 1 | V69: 54.545455 | X69: 2001 | Y69: 1 | Z69: 16 | AA69: {=INT(_xlfn._xlws.FILTER($V$61:$V$99,$S$61:$S$99=$Y69)*_xlfn._xlws.FILTER(N$53:N$171,$M$53:$M$171=$Z69))} -> #VALUE! | AB69: {=_xlfn._xlws.FILTER(O$53:O$171,$M$53:$M$171=$Z69)} -> #VALUE! | AC69: {=_xlfn._xlws.FILTER(P$53:P$171,$M$53:$M$171=$Z69)} -> #VALUE! | AD69: {=INT(_xlfn._xlws.FILTER(Q$53:Q$171,$M$53:$M$171=$Z69)*100)} -> #VALUE! | AE69: 30001 | AF69: ="item_"&AE69&"_"&AG69 -> item_30001_11 | AG69: 11
A70: 702794 | D70: item_30002_7 | E70: , | F70: item_10000001_ | G70: 37948 | M70: 9 | N70: 3.25 | O70: 0.045 | P70: 0.09 | Q70: 0.045 | R70: 7 | S70: 5 | T70: 2 | U70: 1 | V70: 54.545455 | X70: 2001 | Y70: 1 | Z70: 16 | AA70: {=INT(_xlfn._xlws.FILTER($V$61:$V$99,$S$61:$S$99=$Y70)*_xlfn._xlws.FILTER(N$53:N$171,$M$53:$M$171=$Z70))} -> #VALUE! | AB70: {=_xlfn._xlws.FILTER(O$53:O$171,$M$53:$M$171=$Z70)} -> #VALUE! | AC70: {=_xlfn._xlws.FILTER(P$53:P$171,$M$53:$M$171=$Z70)} -> #VALUE! | AD70: {=INT(_xlfn._xlws.FILTER(Q$53:Q$171,$M$53:$M$171=$Z70)*100)} -> #VALUE! | AE70: 30001 | AF70: ="item_"&AE70&"_"&AG70 -> item_30001_11 | AG70: 11
A71: 717908 | D71: item_30002_9 | E71: , | F71: item_10000001_ | G71: 43780 | M71: 10 | N71: 3.5 | O71: 0.05 | P71: 0.1 | Q71: 0.05 | R71: 7 | S71: 6 | T71: 1 | U71: 4 | V71: 29.545455 | X71: 2001 | Y71: 1 | Z71: 17 | AA71: {=INT(_xlfn._xlws.FILTER($V$61:$V$99,$S$61:$S$99=$Y71)*_xlfn._xlws.FILTER(N$53:N$171,$M$53:$M$171=$Z71))} -> #VALUE! | AB71: {=_xlfn._xlws.FILTER(O$53:O$171,$M$53:$M$171=$Z71)} -> #VALUE! | AC71: {=_xlfn._xlws.FILTER(P$53:P$171,$M$53:$M$171=$Z71)} -> #VALUE! | AD71: {=INT(_xlfn._xlws.FILTER(Q$53:Q$171,$M$53:$M$171=$Z71)*100)} -> #VALUE! | AE71: 30001 | AF71: ="item_"&AE71&"_"&AG71 -> item_30001_11 | AG71: 11
A72: 733128 | D72: item_30002_9 | E72: , | F72: item_10000001_ | G72: 49883 | M72: 10 | N72: 3.5 | O72: 0.05 | P72: 0.1 | Q72: 0.05 | R72: 7 | S72: 6 | T72: 1 | U72: 4 | V72: 29.545455 | X72: 2001 | Y72: 1 | Z72: 17 | AA72: {=INT(_xlfn._xlws.FILTER($V$61:$V$99,$S$61:$S$99=$Y72)*_xlfn._xlws.FILTER(N$53:N$171,$M$53:$M$171=$Z72))} -> #VALUE! | AB72: {=_xlfn._xlws.FILTER(O$53:O$171,$M$53:$M$171=$Z72)} -> #VALUE! | AC72: {=_xlfn._xlws.FILTER(P$53:P$171,$M$53:$M$171=$Z72)} -> #VALUE! | AD72: {=INT(_xlfn._xlws.FILTER(Q$53:Q$171,$M$53:$M$171=$Z72)*100)} -> #VALUE! | AE72: 30001 | AF72: ="item_"&AE72&"_"&AG72 -> item_30001_11 | AG72: 11
A73: 748454 | D73: item_30002_9 | E73: , | F73: item_10000001_ | G73: 56246 | I73: 399 | J73: =I73-5 -> 394 | M73: 11 | N73: 3.75 | O73: 0.055 | P73: 0.11 | Q73: 0.055 | R73: 9 | S73: 7 | T73: 1.2 | U73: 1 | V73: 253.33333 | X73: 2001 | Y73: 1 | Z73: 18 | AA73: {=INT(_xlfn._xlws.FILTER($V$61:$V$99,$S$61:$S$99=$Y73)*_xlfn._xlws.FILTER(N$53:N$171,$M$53:$M$171=$Z73))} -> #VALUE! | AB73: {=_xlfn._xlws.FILTER(O$53:O$171,$M$53:$M$171=$Z73)} -> #VALUE! | AC73: {=_xlfn._xlws.FILTER(P$53:P$171,$M$53:$M$171=$Z73)} -> #VALUE! | AD73: {=INT(_xlfn._xlws.FILTER(Q$53:Q$171,$M$53:$M$171=$Z73)*100)} -> #VALUE! | AE73: 30001 | AF73: ="item_"&AE73&"_"&AG73 -> item_30001_11 | AG73: 11
A74: 763886 | D74: item_30002_9 | E74: , | F74: item_10000001_ | G74: 62860 | I74: 399 | J74: =I74-5 -> 394 | M74: 11 | N74: 3.75 | O74: 0.055 | P74: 0.11 | Q74: 0.055 | R74: 9 | S74: 7 | T74: 1.2 | U74: 1 | V74: 253.33333 | X74: 2001 | Y74: 1 | Z74: 18 | AA74: {=INT(_xlfn._xlws.FILTER($V$61:$V$99,$S$61:$S$99=$Y74)*_xlfn._xlws.FILTER(N$53:N$171,$M$53:$M$171=$Z74))} -> #VALUE! | AB74: {=_xlfn._xlws.FILTER(O$53:O$171,$M$53:$M$171=$Z74)} -> #VALUE! | AC74: {=_xlfn._xlws.FILTER(P$53:P$171,$M$53:$M$171=$Z74)} -> #VALUE! | AD74: {=INT(_xlfn._xlws.FILTER(Q$53:Q$171,$M$53:$M$171=$Z74)*100)} -> #VALUE! | AE74: 30001 | AF74: ="item_"&AE74&"_"&AG74 -> item_30001_11 | AG74: 11
A75: 779423 | D75: item_30002_9 | E75: , | F75: item_10000001_ | G75: 69714 | I75: 434 | J75: =I75-5 -> 429 | M75: 12 | N75: 4 | O75: 0.06 | P75: 0.12 | Q75: 0.06 | R75: 9 | S75: 8 | T75: 1.1 | U75: 1 | V75: 274.90909 | X75: 2001 | Y75: 1 | Z75: 19 | AA75: {=INT(_xlfn._xlws.FILTER($V$61:$V$99,$S$61:$S$99=$Y75)*_xlfn._xlws.FILTER(N$53:N$171,$M$53:$M$171=$Z75))} -> #VALUE! | AB75: {=_xlfn._xlws.FILTER(O$53:O$171,$M$53:$M$171=$Z75)} -> #VALUE! | AC75: {=_xlfn._xlws.FILTER(P$53:P$171,$M$53:$M$171=$Z75)} -> #VALUE! | AD75: {=INT(_xlfn._xlws.FILTER(Q$53:Q$171,$M$53:$M$171=$Z75)*100)} -> #VALUE! | AE75: 30001 | AF75: ="item_"&AE75&"_"&AG75 -> item_30001_11 | AG75: 11
A76: 795064 | D76: item_30002_11 | E76: , | F76: item_10000001_ | G76: 76800 | I76: 434 | J76: =I76-5 -> 429 | M76: 12 | N76: 4 | O76: 0.06 | P76: 0.12 | Q76: 0.06 | R76: 9 | S76: 8 | T76: 1.1 | U76: 1 | V76: 274.90909 | X76: 2001 | Y76: 1 | Z76: 19 | AA76: {=INT(_xlfn._xlws.FILTER($V$61:$V$99,$S$61:$S$99=$Y76)*_xlfn._xlws.FILTER(N$53:N$171,$M$53:$M$171=$Z76))} -> #VALUE! | AB76: {=_xlfn._xlws.FILTER(O$53:O$171,$M$53:$M$171=$Z76)} -> #VALUE! | AC76: {=_xlfn._xlws.FILTER(P$53:P$171,$M$53:$M$171=$Z76)} -> #VALUE! | AD76: {=INT(_xlfn._xlws.FILTER(Q$53:Q$171,$M$53:$M$171=$Z76)*100)} -> #VALUE! | AE76: 30001 | AF76: ="item_"&AE76&"_"&AG76 -> item_30001_11 | AG76: 11
A77: 810806 | D77: item_30002_11 | E77: , | F77: item_10000001_ | G77: 84112 | I77: 466 | J77: =I77-5 -> 461 | M77: 13 | N77: 4.25 | O77: 0.065 | P77: 0.13 | Q77: 0.065 | R77: 9 | S77: 9 | T77: 1.5 | U77: 1 | V77: 211.2 | X77: 2001 | Y77: 1 | Z77: 20 | AA77: {=INT(_xlfn._xlws.FILTER($V$61:$V$99,$S$61:$S$99=$Y77)*_xlfn._xlws.FILTER(N$53:N$171,$M$53:$M$171=$Z77))} -> #VALUE! | AB77: {=_xlfn._xlws.FILTER(O$53:O$171,$M$53:$M$171=$Z77)} -> #VALUE! | AC77: {=_xlfn._xlws.FILTER(P$53:P$171,$M$53:$M$171=$Z77)} -> #VALUE! | AD77: {=INT(_xlfn._xlws.FILTER(Q$53:Q$171,$M$53:$M$171=$Z77)*100)} -> #VALUE! | AE77: 30001 | AF77: ="item_"&AE77&"_"&AG77 -> item_30001_11 | AG77: 11
A78: 826652 | D78: item_30002_11 | E78: , | F78: item_10000001_ | G78: 91642 | I78: 466 | J78: =I78-5 -> 461 | M78: 13 | N78: 4.25 | O78: 0.065 | P78: 0.13 | Q78: 0.065 | R78: 9 | S78: 9 | T78: 1.5 | U78: 1 | V78: 211.2 | X78: 2001 | Y78: 1 | Z78: 20 | AA78: {=INT(_xlfn._xlws.FILTER($V$61:$V$99,$S$61:$S$99=$Y78)*_xlfn._xlws.FILTER(N$53:N$171,$M$53:$M$171=$Z78))} -> #VALUE! | AB78: {=_xlfn._xlws.FILTER(O$53:O$171,$M$53:$M$171=$Z78)} -> #VALUE! | AC78: {=_xlfn._xlws.FILTER(P$53:P$171,$M$53:$M$171=$Z78)} -> #VALUE! | AD78: {=INT(_xlfn._xlws.FILTER(Q$53:Q$171,$M$53:$M$171=$Z78)*100)} -> #VALUE! | AE78: 30001 | AF78: ="item_"&AE78&"_"&AG78 -> item_30001_11 | AG78: 11
A79: 842600 | D79: item_30002_11 | E79: , | F79: item_10000001_ | G79: 99383 | I79: 502 | J79: =I79-5 -> 497 | M79: 14 | N79: 4.5 | O79: 0.07 | P79: 0.14 | Q79: 0.07 | R79: 9 | S79: 10 | T79: 1.5 | U79: 3 | V79: 85.866667 | X79: 2001 | Y79: 1 | Z79: 21 | AA79: {=INT(_xlfn._xlws.FILTER($V$61:$V$99,$S$61:$S$99=$Y79)*_xlfn._xlws.FILTER(N$53:N$171,$M$53:$M$171=$Z79))} -> #VALUE! | AB79: {=_xlfn._xlws.FILTER(O$53:O$171,$M$53:$M$171=$Z79)} -> #VALUE! | AC79: {=_xlfn._xlws.FILTER(P$53:P$171,$M$53:$M$171=$Z79)} -> #VALUE! | AD79: {=INT(_xlfn._xlws.FILTER(Q$53:Q$171,$M$53:$M$171=$Z79)*100)} -> #VALUE! | AE79: 30001 | AF79: ="item_"&AE79&"_"&AG79 -> item_30001_13 | AG79: 13
A80: 858650 | D80: item_30002_11 | E80: , | F80: item_10000001_ | G80: 107332 | I80: 502 | J80: =I80-5 -> 497 | M80: 14 | N80: 4.5 | O80: 0.07 | P80: 0.14 | Q80: 0.07 | R80: 9 | S80: 10 | T80: 1.5 | U80: 3 | V80: 85.866667 | X80: 2001 | Y80: 1 | Z80: 21 | AA80: {=INT(_xlfn._xlws.FILTER($V$61:$V$99,$S$61:$S$99=$Y80)*_xlfn._xlws.FILTER(N$53:N$171,$M$53:$M$171=$Z80))} -> #VALUE! | AB80: {=_xlfn._xlws.FILTER(O$53:O$171,$M$53:$M$171=$Z80)} -> #VALUE! | AC80: {=_xlfn._xlws.FILTER(P$53:P$171,$M$53:$M$171=$Z80)} -> #VALUE! | AD80: {=INT(_xlfn._xlws.FILTER(Q$53:Q$171,$M$53:$M$171=$Z80)*100)} -> #VALUE! | AE80: 30001 | AF80: ="item_"&AE80&"_"&AG80 -> item_30001_13 | AG80: 13
A81: 874800 | D81: item_30002_13 | E81: , | F81: item_10000001_ | G81: 115481 | I81: 541 | J81: =I81-5 -> 536 | M81: 15 | N81: 4.75 | O81: 0.075 | P81: 0.15 | Q81: 0.075 | R81: 9 | S81: 11 | T81: 1 | U81: 1 | V81: 1440 | X81: 2001 | Y81: 1 | Z81: 22 | AA81: {=INT(_xlfn._xlws.FILTER($V$61:$V$99,$S$61:$S$99=$Y81)*_xlfn._xlws.FILTER(N$53:N$171,$M$53:$M$171=$Z81))} -> #VALUE! | AB81: {=_xlfn._xlws.FILTER(O$53:O$171,$M$53:$M$171=$Z81)} -> #VALUE! | AC81: {=_xlfn._xlws.FILTER(P$53:P$171,$M$53:$M$171=$Z81)} -> #VALUE! | AD81: {=INT(_xlfn._xlws.FILTER(Q$53:Q$171,$M$53:$M$171=$Z81)*100)} -> #VALUE! | AE81: 30001 | AF81: ="item_"&AE81&"_"&AG81 -> item_30001_13 | AG81: 13
A82: 891050 | D82: item_30002_13 | E82: , | F82: item_10000001_ | G82: 123827 | I82: 541 | J82: =I82-5 -> 536 | M82: 15 | N82: 4.75 | O82: 0.075 | P82: 0.15 | Q82: 0.075 | R82: 9 | S82: 11 | T82: 1 | U82: 1 | V82: 1440 | X82: 2001 | Y82: 1 | Z82: 22 | AA82: {=INT(_xlfn._xlws.FILTER($V$61:$V$99,$S$61:$S$99=$Y82)*_xlfn._xlws.FILTER(N$53:N$171,$M$53:$M$171=$Z82))} -> #VALUE! | AB82: {=_xlfn._xlws.FILTER(O$53:O$171,$M$53:$M$171=$Z82)} -> #VALUE! | AC82: {=_xlfn._xlws.FILTER(P$53:P$171,$M$53:$M$171=$Z82)} -> #VALUE! | AD82: {=INT(_xlfn._xlws.FILTER(Q$53:Q$171,$M$53:$M$171=$Z82)*100)} -> #VALUE! | AE82: 30001 | AF82: ="item_"&AE82&"_"&AG82 -> item_30001_13 | AG82: 13
A83: 907399 | D83: item_30002_13 | E83: , | F83: item_10000001_ | G83: 132365 | I83: 582 | J83: =I83-5 -> 577 | M83: 16 | N83: 5 | O83: 0.08 | P83: 0.16 | Q83: 0.08 | R83: 11 | S83: 12 | T83: 1.2 | U83: 1 | V83: 1488 | X83: 2001 | Y83: 1 | Z83: 23 | AA83: {=INT(_xlfn._xlws.FILTER($V$61:$V$99,$S$61:$S$99=$Y83)*_xlfn._xlws.FILTER(N$53:N$171,$M$53:$M$171=$Z83))} -> #VALUE! | AB83: {=_xlfn._xlws.FILTER(O$53:O$171,$M$53:$M$171=$Z83)} -> #VALUE! | AC83: {=_xlfn._xlws.FILTER(P$53:P$171,$M$53:$M$171=$Z83)} -> #VALUE! | AD83: {=INT(_xlfn._xlws.FILTER(Q$53:Q$171,$M$53:$M$171=$Z83)*100)} -> #VALUE! | AE83: 30001 | AF83: ="item_"&AE83&"_"&AG83 -> item_30001_13 | AG83: 13
A84: 923848 | D84: item_30002_13 | E84: , | F84: item_10000001_ | G84: 141091 | I84: 582 | J84: =I84-5 -> 577 | M84: 16 | N84: 5 | O84: 0.08 | P84: 0.16 | Q84: 0.08 | R84: 11 | S84: 12 | T84: 1.2 | U84: 1 | V84: 1488 | X84: 2001 | Y84: 1 | Z84: 23 | AA84: {=INT(_xlfn._xlws.FILTER($V$61:$V$99,$S$61:$S$99=$Y84)*_xlfn._xlws.FILTER(N$53:N$171,$M$53:$M$171=$Z84))} -> #VALUE! | AB84: {=_xlfn._xlws.FILTER(O$53:O$171,$M$53:$M$171=$Z84)} -> #VALUE! | AC84: {=_xlfn._xlws.FILTER(P$53:P$171,$M$53:$M$171=$Z84)} -> #VALUE! | AD84: {=INT(_xlfn._xlws.FILTER(Q$53:Q$171,$M$53:$M$171=$Z84)*100)} -> #VALUE! | AE84: 30001 | AF84: ="item_"&AE84&"_"&AG84 -> item_30001_13 | AG84: 13
... A100: 1200000 | D100: item_30002_19 | E100: , | F100: item_10000001_ | G100: 303578 | I100: 956 | J100: =I100-5 -> 951 | M100: 24 | N100: 7 | O100: 0.12 | P100: 0.24 | Q100: 0.12 | R100: 13 | S100: 20 | T100: 2 | U100: 1 | V100: 12647.059 | X100: 2001 | Y100: 1 | Z100: 31 | AA100: {=INT(_xlfn._xlws.FILTER($V$61:$V$99,$S$61:$S$99=$Y100)*_xlfn._xlws.FILTER(N$53:N$171,$M$53:$M$171=$Z100))} -> #VALUE! | AB100: {=_xlfn._xlws.FILTER(O$53:O$171,$M$53:$M$171=$Z100)} -> #VALUE! | AC100: {=_xlfn._xlws.FILTER(P$53:P$171,$M$53:$M$171=$Z100)} -> #VALUE! | AD100: {=INT(_xlfn._xlws.FILTER(Q$53:Q$171,$M$53:$M$171=$Z100)*100)} -> #VALUE! | AE100: 30001 | AF100: ="item_"&AE100&"_"&AG100 -> item_30001_17 | AG100: 17
D101: item_30002_22 | E101: , | F101: item_10000001_ | G101: 315034 | I101: 1006 | J101: =I101-5 -> 1001 | M101: 25 | N101: 7.25 | O101: 0.125 | P101: 0.25 | Q101: 0.125 | R101: 13 | X101: 2001 | Y101: 1 | Z101: 32 | AA101: {=INT(_xlfn._xlws.FILTER($V$61:$V$99,$S$61:$S$99=$Y101)*_xlfn._xlws.FILTER(N$53:N$171,$M$53:$M$171=$Z101))} -> #VALUE! | AB101: {=_xlfn._xlws.FILTER(O$53:O$171,$M$53:$M$171=$Z101)} -> #VALUE! | AC101: {=_xlfn._xlws.FILTER(P$53:P$171,$M$53:$M$171=$Z101)} -> #VALUE! | AD101: {=INT(_xlfn._xlws.FILTER(Q$53:Q$171,$M$53:$M$171=$Z101)*100)} -> #VALUE! | AE101: 30001 | AF101: ="item_"&AE101&"_"&AG101 -> item_30001_17 | AG101: 17
D102: item_30002_22 | E102: , | F102: item_10000001_ | G102: 326629 | I102: 1006 | J102: =I102-5 -> 1001 | M102: 25 | N102: 7.25 | O102: 0.125 | P102: 0.25 | Q102: 0.125 | R102: 13 | X102: 2001 | Y102: 1 | Z102: 32 | AA102: {=INT(_xlfn._xlws.FILTER($V$61:$V$99,$S$61:$S$99=$Y102)*_xlfn._xlws.FILTER(N$53:N$171,$M$53:$M$171=$Z102))} -> #VALUE! | AB102: {=_xlfn._xlws.FILTER(O$53:O$171,$M$53:$M$171=$Z102)} -> #VALUE! | AC102: {=_xlfn._xlws.FILTER(P$53:P$171,$M$53:$M$171=$Z102)} -> #VALUE! | AD102: {=INT(_xlfn._xlws.FILTER(Q$53:Q$171,$M$53:$M$171=$Z102)*100)} -> #VALUE! | AE102: 30001 | AF102: ="item_"&AE102&"_"&AG102 -> item_30001_17 | AG102: 17
D103: item_30002_22 | E103: , | F103: item_10000001_ | G103: 338364 | I103: 1058 | J103: =I103-5 -> 1053 | M103: 26 | N103: 7.5 | O103: 0.13 | P103: 0.26 | Q103: 0.13 | R103: 15 | X103: 2001 | Y103: 1 | Z103: 33 | AA103: {=INT(_xlfn._xlws.FILTER($V$61:$V$99,$S$61:$S$99=$Y103)*_xlfn._xlws.FILTER(N$53:N$171,$M$53:$M$171=$Z103))} -> #VALUE! | AB103: {=_xlfn._xlws.FILTER(O$53:O$171,$M$53:$M$171=$Z103)} -> #VALUE! | AC103: {=_xlfn._xlws.FILTER(P$53:P$171,$M$53:$M$171=$Z103)} -> #VALUE! | AD103: {=INT(_xlfn._xlws.FILTER(Q$53:Q$171,$M$53:$M$171=$Z103)*100)} -> #VALUE! | AE103: 30001 | AF103: ="item_"&AE103&"_"&AG103 -> item_30001_17 | AG103: 17
D104: item_30002_22 | E104: , | F104: item_10000001_ | G104: 350236 | I104: 1058 | J104: =I104-5 -> 1053 | M104: 26 | N104: 7.5 | O104: 0.13 | P104: 0.26 | Q104: 0.13 | R104: 15 | X104: 2001 | Y104: 1 | Z104: 33 | AA104: {=INT(_xlfn._xlws.FILTER($V$61:$V$99,$S$61:$S$99=$Y104)*_xlfn._xlws.FILTER(N$53:N$171,$M$53:$M$171=$Z104))} -> #VALUE! | AB104: {=_xlfn._xlws.FILTER(O$53:O$171,$M$53:$M$171=$Z104)} -> #VALUE! | AC104: {=_xlfn._xlws.FILTER(P$53:P$171,$M$53:$M$171=$Z104)} -> #VALUE! | AD104: {=INT(_xlfn._xlws.FILTER(Q$53:Q$171,$M$53:$M$171=$Z104)*100)} -> #VALUE! | AE104: 30001 | AF104: ="item_"&AE104&"_"&AG104 -> item_30001_17 | AG104: 17
D105: item_30002_22 | E105: , | F105: item_10000001_ | G105: 362243 | I105: 1110 | J105: =I105-5 -> 1105 | M105: 27 | N105: 7.75 | O105: 0.135 | P105: 0.27 | Q105: 0.135 | R105: 15 | X105: 2001 | Y105: 1 | Z105: 34 | AA105: {=INT(_xlfn._xlws.FILTER($V$61:$V$99,$S$61:$S$99=$Y105)*_xlfn._xlws.FILTER(N$53:N$171,$M$53:$M$171=$Z105))} -> #VALUE! | AB105: {=_xlfn._xlws.FILTER(O$53:O$171,$M$53:$M$171=$Z105)} -> #VALUE! | AC105: {=_xlfn._xlws.FILTER(P$53:P$171,$M$53:$M$171=$Z105)} -> #VALUE! | AD105: {=INT(_xlfn._xlws.FILTER(Q$53:Q$171,$M$53:$M$171=$Z105)*100)} -> #VALUE! | AE105: 30001 | AF105: ="item_"&AE105&"_"&AG105 -> item_30001_17 | AG105: 17
D106: item_30002_25 | E106: , | F106: item_10000001_ | G106: 374384 | I106: 1110 | J106: =I106-5 -> 1105 | M106: 27 | N106: 7.75 | O106: 0.135 | P106: 0.27 | Q106: 0.135 | R106: 15 | X106: 2001 | Y106: 1 | Z106: 34 | AA106: {=INT(_xlfn._xlws.FILTER($V$61:$V$99,$S$61:$S$99=$Y106)*_xlfn._xlws.FILTER(N$53:N$171,$M$53:$M$171=$Z106))} -> #VALUE! | AB106: {=_xlfn._xlws.FILTER(O$53:O$171,$M$53:$M$171=$Z106)} -> #VALUE! | AC106: {=_xlfn._xlws.FILTER(P$53:P$171,$M$53:$M$171=$Z106)} -> #VALUE! | AD106: {=INT(_xlfn._xlws.FILTER(Q$53:Q$171,$M$53:$M$171=$Z106)*100)} -> #VALUE! | AE106: 30001 | AF106: ="item_"&AE106&"_"&AG106 -> item_30001_17 | AG106: 17
D107: item_30002_25 | E107: , | F107: item_10000001_ | G107: 386659 | I107: 1162 | J107: =I107-5 -> 1157 | M107: 28 | N107: 8 | O107: 0.14 | P107: 0.28 | Q107: 0.14 | R107: 15 | X107: 2001 | Y107: 1 | Z107: 35 | AA107: {=INT(_xlfn._xlws.FILTER($V$61:$V$99,$S$61:$S$99=$Y107)*_xlfn._xlws.FILTER(N$53:N$171,$M$53:$M$171=$Z107))} -> #VALUE! | AB107: {=_xlfn._xlws.FILTER(O$53:O$171,$M$53:$M$171=$Z107)} -> #VALUE! | AC107: {=_xlfn._xlws.FILTER(P$53:P$171,$M$53:$M$171=$Z107)} -> #VALUE! | AD107: {=INT(_xlfn._xlws.FILTER(Q$53:Q$171,$M$53:$M$171=$Z107)*100)} -> #VALUE! | AE107: 30001 | AF107: ="item_"&AE107&"_"&AG107 -> item_30001_17 | AG107: 17
D108: item_30002_25 | E108: , | F108: item_10000001_ | G108: 399065 | I108: 1162 | J108: =I108-5 -> 1157 | M108: 28 | N108: 8 | O108: 0.14 | P108: 0.28 | Q108: 0.14 | R108: 15 | X108: 2001 | Y108: 1 | Z108: 35 | AA108: {=INT(_xlfn._xlws.FILTER($V$61:$V$99,$S$61:$S$99=$Y108)*_xlfn._xlws.FILTER(N$53:N$171,$M$53:$M$171=$Z108))} -> #VALUE! | AB108: {=_xlfn._xlws.FILTER(O$53:O$171,$M$53:$M$171=$Z108)} -> #VALUE! | AC108: {=_xlfn._xlws.FILTER(P$53:P$171,$M$53:$M$171=$Z108)} -> #VALUE! | AD108: {=INT(_xlfn._xlws.FILTER(Q$53:Q$171,$M$53:$M$171=$Z108)*100)} -> #VALUE! | AE108: 30001 | AF108: ="item_"&AE108&"_"&AG108 -> item_30001_17 | AG108: 17
D109: item_30002_25 | E109: , | F109: item_10000001_ | G109: 411600 | I109: 1216 | J109: =I109-5 -> 1211 | M109: 29 | N109: 8.25 | O109: 0.145 | P109: 0.29 | Q109: 0.145 | R109: 15 | X109: 2001 | Y109: 1 | Z109: 36 | AA109: {=INT(_xlfn._xlws.FILTER($V$61:$V$99,$S$61:$S$99=$Y109)*_xlfn._xlws.FILTER(N$53:N$171,$M$53:$M$171=$Z109))} -> #VALUE! | AB109: {=_xlfn._xlws.FILTER(O$53:O$171,$M$53:$M$171=$Z109)} -> #VALUE! | AC109: {=_xlfn._xlws.FILTER(P$53:P$171,$M$53:$M$171=$Z109)} -> #VALUE! | AD109: {=INT(_xlfn._xlws.FILTER(Q$53:Q$171,$M$53:$M$171=$Z109)*100)} -> #VALUE! | AE109: 30001 | AF109: ="item_"&AE109&"_"&AG109 -> item_30001_19 | AG109: 19
D110: item_30002_25 | E110: , | F110: item_10000001_ | G110: 424264 | I110: 1216 | J110: =I110-5 -> 1211 | M110: 29 | N110: 8.25 | O110: 0.145 | P110: 0.29 | Q110: 0.145 | R110: 15 | X110: 2001 | Y110: 1 | Z110: 36 | AA110: {=INT(_xlfn._xlws.FILTER($V$61:$V$99,$S$61:$S$99=$Y110)*_xlfn._xlws.FILTER(N$53:N$171,$M$53:$M$171=$Z110))} -> #VALUE! | AB110: {=_xlfn._xlws.FILTER(O$53:O$171,$M$53:$M$171=$Z110)} -> #VALUE! | AC110: {=_xlfn._xlws.FILTER(P$53:P$171,$M$53:$M$171=$Z110)} -> #VALUE! | AD110: {=INT(_xlfn._xlws.FILTER(Q$53:Q$171,$M$53:$M$171=$Z110)*100)} -> #VALUE! | AE110: 30001 | AF110: ="item_"&AE110&"_"&AG110 -> item_30001_19 | AG110: 19
D111: item_30002_28 | E111: , | F111: item_10000001_ | G111: 437056 | I111: 1270 | J111: =I111-5 -> 1265 | M111: 30 | N111: 8.5 | O111: 0.15 | P111: 0.3 | Q111: 0.15 | R111: 15 | X111: 2001 | Y111: 1 | Z111: 37 | AA111: {=INT(_xlfn._xlws.FILTER($V$61:$V$99,$S$61:$S$99=$Y111)*_xlfn._xlws.FILTER(N$53:N$171,$M$53:$M$171=$Z111))} -> #VALUE! | AB111: {=_xlfn._xlws.FILTER(O$53:O$171,$M$53:$M$171=$Z111)} -> #VALUE! | AC111: {=_xlfn._xlws.FILTER(P$53:P$171,$M$53:$M$171=$Z111)} -> #VALUE! | AD111: {=INT(_xlfn._xlws.FILTER(Q$53:Q$171,$M$53:$M$171=$Z111)*100)} -> #VALUE! | AE111: 30001 | AF111: ="item_"&AE111&"_"&AG111 -> item_30001_19 | AG111: 19
D112: item_30002_28 | E112: , | F112: item_10000001_ | G112: 449972 | I112: 1270 | J112: =I112-5 -> 1265 | M112: 30 | N112: 8.5 | O112: 0.15 | P112: 0.3 | Q112: 0.15 | R112: 15 | X112: 2001 | Y112: 1 | Z112: 37 | AA112: {=INT(_xlfn._xlws.FILTER($V$61:$V$99,$S$61:$S$99=$Y112)*_xlfn._xlws.FILTER(N$53:N$171,$M$53:$M$171=$Z112))} -> #VALUE! | AB112: {=_xlfn._xlws.FILTER(O$53:O$171,$M$53:$M$171=$Z112)} -> #VALUE! | AC112: {=_xlfn._xlws.FILTER(P$53:P$171,$M$53:$M$171=$Z112)} -> #VALUE! | AD112: {=INT(_xlfn._xlws.FILTER(Q$53:Q$171,$M$53:$M$171=$Z112)*100)} -> #VALUE! | AE112: 30001 | AF112: ="item_"&AE112&"_"&AG112 -> item_30001_19 | AG112: 19
... D158: item_30003_19 | E158: , | F158: item_10000001_ | G158: 281098 | I158: 2645 | J158: =I158-5 -> 2640 | M158: 53 | N158: 14.25 | O158: 0.265 | P158: 0.53 | Q158: 0.265 | R158: 28 | X158: 2001 | Y158: 1 | Z158: 60 | AA158: {=INT(_xlfn._xlws.FILTER($V$61:$V$99,$S$61:$S$99=$Y158)*_xlfn._xlws.FILTER(N$53:N$171,$M$53:$M$171=$Z158))} -> #VALUE! | AB158: {=_xlfn._xlws.FILTER(O$53:O$171,$M$53:$M$171=$Z158)} -> 0.3 | AC158: {=_xlfn._xlws.FILTER(P$53:P$171,$M$53:$M$171=$Z158)} -> 0.6 | AD158: {=INT(_xlfn._xlws.FILTER(Q$53:Q$171,$M$53:$M$171=$Z158)*100)} -> 30 | AE158: 30001 | AF158: ="item_"&AE158&"_"&AG158 -> item_30001_31 | AG158: 31
D159: item_30003_19 | E159: , | F159: item_10000001_ | G159: 292266 | I159: 2709 | J159: =I159-5 -> 2704 | M159: 54 | N159: 14.5 | O159: 0.27 | P159: 0.54 | Q159: 0.27 | R159: 28 | X159: =X39+1 -> 2002 | Y159: =Y39+1 -> 2 | Z159: =Z39 -> 1 | AA159: {=INT(_xlfn._xlws.FILTER($V$61:$V$99,$S$61:$S$99=$Y159)*_xlfn._xlws.FILTER(N$53:N$171,$M$53:$M$171=$Z159))} -> #VALUE! | AB159: {=_xlfn._xlws.FILTER(O$53:O$171,$M$53:$M$171=$Z159)} -> #VALUE! | AC159: {=_xlfn._xlws.FILTER(P$53:P$171,$M$53:$M$171=$Z159)} -> #VALUE! | AD159: {=INT(_xlfn._xlws.FILTER(Q$53:Q$171,$M$53:$M$171=$Z159)*100)} -> #VALUE! | AE159: =AE39+1 -> 30002 | AF159: ="item_"&AE159&"_"&AG159 -> item_30002_5 | AG159: =AG39 -> 5
D160: item_30003_19 | E160: , | F160: item_10000001_ | G160: 303578 | I160: 2709 | J160: =I160-5 -> 2704 | M160: 54 | N160: 14.5 | O160: 0.27 | P160: 0.54 | Q160: 0.27 | R160: 28 | X160: =X40+1 -> 2002 | Y160: =Y40+1 -> 2 | Z160: =Z40 -> 1 | AA160: {=INT(_xlfn._xlws.FILTER($V$61:$V$99,$S$61:$S$99=$Y160)*_xlfn._xlws.FILTER(N$53:N$171,$M$53:$M$171=$Z160))} -> #VALUE! | AB160: {=_xlfn._xlws.FILTER(O$53:O$171,$M$53:$M$171=$Z160)} -> #VALUE! | AC160: {=_xlfn._xlws.FILTER(P$53:P$171,$M$53:$M$171=$Z160)} -> #VALUE! | AD160: {=INT(_xlfn._xlws.FILTER(Q$53:Q$171,$M$53:$M$171=$Z160)*100)} -> #VALUE! | AE160: =AE40+1 -> 30002 | AF160: ="item_"&AE160&"_"&AG160 -> item_30002_5 | AG160: =AG40 -> 5
D161: item_30003_22 | E161: , | F161: item_10000001_ | G161: 315034 | I161: 2774 | J161: =I161-5 -> 2769 | M161: 55 | N161: 14.75 | O161: 0.275 | P161: 0.55 | Q161: 0.275 | R161: 28 | X161: =X41+1 -> 2002 | Y161: =Y41+1 -> 2 | Z161: =Z41 -> 2 | AA161: {=INT(_xlfn._xlws.FILTER($V$61:$V$99,$S$61:$S$99=$Y161)*_xlfn._xlws.FILTER(N$53:N$171,$M$53:$M$171=$Z161))} -> #VALUE! | AB161: {=_xlfn._xlws.FILTER(O$53:O$171,$M$53:$M$171=$Z161)} -> #VALUE! | AC161: {=_xlfn._xlws.FILTER(P$53:P$171,$M$53:$M$171=$Z161)} -> #VALUE! | AD161: {=INT(_xlfn._xlws.FILTER(Q$53:Q$171,$M$53:$M$171=$Z161)*100)} -> #VALUE! | AE161: =AE41+1 -> 30002 | AF161: ="item_"&AE161&"_"&AG161 -> item_30002_5 | AG161: =AG41 -> 5
D162: item_30003_22 | E162: , | F162: item_10000001_ | G162: 326629 | I162: 2774 | J162: =I162-5 -> 2769 | M162: 55 | N162: 14.75 | O162: 0.275 | P162: 0.55 | Q162: 0.275 | R162: 28 | X162: =X42+1 -> 2002 | Y162: =Y42+1 -> 2 | Z162: =Z42 -> 2 | AA162: {=INT(_xlfn._xlws.FILTER($V$61:$V$99,$S$61:$S$99=$Y162)*_xlfn._xlws.FILTER(N$53:N$171,$M$53:$M$171=$Z162))} -> #VALUE! | AB162: {=_xlfn._xlws.FILTER(O$53:O$171,$M$53:$M$171=$Z162)} -> #VALUE! | AC162: {=_xlfn._xlws.FILTER(P$53:P$171,$M$53:$M$171=$Z162)} -> #VALUE! | AD162: {=INT(_xlfn._xlws.FILTER(Q$53:Q$171,$M$53:$M$171=$Z162)*100)} -> #VALUE! | AE162: =AE42+1 -> 30002 | AF162: ="item_"&AE162&"_"&AG162 -> item_30002_5 | AG162: =AG42 -> 5
D163: item_30003_22 | E163: , | F163: item_10000001_ | G163: 338364 | I163: 2839 | J163: =I163-5 -> 2834 | M163: 56 | N163: 15 | O163: 0.28 | P163: 0.56 | Q163: 0.28 | R163: 31 | X163: =X43+1 -> 2002 | Y163: =Y43+1 -> 2 | Z163: =Z43 -> 3 | AA163: {=INT(_xlfn._xlws.FILTER($V$61:$V$99,$S$61:$S$99=$Y163)*_xlfn._xlws.FILTER(N$53:N$171,$M$53:$M$171=$Z163))} -> #VALUE! | AB163: {=_xlfn._xlws.FILTER(O$53:O$171,$M$53:$M$171=$Z163)} -> #VALUE! | AC163: {=_xlfn._xlws.FILTER(P$53:P$171,$M$53:$M$171=$Z163)} -> #VALUE! | AD163: {=INT(_xlfn._xlws.FILTER(Q$53:Q$171,$M$53:$M$171=$Z163)*100)} -> #VALUE! | AE163: =AE43+1 -> 30002 | AF163: ="item_"&AE163&"_"&AG163 -> item_30002_5 | AG163: =AG43 -> 5
D164: item_30003_22 | E164: , | F164: item_10000001_ | G164: 350236 | I164: 2839 | J164: =I164-5 -> 2834 | M164: 56 | N164: 15 | O164: 0.28 | P164: 0.56 | Q164: 0.28 | R164: 31 | X164: =X44+1 -> 2002 | Y164: =Y44+1 -> 2 | Z164: =Z44 -> 3 | AA164: {=INT(_xlfn._xlws.FILTER($V$61:$V$99,$S$61:$S$99=$Y164)*_xlfn._xlws.FILTER(N$53:N$171,$M$53:$M$171=$Z164))} -> #VALUE! | AB164: {=_xlfn._xlws.FILTER(O$53:O$171,$M$53:$M$171=$Z164)} -> #VALUE! | AC164: {=_xlfn._xlws.FILTER(P$53:P$171,$M$53:$M$171=$Z164)} -> #VALUE! | AD164: {=INT(_xlfn._xlws.FILTER(Q$53:Q$171,$M$53:$M$171=$Z164)*100)} -> #VALUE! | AE164: =AE44+1 -> 30002 | AF164: ="item_"&AE164&"_"&AG164 -> item_30002_5 | AG164: =AG44 -> 5
D165: item_30003_22 | E165: , | F165: item_10000001_ | G165: 362243 | I165: 2904 | J165: =I165-5 -> 2899 | M165: 57 | N165: 15.25 | O165: 0.285 | P165: 0.57 | Q165: 0.285 | R165: 31 | X165: =X45+1 -> 2002 | Y165: =Y45+1 -> 2 | Z165: =Z45 -> 4 | AA165: {=INT(_xlfn._xlws.FILTER($V$61:$V$99,$S$61:$S$99=$Y165)*_xlfn._xlws.FILTER(N$53:N$171,$M$53:$M$171=$Z165))} -> #VALUE! | AB165: {=_xlfn._xlws.FILTER(O$53:O$171,$M$53:$M$171=$Z165)} -> #VALUE! | AC165: {=_xlfn._xlws.FILTER(P$53:P$171,$M$53:$M$171=$Z165)} -> #VALUE! | AD165: {=INT(_xlfn._xlws.FILTER(Q$53:Q$171,$M$53:$M$171=$Z165)*100)} -> #VALUE! | AE165: =AE45+1 -> 30002 | AF165: ="item_"&AE165&"_"&AG165 -> item_30002_5 | AG165: =AG45 -> 5
D166: item_30003_25 | E166: , | F166: item_10000001_ | G166: 374384 | I166: 2904 | J166: =I166-5 -> 2899 | M166: 57 | N166: 15.25 | O166: 0.285 | P166: 0.57 | Q166: 0.285 | R166: 31 | X166: =X46+1 -> 2002 | Y166: =Y46+1 -> 2 | Z166: =Z46 -> 4 | AA166: {=INT(_xlfn._xlws.FILTER($V$61:$V$99,$S$61:$S$99=$Y166)*_xlfn._xlws.FILTER(N$53:N$171,$M$53:$M$171=$Z166))} -> #VALUE! | AB166: {=_xlfn._xlws.FILTER(O$53:O$171,$M$53:$M$171=$Z166)} -> #VALUE! | AC166: {=_xlfn._xlws.FILTER(P$53:P$171,$M$53:$M$171=$Z166)} -> #VALUE! | AD166: {=INT(_xlfn._xlws.FILTER(Q$53:Q$171,$M$53:$M$171=$Z166)*100)} -> #VALUE! | AE166: =AE46+1 -> 30002 | AF166: ="item_"&AE166&"_"&AG166 -> item_30002_5 | AG166: =AG46 -> 5
D167: item_30003_25 | E167: , | F167: item_10000001_ | G167: 386659 | I167: 2969 | J167: =I167-5 -> 2964 | M167: 58 | N167: 15.5 | O167: 0.29 | P167: 0.58 | Q167: 0.29 | R167: 31 | X167: =X47+1 -> 2002 | Y167: =Y47+1 -> 2 | Z167: =Z47 -> 5 | AA167: {=INT(_xlfn._xlws.FILTER($V$61:$V$99,$S$61:$S$99=$Y167)*_xlfn._xlws.FILTER(N$53:N$171,$M$53:$M$171=$Z167))} -> #VALUE! | AB167: {=_xlfn._xlws.FILTER(O$53:O$171,$M$53:$M$171=$Z167)} -> #VALUE! | AC167: {=_xlfn._xlws.FILTER(P$53:P$171,$M$53:$M$171=$Z167)} -> #VALUE! | AD167: {=INT(_xlfn._xlws.FILTER(Q$53:Q$171,$M$53:$M$171=$Z167)*100)} -> #VALUE! | AE167: =AE47+1 -> 30002 | AF167: ="item_"&AE167&"_"&AG167 -> item_30002_5 | AG167: =AG47 -> 5
D168: item_30003_25 | E168: , | F168: item_10000001_ | G168: 399065 | I168: 2969 | J168: =I168-5 -> 2964 | M168: 58 | N168: 15.5 | O168: 0.29 | P168: 0.58 | Q168: 0.29 | R168: 31 | X168: =X48+1 -> 2002 | Y168: =Y48+1 -> 2 | Z168: =Z48 -> 5 | AA168: {=INT(_xlfn._xlws.FILTER($V$61:$V$99,$S$61:$S$99=$Y168)*_xlfn._xlws.FILTER(N$53:N$171,$M$53:$M$171=$Z168))} -> #VALUE! | AB168: {=_xlfn._xlws.FILTER(O$53:O$171,$M$53:$M$171=$Z168)} -> #VALUE! | AC168: {=_xlfn._xlws.FILTER(P$53:P$171,$M$53:$M$171=$Z168)} -> #VALUE! | AD168: {=INT(_xlfn._xlws.FILTER(Q$53:Q$171,$M$53:$M$171=$Z168)*100)} -> #VALUE! | AE168: =AE48+1 -> 30002 | AF168: ="item_"&AE168&"_"&AG168 -> item_30002_5 | AG168: =AG48 -> 5
D169: item_30003_25 | E169: , | F169: item_10000001_ | G169: 411600 | I169: 3035 | J169: =I169-5 -> 3030 | M169: 59 | N169: 15.75 | O169: 0.295 | P169: 0.59 | Q169: 0.295 | R169: 31 | X169: =X49+1 -> 2002 | Y169: =Y49+1 -> 2 | Z169: =Z49 -> 6 | AA169: {=INT(_xlfn._xlws.FILTER($V$61:$V$99,$S$61:$S$99=$Y169)*_xlfn._xlws.FILTER(N$53:N$171,$M$53:$M$171=$Z169))} -> #VALUE! | AB169: {=_xlfn._xlws.FILTER(O$53:O$171,$M$53:$M$171=$Z169)} -> #VALUE! | AC169: {=_xlfn._xlws.FILTER(P$53:P$171,$M$53:$M$171=$Z169)} -> #VALUE! | AD169: {=INT(_xlfn._xlws.FILTER(Q$53:Q$171,$M$53:$M$171=$Z169)*100)} -> #VALUE! | AE169: =AE49+1 -> 30002 | AF169: ="item_"&AE169&"_"&AG169 -> item_30002_7 | AG169: =AG49 -> 7
D170: item_30003_25 | E170: , | F170: item_10000001_ | G170: 424264 | I170: 3035 | J170: =I170-5 -> 3030 | M170: 59 | N170: 15.75 | O170: 0.295 | P170: 0.59 | Q170: 0.295 | R170: 31 | X170: =X50+1 -> 2002 | Y170: =Y50+1 -> 2 | Z170: =Z50 -> 6 | AA170: {=INT(_xlfn._xlws.FILTER($V$61:$V$99,$S$61:$S$99=$Y170)*_xlfn._xlws.FILTER(N$53:N$171,$M$53:$M$171=$Z170))} -> #VALUE! | AB170: {=_xlfn._xlws.FILTER(O$53:O$171,$M$53:$M$171=$Z170)} -> #VALUE! | AC170: {=_xlfn._xlws.FILTER(P$53:P$171,$M$53:$M$171=$Z170)} -> #VALUE! | AD170: {=INT(_xlfn._xlws.FILTER(Q$53:Q$171,$M$53:$M$171=$Z170)*100)} -> #VALUE! | AE170: =AE50+1 -> 30002 | AF170: ="item_"&AE170&"_"&AG170 -> item_30002_7 | AG170: =AG50 -> 7
... D172: item_30003_28 | E172: , | F172: item_10000001_ | G172: 449972 | I172: 3101 | J172: =I172-5 -> 3096 | M172: 60 | N172: 16 | O172: 0.3 | P172: 0.6 | Q172: 0.3 | R172: 31 | X172: =X52+1 -> 2002 | Y172: =Y52+1 -> 2 | Z172: =Z52 -> 7 | AA172: {=INT(_xlfn._xlws.FILTER($V$61:$V$99,$S$61:$S$99=$Y172)*_xlfn._xlws.FILTER(N$53:N$171,$M$53:$M$171=$Z172))} -> #VALUE! | AB172: {=_xlfn._xlws.FILTER(O$53:O$171,$M$53:$M$171=$Z172)} -> #VALUE! | AC172: {=_xlfn._xlws.FILTER(P$53:P$171,$M$53:$M$171=$Z172)} -> #VALUE! | AD172: {=INT(_xlfn._xlws.FILTER(Q$53:Q$171,$M$53:$M$171=$Z172)*100)} -> #VALUE! | AE172: =AE52+1 -> 30002 | AF172: ="item_"&AE172&"_"&AG172 -> item_30002_7 | AG172: =AG52 -> 7
D173: item_30003_28 | E173: , | F173: item_10000001_ | G173: 463015 | I173: 3168 | J173: =I173-5 -> 3163 | X173: =X53+1 -> 2002 | Y173: =Y53+1 -> 2 | Z173: =Z53 -> 8 | AA173: {=INT(_xlfn._xlws.FILTER($V$61:$V$99,$S$61:$S$99=$Y173)*_xlfn._xlws.FILTER(N$53:N$171,$M$53:$M$171=$Z173))} -> #VALUE! | AB173: {=_xlfn._xlws.FILTER(O$53:O$171,$M$53:$M$171=$Z173)} -> #VALUE! | AC173: {=_xlfn._xlws.FILTER(P$53:P$171,$M$53:$M$171=$Z173)} -> #VALUE! | AD173: {=INT(_xlfn._xlws.FILTER(Q$53:Q$171,$M$53:$M$171=$Z173)*100)} -> #VALUE! | AE173: =AE53+1 -> 30002 | AF173: ="item_"&AE173&"_"&AG173 -> item_30002_7 | AG173: =AG53 -> 7
D174: item_30003_28 | E174: , | F174: item_10000001_ | G174: 476180 | I174: 3168 | J174: =I174-5 -> 3163 | X174: =X54+1 -> 2002 | Y174: =Y54+1 -> 2 | Z174: =Z54 -> 8 | AA174: {=INT(_xlfn._xlws.FILTER($V$61:$V$99,$S$61:$S$99=$Y174)*_xlfn._xlws.FILTER(N$53:N$171,$M$53:$M$171=$Z174))} -> #VALUE! | AB174: {=_xlfn._xlws.FILTER(O$53:O$171,$M$53:$M$171=$Z174)} -> #VALUE! | AC174: {=_xlfn._xlws.FILTER(P$53:P$171,$M$53:$M$171=$Z174)} -> #VALUE! | AD174: {=INT(_xlfn._xlws.FILTER(Q$53:Q$171,$M$53:$M$171=$Z174)*100)} -> #VALUE! | AE174: =AE54+1 -> 30002 | AF174: ="item_"&AE174&"_"&AG174 -> item_30002_7 | AG174: =AG54 -> 7
D175: item_30003_28 | E175: , | F175: item_10000001_ | G175: 489469 | I175: 3235 | J175: =I175-5 -> 3230 | X175: =X55+1 -> 2002 | Y175: =Y55+1 -> 2 | Z175: =Z55 -> 9 | AA175: {=INT(_xlfn._xlws.FILTER($V$61:$V$99,$S$61:$S$99=$Y175)*_xlfn._xlws.FILTER(N$53:N$171,$M$53:$M$171=$Z175))} -> #VALUE! | AB175: {=_xlfn._xlws.FILTER(O$53:O$171,$M$53:$M$171=$Z175)} -> #VALUE! | AC175: {=_xlfn._xlws.FILTER(P$53:P$171,$M$53:$M$171=$Z175)} -> #VALUE! | AD175: {=INT(_xlfn._xlws.FILTER(Q$53:Q$171,$M$53:$M$171=$Z175)*100)} -> #VALUE! | AE175: =AE55+1 -> 30002 | AF175: ="item_"&AE175&"_"&AG175 -> item_30002_7 | AG175: =AG55 -> 7
D176: item_30003_31 | E176: , | F176: item_10000001_ | G176: 502879 | I176: 3235 | J176: =I176-5 -> 3230 | X176: =X56+1 -> 2002 | Y176: =Y56+1 -> 2 | Z176: =Z56 -> 9 | AA176: {=INT(_xlfn._xlws.FILTER($V$61:$V$99,$S$61:$S$99=$Y176)*_xlfn._xlws.FILTER(N$53:N$171,$M$53:$M$171=$Z176))} -> #VALUE! | AB176: {=_xlfn._xlws.FILTER(O$53:O$171,$M$53:$M$171=$Z176)} -> #VALUE! | AC176: {=_xlfn._xlws.FILTER(P$53:P$171,$M$53:$M$171=$Z176)} -> #VALUE! | AD176: {=INT(_xlfn._xlws.FILTER(Q$53:Q$171,$M$53:$M$171=$Z176)*100)} -> #VALUE! | AE176: =AE56+1 -> 30002 | AF176: ="item_"&AE176&"_"&AG176 -> item_30002_7 | AG176: =AG56 -> 7
D177: item_30003_31 | E177: , | F177: item_10000001_ | G177: 516409 | I177: 3302 | J177: =I177-5 -> 3297 | X177: =X57+1 -> 2002 | Y177: =Y57+1 -> 2 | Z177: =Z57 -> 10 | AA177: {=INT(_xlfn._xlws.FILTER($V$61:$V$99,$S$61:$S$99=$Y177)*_xlfn._xlws.FILTER(N$53:N$171,$M$53:$M$171=$Z177))} -> #VALUE! | AB177: {=_xlfn._xlws.FILTER(O$53:O$171,$M$53:$M$171=$Z177)} -> #VALUE! | AC177: {=_xlfn._xlws.FILTER(P$53:P$171,$M$53:$M$171=$Z177)} -> #VALUE! | AD177: {=INT(_xlfn._xlws.FILTER(Q$53:Q$171,$M$53:$M$171=$Z177)*100)} -> #VALUE! | AE177: =AE57+1 -> 30002 | AF177: ="item_"&AE177&"_"&AG177 -> item_30002_7 | AG177: =AG57 -> 7
D178: item_30003_31 | E178: , | F178: item_10000001_ | G178: 530058 | I178: 3302 | J178: =I178-5 -> 3297 | X178: =X58+1 -> 2002 | Y178: =Y58+1 -> 2 | Z178: =Z58 -> 10 | AA178: {=INT(_xlfn._xlws.FILTER($V$61:$V$99,$S$61:$S$99=$Y178)*_xlfn._xlws.FILTER(N$53:N$171,$M$53:$M$171=$Z178))} -> #VALUE! | AB178: {=_xlfn._xlws.FILTER(O$53:O$171,$M$53:$M$171=$Z178)} -> #VALUE! | AC178: {=_xlfn._xlws.FILTER(P$53:P$171,$M$53:$M$171=$Z178)} -> #VALUE! | AD178: {=INT(_xlfn._xlws.FILTER(Q$53:Q$171,$M$53:$M$171=$Z178)*100)} -> #VALUE! | AE178: =AE58+1 -> 30002 | AF178: ="item_"&AE178&"_"&AG178 -> item_30002_7 | AG178: =AG58 -> 7
D179: item_30003_31 | E179: , | F179: item_10000001_ | G179: 543826 | I179: 3369 | J179: =I179-5 -> 3364 | X179: =X59+1 -> 2002 | Y179: =Y59+1 -> 2 | Z179: =Z59 -> 11 | AA179: {=INT(_xlfn._xlws.FILTER($V$61:$V$99,$S$61:$S$99=$Y179)*_xlfn._xlws.FILTER(N$53:N$171,$M$53:$M$171=$Z179))} -> #VALUE! | AB179: {=_xlfn._xlws.FILTER(O$53:O$171,$M$53:$M$171=$Z179)} -> #VALUE! | AC179: {=_xlfn._xlws.FILTER(P$53:P$171,$M$53:$M$171=$Z179)} -> #VALUE! | AD179: {=INT(_xlfn._xlws.FILTER(Q$53:Q$171,$M$53:$M$171=$Z179)*100)} -> #VALUE! | AE179: =AE59+1 -> 30002 | AF179: ="item_"&AE179&"_"&AG179 -> item_30002_9 | AG179: =AG59 -> 9
D180: item_30003_31 | E180: , | F180: item_10000001_ | G180: 557710 | I180: 3369 | J180: =I180-5 -> 3364 | X180: =X60+1 -> 2002 | Y180: =Y60+1 -> 2 | Z180: =Z60 -> 11 | AA180: {=INT(_xlfn._xlws.FILTER($V$61:$V$99,$S$61:$S$99=$Y180)*_xlfn._xlws.FILTER(N$53:N$171,$M$53:$M$171=$Z180))} -> #VALUE! | AB180: {=_xlfn._xlws.FILTER(O$53:O$171,$M$53:$M$171=$Z180)} -> #VALUE! | AC180: {=_xlfn._xlws.FILTER(P$53:P$171,$M$53:$M$171=$Z180)} -> #VALUE! | AD180: {=INT(_xlfn._xlws.FILTER(Q$53:Q$171,$M$53:$M$171=$Z180)*100)} -> #VALUE! | AE180: =AE60+1 -> 30002 | AF180: ="item_"&AE180&"_"&AG180 -> item_30002_9 | AG180: =AG60 -> 9
D181: item_30004_5 | E181: , | F181: item_10000001_ | G181: 1200 | I181: 3436 | J181: =I181-5 -> 3431 | X181: =X61+1 -> 2002 | Y181: =Y61+1 -> 2 | Z181: =Z61 -> 12 | AA181: {=INT(_xlfn._xlws.FILTER($V$61:$V$99,$S$61:$S$99=$Y181)*_xlfn._xlws.FILTER(N$53:N$171,$M$53:$M$171=$Z181))} -> #VALUE! | AB181: {=_xlfn._xlws.FILTER(O$53:O$171,$M$53:$M$171=$Z181)} -> #VALUE! | AC181: {=_xlfn._xlws.FILTER(P$53:P$171,$M$53:$M$171=$Z181)} -> #VALUE! | AD181: {=INT(_xlfn._xlws.FILTER(Q$53:Q$171,$M$53:$M$171=$Z181)*100)} -> #VALUE! | AE181: =AE61+1 -> 30002 | AF181: ="item_"&AE181&"_"&AG181 -> item_30002_9 | AG181: =AG61 -> 9
D182: item_30004_5 | E182: , | F182: item_10000001_ | G182: 3394 | I182: 3436 | J182: =I182-5 -> 3431 | X182: =X62+1 -> 2002 | Y182: =Y62+1 -> 2 | Z182: =Z62 -> 12 | AA182: {=INT(_xlfn._xlws.FILTER($V$61:$V$99,$S$61:$S$99=$Y182)*_xlfn._xlws.FILTER(N$53:N$171,$M$53:$M$171=$Z182))} -> #VALUE! | AB182: {=_xlfn._xlws.FILTER(O$53:O$171,$M$53:$M$171=$Z182)} -> #VALUE! | AC182: {=_xlfn._xlws.FILTER(P$53:P$171,$M$53:$M$171=$Z182)} -> #VALUE! | AD182: {=INT(_xlfn._xlws.FILTER(Q$53:Q$171,$M$53:$M$171=$Z182)*100)} -> #VALUE! | AE182: =AE62+1 -> 30002 | AF182: ="item_"&AE182&"_"&AG182 -> item_30002_9 | AG182: =AG62 -> 9
D183: item_30004_5 | E183: , | F183: item_10000001_ | G183: 6235 | I183: 3503 | J183: =I183-5 -> 3498 | X183: =X63+1 -> 2002 | Y183: =Y63+1 -> 2 | Z183: =Z63 -> 13 | AA183: {=INT(_xlfn._xlws.FILTER($V$61:$V$99,$S$61:$S$99=$Y183)*_xlfn._xlws.FILTER(N$53:N$171,$M$53:$M$171=$Z183))} -> #VALUE! | AB183: {=_xlfn._xlws.FILTER(O$53:O$171,$M$53:$M$171=$Z183)} -> #VALUE! | AC183: {=_xlfn._xlws.FILTER(P$53:P$171,$M$53:$M$171=$Z183)} -> #VALUE! | AD183: {=INT(_xlfn._xlws.FILTER(Q$53:Q$171,$M$53:$M$171=$Z183)*100)} -> #VALUE! | AE183: =AE63+1 -> 30002 | AF183: ="item_"&AE183&"_"&AG183 -> item_30002_9 | AG183: =AG63 -> 9
...
