Workbook

Sheet herolevel
A1: 主键 | B1: 对应hero id | C1: 等级开始（包括等于） | D1: 等级结束（包括等于） | E1: 道具消耗 | F1: 血量 | G1: 攻击 | H1: 防御 | I1: 攻速(提升百分比，0为原速度，1比原速度快1%)
A2: int | B2: int | C2: int | D2: int | E2: string[] | F2: double | G2: double | H2: double | I2: double
A3: id | B3: target_id | C3: level_start | D3: level_end | E3: consumes | F3: hp | G3: attack | H3: defense | I3: attack_speed_add
A4: 1 | B4: 1001 | C4: 1 | D4: 1 | E4: item_1002_20 | F4: 33 | G4: 0 | H4: 0 | I4: 0
A5: 2 | B5: 1001 | C5: 2 | D5: 2 | E5: item_1002_21 | F5: 36 | G5: 1 | H5: 0 | I5: 0
A6: 3 | B6: 1001 | C6: 3 | D6: 3 | E6: item_1002_22 | F6: 40 | G6: 2 | H6: 0 | I6: 0
A7: 4 | B7: 1001 | C7: 4 | D7: 4 | E7: item_1002_23 | F7: 44 | G7: 3 | H7: 0 | I7: 0
A8: 5 | B8: 1001 | C8: 5 | D8: 5 | E8: item_1002_24 | F8: 48 | G8: 4 | H8: 0 | I8: 0
A9: 6 | B9: 1001 | C9: 6 | D9: 6 | E9: item_1002_25 | F9: 52 | G9: 5 | H9: 0 | I9: 0
A10: 7 | B10: 1001 | C10: 7 | D10: 7 | E10: item_1002_26 | F10: 57 | G10: 6 | H10: 0 | I10: 0
A11: 8 | B11: 1001 | C11: 8 | D11: 8 | E11: item_1002_27 | F11: 62 | G11: 7 | H11: 0 | I11: 0
A12: 9 | B12: 1001 | C12: 9 | D12: 9 | E12: item_1002_28 | F12: 66 | G12: 8 | H12: 0 | I12: 0
A13: 10 | B13: 1001 | C13: 10 | D13: 10 | E13: item_1002_29 | F13: 71 | G13: 9 | H13: 0 | I13: 0
A14: 11 | B14: 1001 | C14: 11 | D14: 11 | E14: item_1002_30 | F14: 77 | G14: 10 | H14: 0 | I14: 0
A15: 12 | B15: 1001 | C15: 12 | D15: 12 | E15: item_1002_31 | F15: 82 | G15: 11 | H15: 0 | I15: 0
... A4653: 4650 | B4653: 1045 | C4653: 150 | D4653: 150 | E4653: item_1002_4119 | F4653: 547875 | G4653: 100 | H4653: 0 | I4653: 0
A4654: 4651 | B4654: 1024 | C4654: 1 | D4654: 1 | E4654: =E4653 -> item_1002_4119 | F4654: 500 | G4654: 100 | H4654: 0 | I4654: 0
A4655: 4652 | B4655: 1024 | C4655: 2 | D4655: 2 | E4655: =E4654 -> item_1002_4119 | F4655: 600 | G4655: 100 | H4655: 0 | I4655: 0
A4656: 4653 | B4656: 1024 | C4656: 3 | D4656: 3 | E4656: =E4655 -> item_1002_4119 | F4656: 800 | G4656: 100 | H4656: 0 | I4656: 0
A4657: 4654 | B4657: 1024 | C4657: 4 | D4657: 4 | E4657: =E4656 -> item_1002_4119 | F4657: 1818 | G4657: 100 | H4657: 0 | I4657: 0
A4658: 4655 | B4658: 1024 | C4658: 5 | D4658: 5 | E4658: =E4657 -> item_1002_4119 | F4658: 1989 | G4658: 100 | H4658: 0 | I4658: 0
A4659: 4656 | B4659: 1024 | C4659: 6 | D4659: 6 | E4659: =E4658 -> item_1002_4119 | F4659: 2163 | G4659: 100 | H4659: 0 | I4659: 0
A4660: 4657 | B4660: 1024 | C4660: 7 | D4660: 7 | E4660: =E4659 -> item_1002_4119 | F4660: 2349 | G4660: 100 | H4660: 0 | I4660: 0
A4661: 4658 | B4661: 1024 | C4661: 8 | D4661: 8 | E4661: =E4660 -> item_1002_4119 | F4661: 2538 | G4661: 100 | H4661: 0 | I4661: 0
A4662: 4659 | B4662: 1024 | C4662: 9 | D4662: 9 | E4662: =E4661 -> item_1002_4119 | F4662: 2736 | G4662: 100 | H4662: 0 | I4662: 0
A4663: 4660 | B4663: 1024 | C4663: 10 | D4663: 10 | E4663: =E4662 -> item_1002_4119 | F4663: 2937 | G4663: 100 | H4663: 0 | I4663: 0
A4664: 4661 | B4664: 1024 | C4664: 11 | D4664: 11 | E4664: =E4663 -> item_1002_4119 | F4664: 3150 | G4664: 100 | H4664: 0 | I4664: 0
A4665: 4662 | B4665: 1024 | C4665: 12 | D4665: 12 | E4665: =E4664 -> item_1002_4119 | F4665: 3366 | G4665: 100 | H4665: 0 | I4665: 0
A4666: 4663 | B4666: 1024 | C4666: 13 | D4666: 13 | E4666: =E4665 -> item_1002_4119 | F4666: 3591 | G4666: 100 | H4666: 0 | I4666: 0
A4667: 4664 | B4667: 1024 | C4667: 14 | D4667: 14 | E4667: =E4666 -> item_1002_4119 | F4667: 3819 | G4667: 100 | H4667: 0 | I4667: 0
A4668: 4665 | B4668: 1024 | C4668: 15 | D4668: 15 | E4668: =E4667 -> item_1002_4119 | F4668: 4059 | G4668: 100 | H4668: 0 | I4668: 0
... A4803: 4800 | B4803: 1024 | C4803: 150 | D4803: 150 | E4803: =E4802 -> item_1002_4119 | F4803: 27393 | G4803: 100 | H4803: 0 | I4803: 0

Sheet Sheet1
A1: 800 | B1: =A1*3 -> 2400
A2: 869 | B2: =A2*3 -> 2607
A3: 938 | B3: =A3*3 -> 2814 | I3: =herolevel!F604*3 -> 1350
A4: 1007 | B4: =A4*3 -> 3021 | I4: =herolevel!F605*3 -> 1497
A5: 1076 | B5: =A5*3 -> 3228 | I5: =herolevel!F606*3 -> 1656
A6: 1145 | B6: =A6*3 -> 3435 | I6: =herolevel!F607*3 -> 1818
A7: 1215 | B7: =A7*3 -> 3645 | I7: =herolevel!F608*3 -> 1989
A8: 1283 | B8: =A8*3 -> 3849 | I8: =herolevel!F609*3 -> 2163
A9: 1353 | B9: =A9*3 -> 4059 | I9: =herolevel!F610*3 -> 2349
A10: 1421 | B10: =A10*3 -> 4263 | I10: =herolevel!F611*3 -> 2538
A11: 1491 | B11: =A11*3 -> 4473 | I11: =herolevel!F612*3 -> 2736
A12: 1560 | B12: =A12*3 -> 4680 | I12: =herolevel!F613*3 -> 2937
A13: 1629 | B13: =A13*3 -> 4887 | I13: =herolevel!F614*3 -> 3150
A14: 1698 | B14: =A14*3 -> 5094 | I14: =herolevel!F615*3 -> 3366
... A100: 9333 | B100: =A100*3 -> 27999 | I100: =herolevel!F701*3 -> 18618
I101: =herolevel!F702*3 -> 18786
I102: =herolevel!F703*3 -> 18954
I103: =herolevel!F704*3 -> 19125
I104: =herolevel!F705*3 -> 19293
I105: =herolevel!F706*3 -> 19461
I106: =herolevel!F707*3 -> 19629
I107: =herolevel!F708*3 -> 19800
I108: =herolevel!F709*3 -> 19968
I109: =herolevel!F710*3 -> 20136
I110: =herolevel!F711*3 -> 20304
I111: =herolevel!F712*3 -> 20475
I112: =herolevel!F713*3 -> 20643
... I212: =herolevel!F813*3 -> 17901
